Workbook
Name ­: #N/A
Name \0: '[1]PNT-QUOT-#3'!#REF!
Name \0: '[1]PNT-QUOT-#3'!#REF!
Name \0051: #REF!
Name \0051: #REF!
Name \0061: #REF!
Name \0061: #REF!
Name \0061a: #REF!
Name \0061a: #REF!
Name \0062a: #REF!
Name \0062a: #REF!
Name \0062b: #REF!
Name \0062b: #REF!
Name \0062c: #REF!
Name \0062c: #REF!
Name \0063: #REF!
Name \0063: #REF!
Name \0063a: #REF!
Name \0063a: #REF!
Name \0064: #REF!
Name \0064: #REF!
Name \0081: #REF!
Name \0081: #REF!
Name \0082: #REF!
Name \0082: #REF!
Name \010: #REF!
Name \010: #REF!
Name \4001a: #REF!
Name \4001a: #REF!
Name \4001b: #REF!
Name \4001b: #REF!
Name \4002a: #REF!
Name \4002a: #REF!
Name \4002b: #REF!
Name \4002b: #REF!
Name \4003a: #REF!
Name \4003a: #REF!
Name \4003b: #REF!
Name \4003b: #REF!
Name \4004: #REF!
Name \4004: #REF!
Name \4005: #REF!
Name \4005: #REF!
Name \4006: #REF!
Name \4006: #REF!
Name \4007: #REF!
Name \4007: #REF!
Name \4013: #REF!
Name \4013: #REF!
Name \4041: #REF!
Name \4041: #REF!
Name \4042: #REF!
Name \4042: #REF!
Name \4043: #REF!
Name \4043: #REF!
Name \4044: #REF!
Name \4044: #REF!
Name \4051: #REF!
Name \4051: #REF!
Name \4052: #REF!

Sheet Biểu I.PB_2630 NSDP
A1: Tỉnh Lạng Sơn
A3: BIỂU I. KẾ HOẠCH ĐẦU TƯ TRUNG HẠN VỐN NGÂN SÁCH ĐỊA PHƯƠNG GIAI ĐOẠN 2026-2030
A4: (Kèm theo Tờ trình số: 305/ TTr-UBND ngày 10 /10/2026 của UBND tỉnh)
AZ5: dữ liệu biểu TH | BA5: dữ liệu biểu TH | BB5: dữ liệu biểu TH | CE5: Đơn vị: Triệu đồng
A6: TT | B6: Danh mục dự án | C6: Nhóm dự án | D6: Địa điểm xây dựng (sau sắp xếp) | E6: Địa điểm xây dựng (616/BC-UBND) | F6: Địa điểm xây dựng (rà soát sau sắp xếp) | G6: Năng lực thiết kế | H6: Thời gian khởi công, hoàn thành | I6: Quyết định đầu tư | L6: Lũy kế bố trí vốn đến hết KH năm 2025 | Q6: Kế hoạch đầu tư công giai đoạn 2021-2025 được duyệt | V6: Trong đó, kế hoạch đầu tư công giai đoạn 2021-2025 dự kiến sử dụng đến hết năm 2025 | AA6: Đề xuất Kế hoạch đầu tư công giai đoạn 2026-2030 của các cơ quan, đơn vị | AF6: Dự kiến Kế hoạch đầu tư công giai đoạn 2026-2030 (Nghị quyết số 46/NQ-HĐND) | AK6: Dự kiến Kế hoạch đầu tư công giai đoạn 2026-2030 (Báo cáo số 616/BC-UBND ngày 30/9/2025) | AP6: Dự kiến Kế hoạch đầu tư công giai đoạn 2026-2030 (901/BC-UBND) | AU6: Dự kiến Kế hoạch đầu tư công giai đoạn 2026-2030 (179/BC-UBND ngày 07/4/2026) | AZ6: Nhu cầu Kế hoạch đầu tư công giai đoạn 2026-2030 (Rà soát lần 6) | BB6: Kế hạch đầu tư công giai đoạn 2026-2030 | BC6: Kế hoạch đầu tư công giai đoạn 2026-2030 dự kiến tại Tờ trình số 225/TTr-UBND ngày 06/8/2026 | BD6: Kế hoạch đầu tư công giai đoạn 2026-2030 dự kiến tại Tờ trình số 225/TTr-UBND ngày 06/8/2026 | BE6: Kế hoạch đầu tư công giai đoạn 2026-2030 phân bổ kỳ này | BG6: Kế hoạch đầu tư công năm 2026 | BL6: Đề xuất của đơn vị KHĐTC 2027 | BM6: Dự kiến Kế hoạch đầu tư công năm 2027 | BQ6: Đơn vị đề xuất chủ trương đầu tư/Chủ đầu tư (NQ 46/NQ-HĐND) | BR6: Kế hoạch vốn HĐND tỉnh quyết định kéo dài thời gian bố trí vốn sang năm 2027 | BS6: Đơn vị đề xuất chủ trương đầu tư/Chủ đầu tư sau sắp xếp | BT6: Đánh giá hiệu quả đầu tư | BU6: Thuyết minh sơ bộ đánh giá sự phù hợp với quy hoạch tỉnh (Quyết định số 236/QĐ-TTg)/ các quy hoạch, kế hoạch có liên quan | BV6: Rà soát sự phù hợp quy hoạch, kế hoạch có liên quan (ghi rõ Quyết định phê duyệt quy hoạch của cấp có thẩm quyền) | BZ6: Hiệu quả kinh tế - xã hội | CA6: Phân loại danh mục dự án khởi công mới theo STT (8) điểm a khoản 1 Mục I Văn bản số 20014/BTC-NSNN | CB6: Ngành, lĩnh vực | CC6: Kiểu dự án | CD6: Tỷ lệ bố trí vốn giai đoạn 2026-2030 (%) | CE6: Ghi chú
I7: Số quyết định ngày, tháng, năm ban hành | J7: Tổng mức đầu tư (TMĐT)
J8: Tổng số (tất cả các nguồn vốn) | K8: Trong đó: ngân sách địa phương (NSĐP) | L8: Tổng số (tất cả các nguồn vốn) | M8: Trong đó: NSĐP | Q8: Tổng số (tất cả các nguồn vốn) | R8: Trong đó: NSĐP | V8: Tổng số (tất cả các nguồn vốn) | W8: Trong đó: NSĐP | AA8: Tổng số (tất cả các nguồn vốn) | AB8: Trong đó: NSĐP | AF8: Tổng số (tất cả các nguồn vốn) | AG8: Trong đó: NSĐP | AK8: Tổng số (tất cả các nguồn vốn) | AL8: Trong đó: NSĐP | AP8: Tổng số (tất cả các nguồn vốn) | AQ8: Trong đó: NSĐP | AU8: Tổng số (tất cả các nguồn vốn) | AV8: Trong đó: NSĐP | AZ8: Tổng số (tất cả các nguồn vốn) | BA8: Trong đó: NSĐP | BV8: Quy hoạch tỉnh | BW8: Quy hoạch, kế hoạch sử dụng đất | BX8: Quy hoạch xây dựng | BY8: Quy hoạch ngành, lĩnh vực khác | CI8: =ROUND(707198,-2) -> 707200
M9: Trong đó: NSĐP | N9: Thu hồi các khoản vốn ứng trước | O9: Thanh toán nợ XDCB | P9: Chuẩn bị đầu tư | R9: Tổng số | S9: Thu hồi các khoản vốn ứng trước | T9: Thanh toán nợ XDCB | U9: Chuẩn bị đầu tư | W9: Tổng số | X9: Thu hồi các khoản vốn ứng trước | Y9: Thanh toán nợ XDCB | Z9: Chuẩn bị đầu tư | AB9: Tổng số | AC9: Thu hồi các khoản vốn ứng trước | AD9: Thanh toán nợ XDCB | AE9: Chuẩn bị đầu tư | AG9: Tổng số | AH9: Thu hồi các khoản vốn ứng trước | AI9: Thanh toán nợ XDCB | AJ9: Chuẩn bị đầu tư | AQ9: Trong đó: NSĐP | AR9: Theo Báo cáo kế hoạch tài chính 5 năm | AS9: Đề xuất tăng thêm | AT9: Chuẩn bị đầu tư | AV9: Trong đó: NSĐP | AW9: Theo Báo cáo kế hoạch tài chính 5 năm | AX9: Đề xuất tăng thêm | AY9: Chuẩn bị đầu tư | BA9: Trong đó: NSĐP | BB9: ='[51]Biểu B.2_2630 KCM'!BB9:BB11 -> Phương án 1 (Theo kế hoạch tài chính 5 năm) | BC9: Tổng số (tất cả các nguồn vốn) | BE9: Tổng số (tất cả các nguồn vốn) | BF9: Trong đó: NSĐP | BH9: Trong đó: | BI9: Thu hồi các khoản vốn ứng trước | BJ9: Thanh toán nợ XDCB | BK9: Chuẩn bị đầu tư | BM9: Tổng số (tất cả các nguồn vốn) | BN9: NSĐP | BO9: Thu hồi các khoản vốn ứng trước | BP9: Thanh toán nợ XDCB
BH10: Chuẩn bị đầu tư
CJ11: =COUNTIF(CJ13:CJ513,"<>0") -> 423 | CK11: =COUNTIF(CK13:CK513,"<>0") -> 423 | CN11: Số dự án | CP11: Trong đó
A12: 1 | B12: 2 | C12: 3 | F12: 4 | G12: 5 | H12: 6 | I12: 7 | J12: 8 | K12: 9 | L12: 10 | M12: 11 | N12: 12 | O12: 13 | AA12: 14 | AB12: 15 | AC12: 16 | AD12: 17 | AK12: 7 | AL12: 8 | AM12: 16 | AN12: 17 | AZ12: 12 | BA12: 13 | BB12: 14 | BC12: 12 | BD12: 12 | BE12: 13 | BF12: 14 | BG12: 18 | BH12: 16a | BI12: 24 | BJ12: 25 | BL12: 19 | BM12: 20 | BN12: 21 | BO12: 21 | BP12: 21 | BQ12: 26 | BS12: 15 | BT12: 17 | BU12: 29 | BV12: 30 | BW12: 31 | BX12: 32 | BY12: 33 | BZ12: 30 | CB12: 18 | CC12: 19 | CD12: 34 | CE12: 16 | CJ12: =SUM(CJ13:CJ513) -> 68881.5 | CN12: PA 1 | CO12: PA 2 | CP12: Đủ ĐK | CQ12: Chưa đủ ĐK
B13: TỔNG SỐ | D13: 145 | E13: 68 | F13: =F14+F290+F507+F517+F547+F599 -> 0 | G13: =G14+G290+G507+G517+G547+G599 -> 6 | H13: =H14+H290+H507+H517+H547+H599 -> 0 | J13: =J14+J290+J507+J517+J547+J599 -> 1258836.5 | K13: =K14+K290+K507+K517+K547+K599 -> 1063572.5 | L13: =L14+L290+L507+L517+L547+L599 -> 0 | M13: =M14+M290+M507+M517+M547+M599 -> 0 | N13: =N14+N290+N507+N517+N547+N599 -> 0 | O13: =O14+O290+O507+O517+O547+O599 -> 0 | P13: =P14+P290+P507+P517+P547+P599 -> 125000 | Q13: =Q14+Q290+Q507+Q517+Q547+Q599 -> 125000 | ... BH13: =BH14+BH290+BH507+BH517+BH547+BH599 -> 160 | BL13: =BL14+BL290+BL507+BL517+BL547+BL599 -> 340000 | BM13: =BM14+BM290+BM507+BM517+BM547+BM599 -> 68633 | BN13: =BN14+BN290+BN507+BN517+BN547+BN599 -> 68633 | BO13: =BO14+BO290+BO507+BO517+BO547+BO599 -> 0 | BP13: =BP14+BP290+BP507+BP517+BP547+BP599 -> 0 | BR13: =BR14+BR290+BR507+BR517+BR547+BR599 -> 0 | CB13: X | CC13: X | CD13: =IFERROR(BA13/(K13-(AB13-BA13)-M13)*100,0) -> 82.95073 | CF13: =BB13-3929700 -> -3564635.7 | CG13: =#REF!/(N13-(AE13-#REF!))*100 -> #REF! | CJ13: =IF(BS13<>0,IF(AG13=0,BA13,0),0) -> 0 | CK13: =IF(BS13<>0,IF(AG13<>BA13,1,0),0) -> 0 | CM13: =AR13-BB13 -> 6429078.7 | CN13: =CN14+CN290+CN507+CN517+CN547+CN599 -> 3 | CO13: =CO14+CO290+CO507+CO517+CO547+CO599 -> 5 | CP13: =CP14+CP290+CP507+CP517+CP547+CP599 -> 5 | CQ13: =CQ14+CQ290+CQ507+CQ517+CQ547+CQ599 -> 5 | CR13: =BB13-'[51]Biểu B.5_2630 NSDP CT'!BA13-'[51]Biểu B.2_2630 KCM'!BC13 -> -9804195.1 | CS13: =BD13-'[51]Biểu B.5_2630 NSDP CT'!BA13-'[51]Biểu B.2_2630 KCM'!BF13 -> -11652866
A14: A | B14: VỐN ĐẦU TƯ TRONG CÂN ĐỐI THEO TIÊU CHÍ | D14: 110 | E14: 27 | F14: =F15+F74+F91+F95+F121+F173+F188+F193+F206+F209+F215+F241+F258+F268+F271+F282+F283+F284+F285+F286 -> 0 | G14: =G15+G287 -> 3 | J14: =J15+J287 -> 402546 | K14: =K15+K287 -> 402546 | L14: =L15+L287 -> 0 | M14: =M15+M287 -> 0 | N14: =N15+N287 -> 0 | O14: =O15+O287 -> 0 | P14: =P15+P287 -> 125000 | Q14: =Q15+Q287 -> 125000 | ... BF14: =BF15+BF287 -> 402546 | BG14: =BG121+BG74+BG15+BG95+BG173+BG193+BG206+BG215+BG241+BG91+BG209+BG271+BG258+BG268+BG282+BG283+BG284+BG285+BG286 -> 0 | BH14: =BH121+BH74+BH15+BH95+BH173+BH193+BH206+BH215+BH241+BH91+BH209+BH271+BH258+BH268+BH282+BH283+BH284+BH285+BH286 -> 80 | BL14: =BL121+BL74+BL15+BL95+BL173+BL193+BL206+BL215+BL241+BL91+BL209+BL271+BL258+BL268+BL282+BL283+BL284+BL285+BL286 -> 160000 | BM14: =BM121+BM74+BM15+BM95+BM173+BM193+BM206+BM215+BM241+BM91+BM209+BM271+BM258+BM268+BM282+BM283+BM284+BM285+BM286 -> 58633 | BN14: =BN121+BN74+BN15+BN95+BN173+BN193+BN206+BN215+BN241+BN91+BN209+BN271+BN258+BN268+BN282+BN283+BN284+BN285+BN286 -> 58633 | BO14: =BO121+BO74+BO15+BO95+BO173+BO193+BO206+BO215+BO241+BO91+BO209+BO271+BO258+BO268+BO282+BO283+BO284+BO285+BO286 -> 0 | BP14: =BP121+BP74+BP15+BP95+BP173+BP193+BP206+BP215+BP241+BP91+BP209+BP271+BP258+BP268+BP282+BP283+BP284+BP285+BP286 -> 0 | BR14: =BR121+BR74+BR15+BR95+BR173+BR193+BR206+BR215+BR241+BR91+BR209+BR271+BR258+BR268+BR282+BR283+BR284+BR285+BR286 -> 0 | CB14: X | CC14: X | CD14: =IFERROR(BA14/(K14-(AB14-BA14)-M14)*100,0) -> 62.614872 | CF14: =#REF!-#REF! -> #REF! | CG14: =#REF!/(N14-(AE14-#REF!))*100 -> #REF! | CH14: =#REF!-505470 -> #REF! | CI14: =BA14-3730000 -> -3327454 | CJ14: =IF(BS14<>0,IF(AG14=0,BA14,0),0) -> 0 | CK14: =IF(BS14<>0,IF(AG14<>BA14,1,0),0) -> 0 | CM14: =BB14-BD14 -> -106363.2 | CN14: =CN15+CN74+CN91+CN95+CN121+CN173+CN188+CN193+CN206+CN209+CN215+CN241+CN258+CN268+CN271+CN282+CN283+CN284+CN285+CN286 -> 2 | CO14: =CO15+CO74+CO91+CO95+CO121+CO173+CO188+CO193+CO206+CO209+CO215+CO241+CO258+CO268+CO271+CO282+CO283+CO284+CO285+CO286 -> 2 | CP14: =CP15+CP74+CP91+CP95+CP121+CP173+CP188+CP193+CP206+CP209+CP215+CP241+CP258+CP268+CP271+CP282+CP283+CP284+CP285+CP286 -> 2 | CQ14: =CQ15+CQ74+CQ91+CQ95+CQ121+CQ173+CQ188+CQ193+CQ206+CQ209+CQ215+CQ241+CQ258+CQ268+CQ271+CQ282+CQ283+CQ284+CQ285+CQ286 -> 2 | CR14: =BB14-'[51]Biểu B.5_2630 NSDP CT'!BA14-'[51]Biểu B.2_2630 KCM'!#REF! -> #REF!
A15: I | B15: Giao thông | D15: 36 | E15: 8 | F15: =F16+F19 -> 0 | G15: =G16+G19 -> 2 | J15: =J16+J19 -> 302546 | K15: =K16+K19 -> 302546 | L15: =L16+L19 -> 0 | M15: =M16+M19 -> 0 | N15: =N16+N19 -> 0 | O15: =O16+O19 -> 0 | P15: =P16+P19 -> 0 | Q15: =Q16+Q19 -> 0 | ... AE15: =AE16+AE19 -> 0 | AF15: 2921584 | AG15: 2921384 | AH15: 0 | AI15: 0 | AJ15: 0 | AK15: 976209 | AL15: 701409 | AM15: 343950 | AN15: 357459 | AO15: =AO16+AO19 -> 0 | AP15: 1681209 | AQ15: 1406409 | AR15: 1406409 | AS15: 0 | AU15: 1330867 | AV15: 1330867 | AW15: 1330867 | AX15: 0 | AY15: =AY16+AY19 -> 0 | AZ15: =AZ16+AZ19 -> 302546 | BA15: =BA16+BA19 -> 302546 | BB15: =BB16+BB19 -> 296182.8 | BC15: =BC16+BC19 -> 302546 | BD15: =BD16+BD19 -> 302546 | BE15: =BE16+BE19 -> 302546 | BF15: =BF16+BF19 -> 302546 | ... BH15: =BH16+BH19 -> 80 | BL15: =BL16+BL19 -> 160000 | BM15: =BM16+BM19 -> 58633 | BN15: =BN16+BN19 -> 58633 | BO15: =BO16+BO19 -> 0 | BP15: =BP16+BP19 -> 0 | BR15: =BR16+BR19 -> 0 | CB15: Giao thông | CD15: =IFERROR(BA15/(K15-(AB15-BA15)-M15)*100,0) -> 50 | CG15: =#REF!/(N15-(AE15-#REF!))*100 -> #REF! | CJ15: =IF(BS15<>0,IF(AG15=0,BA15,0),0) -> 0 | CK15: =IF(BS15<>0,IF(AG15<>BA15,1,0),0) -> 0 | CN15: =CN16+CN19 -> 2 | CO15: =CO16+CO19 -> 2 | CP15: =CP16+CP19 -> 2 | CQ15: =CQ16+CQ19 -> 2 | CR15: =BB15-'[51]Biểu B.5_2630 NSDP CT'!BA15-'[51]Biểu B.2_2630 KCM'!BC14 -> -555134
A16: (2) | B16: Dự án chuyển tiếp | D16: 0 | E16: 0 | F16: =A18 -> 0 | G16: =A18 -> 0 | J16: =SUM(J17:J18) -> 0 | K16: =SUM(K17:K18) -> 0 | L16: =SUM(L17:L18) -> 0 | M16: =SUM(M17:M18) -> 0 | N16: =SUM(N17:N18) -> 0 | O16: =SUM(O17:O18) -> 0 | P16: =SUM(P17:P18) -> 0 | Q16: =SUM(Q17:Q18) -> 0 | ... BN16: =SUM(BN17:BN18) -> 0 | BO16: =SUM(BO18:BO18) -> 0 | BP16: =SUM(BP18:BP18) -> 0 | BR16: =SUM(BR18:BR18) -> 0 | CB16: Giao thông | CC16: Hoàn thành, bàn giao đưa vào sử dụng trước 31/12/2025 | CD16: =IFERROR(BA16/(K16-(AB16-BA16)-M16)*100,0) -> 0 | CJ16: =IF(BS16<>0,IF(AG16=0,BA16,0),0) -> 0 | CK16: =IF(BS16<>0,IF(AG16<>BA16,1,0),0) -> 0 | CN16: =SUM(CN18:CN18) -> 0 | CO16: =SUM(CO18:CO18) -> 0 | CP16: =SUM(CP18:CP18) -> 0 | CQ16: =SUM(CQ18:CQ18) -> 0 | CR16: =BB16-'[51]Biểu B.5_2630 NSDP CT'!BA16-'[51]Biểu B.2_2630 KCM'!#REF! -> #REF!
A19: (3) | B19: Dự án khởi công mới giai đoạn 2026-2030 | D19: 36 | E19: 8 | F19: =A35 -> 0 | G19: =A23 -> 2 | J19: =J20 -> 302546 | K19: =K20 -> 302546 | L19: =L20 -> 0 | M19: =M20 -> 0 | N19: =N20 -> 0 | O19: =O20 -> 0 | P19: =P20 -> 0 | Q19: =Q20 -> 0 | ... AO19: =AO20 -> 0 | AP19: 1681209 | AQ19: 1406409 | AR19: 1406409 | AS19: 0 | AU19: 1330867 | AV19: 1330867 | AW19: 1330867 | AX19: 0 | AY19: =AY20 -> 0 | AZ19: =AZ20 -> 302546 | BA19: =BA20 -> 302546 | BB19: =BB20 -> 296182.8 | BC19: =BC20 -> 302546 | BD19: =BD20 -> 302546 | BE19: =BE20 -> 302546 | BF19: =BF20 -> 302546 | ... BH19: =BH20 -> 80 | BL19: =BL20 -> 160000 | BM19: =BM20 -> 58633 | BN19: =BN20 -> 58633 | BO19: =BO20 -> 0 | BP19: =BP20 -> 0 | BQ19: =BQ20 -> 0 | BR19: =BR20 -> 0 | CB19: Giao thông | CC19: Khởi công mới | CD19: =IFERROR(BA19/(K19-(AB19-BA19)-M19)*100,0) -> 50 | CG19: =#REF!/(N19-(AE19-#REF!))*100 -> #REF! | CJ19: =IF(BS19<>0,IF(AG19=0,BA19,0),0) -> 0 | CK19: =IF(BS19<>0,IF(AG19<>BA19,1,0),0) -> 0 | CN19: =CN20 -> 2 | CO19: =CO20 -> 2 | CP19: =CP20 -> 2 | CQ19: =CQ20 -> 2 | CR19: =BB19-'[51]Biểu B.5_2630 NSDP CT'!BA18-'[51]Biểu B.2_2630 KCM'!#REF! -> #REF!
B20: Nhóm công trình ưu tiên số 1 | D20: 10 | E20: 8 | F20: =F21+F29+F32 -> 0 | G20: 5 | J20: =J21+J29+J32 -> 302546 | K20: =K21+K29+K32 -> 302546 | L20: =L21+L29+L32 -> 0 | M20: =M21+M29+M32 -> 0 | N20: =N21+N29+N32 -> 0 | O20: =O21+O29+O32 -> 0 | P20: =P21+P29+P32 -> 0 | Q20: =Q21+Q29+Q32 -> 0 | ... AO20: =AO21+AO29+AO32 -> 0 | AP20: 1681209 | AQ20: 1406409 | AR20: 1406409 | AS20: 0 | AU20: 1330867 | AV20: 1330867 | AW20: 1330867 | AX20: 0 | AY20: =AY21+AY29+AY32 -> 0 | AZ20: =AZ21+AZ29+AZ32 -> 302546 | BA20: =BA21+BA29+BA32 -> 302546 | BB20: =BB21+BB29+BB32 -> 296182.8 | BC20: =BC21+BC29+BC32 -> 302546 | BD20: =BD21+BD29+BD32 -> 302546 | BE20: =BE21+BE29+BE32 -> 302546 | BF20: =BF21+BF29+BF32 -> 302546 | ... BH20: =BH21+BH29+BH32 -> 80 | BL20: =BL21+BL29+BL32 -> 160000 | BM20: =BM21+BM29+BM32 -> 58633 | BN20: =BN21+BN29+BN32 -> 58633 | BO20: =BO21+BO29+BO32 -> 0 | BP20: =BP21+BP29+BP32 -> 0 | BQ20: =BQ21+BQ29+BQ32 -> 0 | BR20: =BR21+BR29+BR32 -> 0 | CB20: Giao thông | CC20: Khởi công mới | CD20: =IFERROR(BA20/(K20-(AB20-BA20)-M20)*100,0) -> 50 | CJ20: =IF(BS20<>0,IF(AG20=0,BA20,0),0) -> 0 | CK20: =IF(BS20<>0,IF(AG20<>BA20,1,0),0) -> 0 | CN20: =CN21+CN29+CN32 -> 2 | CO20: =CO21+CO29+CO32 -> 2 | CP20: =CP21+CP29+CP32 -> 2 | CQ20: =CQ21+CQ29+CQ32 -> 2 | CR20: =BB20-'[51]Biểu B.5_2630 NSDP CT'!BA19-'[51]Biểu B.2_2630 KCM'!#REF! -> #REF!
A21: * | B21: Danh mục bổ sung, ưu tiên theo kết luận | F21: =A27 -> 0 | J21: =SUM(J22:J28) -> 302546 | K21: =SUM(K22:K28) -> 302546 | L21: =SUM(L22:L28) -> 0 | M21: =SUM(M22:M28) -> 0 | N21: =SUM(N22:N28) -> 0 | O21: =SUM(O22:O28) -> 0 | P21: =SUM(P22:P28) -> 0 | Q21: =SUM(Q22:Q28) -> 0 | ... AO21: =SUM(AO22:AO28) -> 0 | AP21: 825000 | AQ21: 825000 | AR21: 825000 | AS21: 0 | AU21: 894410 | AV21: 894410 | AW21: 894410 | AX21: 0 | AY21: =SUM(AY22:AY28) -> 0 | AZ21: =SUM(AZ22:AZ28) -> 302546 | BA21: =SUM(BA22:BA28) -> 302546 | BB21: =SUM(BB22:BB28) -> 296182.8 | BC21: =SUM(BC22:BC28) -> 302546 | BD21: =SUM(BD22:BD28) -> 302546 | BE21: =SUM(BE22:BE28) -> 302546 | BF21: =SUM(BF22:BF28) -> 302546 | ... BH21: =SUM(BH22:BH28) -> 80 | BL21: =SUM(BL22:BL28) -> 160000 | BM21: =SUM(BM22:BM28) -> 58633 | BN21: =SUM(BN22:BN28) -> 58633 | BO21: =SUM(BO22:BO28) -> 0 | BP21: =SUM(BP22:BP28) -> 0 | BR21: =SUM(BR22:BR28) -> 0 | CB21: Giao thông | CC21: Khởi công mới | CF21: Sử dụng nguồn vốn Danh mục dự án AFD | CN21: =SUM(CN22:CN28) -> 2 | CO21: =SUM(CO22:CO28) -> 2 | CP21: =SUM(CP22:CP28) -> 2 | CQ21: =SUM(CQ22:CQ28) -> 2 | CR21: =BB21-'[51]Biểu B.5_2630 NSDP CT'!BA20-'[51]Biểu B.2_2630 KCM'!BC15 -> -233393
A22: 1 | B22: Đầu tư xây dựng cầu Bến Bắc | C22: C | F22: phường Lương Văn Tri và phường Đông Kinh | G22: 258m, B=12m | H22: 2026-2028 | I22: 1450/QĐ-UBND ngày 11/8/2026 | J22: 154408 | K22: =J22 -> 154408 | AU22: 123270 | AV22: 123270 | AW22: 123270 | AZ22: =BA22 -> 154408 | BA22: =K22 -> 154408 | BB22: ='[51]Biểu B.2_2630 KCM'!BC17 -> 148044.8 | BC22: =BD22 -> 154408 | BD22: ='[51]Biểu B.2_2630 KCM'!BF17 -> 154408 | BE22: =BF22 -> 154408 | BF22: =BD22 -> 154408 | BH22: 50 | BL22: 100000 | BM22: =BN22 -> 40000 | BN22: 40000 | BS22: Ban Quản lý dự án xây dựng công trình giao thông | BT22: phát triển mạng lưới giao thông đô thị, tạo điểm nhấn kiến trúc, cảnh quan trong đô thị và động lực lan tỏa cho không gian đô thị trung tâm của các phường | CA22: Loại 2. Dự án trọng điểm, liên vùng, có tính chất đột phát về phát triển kinh tế xã hội; dự án phát triển khoa học công nghệ, đổi mới sáng tạo, chuyển đổi số | CB22: Giao thông | CC22: Khởi công mới | CN22: =IF(BB22<>0,1,0) -> 1 | CO22: =IF(BD22<>0,1,0) -> 1 | CP22: =IF(BE22<>0,1,0) -> 1 | CQ22: =IF(BF22<>0,1,0) -> 1 | CR22: =BB22-'[51]Biểu B.5_2630 NSDP CT'!BA22-'[51]Biểu B.2_2630 KCM'!BC17 -> 0
A23: 2 | B23: Dự án Đầu tư xây dựng cầu - đập dâng Xứ Lạng | C23: C | F23: phường Lương Văn Tri và phường Đông Kinh | G23: 130m, B=11m | H23: 2026-2028 | I23: 1456/QĐ-UBND ngày 12/8/2026 | J23: ='[51]Biểu B.2_2630 KCM'!J18 -> 148138 | K23: =J23 -> 148138 | AU23: 123270 | AV23: 123270 | AW23: 123270 | AZ23: =BA23 -> 148138 | BA23: =K23 -> 148138 | BB23: ='[51]Biểu B.2_2630 KCM'!BC18 -> 148138 | BC23: =BD23 -> 148138 | BD23: ='[51]Biểu B.2_2630 KCM'!BF18 -> 148138 | BE23: =BF23 -> 148138 | BF23: =BD23 -> 148138 | BH23: 30 | BL23: 60000 | BM23: =BN23 -> 18633 | BN23: =30000+1978+3191-16536 -> 18633 | BS23: Ban Quản lý dự án xây dựng công trình giao thông | BT23: phát triển mạng lưới giao thông đô thị, tạo điểm nhấn kiến trúc, cảnh quan trong đô thị và động lực lan tỏa cho không gian đô thị trung tâm của các phường | CA23: Loại 2. Dự án trọng điểm, liên vùng, có tính chất đột phát về phát triển kinh tế xã hội; dự án phát triển khoa học công nghệ, đổi mới sáng tạo, chuyển đổi số | CB23: Giao thông | CC23: Khởi công mới | CN23: =IF(BB23<>0,1,0) -> 1 | CO23: =IF(BD23<>0,1,0) -> 1 | CP23: =IF(BE23<>0,1,0) -> 1 | CQ23: =IF(BF23<>0,1,0) -> 1
A36: 4 | B36: Cải tạo, nâng cấp tuyến đường tỉnh ĐT.241 (Bản Tẳng - Mẫu Sơn - Công Sơn - Hải Yến), Đoạn Km0+00 - Km 15+00 | D36: Xã Mẫu Sơn | E36: Xã Mẫu Sơn | F36: Xã Mẫu Sơn | G36: L=15km đường giao thông cấp IV | H36: 2028-2030 | J36: 45000 | K36: =J36 -> 45000 | AA36: 45000 | AB36: =AA36 -> 45000 | AF36: 45000 | AG36: 45000 | AK36: 45000 | AL36: 45000 | AN36: 45000 | AP36: 0 | AS36: 0 | AU36: 0 | AX36: 0 | AZ36: =BA36 -> 45000 | BA36: 45000 | BQ36: UBND huyện Lộc Bình | BS36: UBND xã Mẫu Sơn | BU36: Trang 453 Quy hoạch tỉnh định hướng ngành giao thông (cấp VI) | BV36: Trang 453 Quy hoạch tỉnh định hướng ngành giao thông (cấp VI) | CB36: Giao thông | CC36: Khởi công mới | CD36: =IFERROR(BA36/(K36-(AB36-BA36)-M36)*100,0) -> 100 | CE36: Tên tại NQ46: Cải tạo, nâng cấp tuyến đường tỉnh ĐT.241 (Bản Tẳng - Mẫu Sơn - Công Sơn - Hải Yến), Đoạn Km0+00 - Km 15+00, huyện Lộc Bình | CG36: =#REF!/(N34-(AE34-#REF!))*100 -> #REF! | CJ36: =IF(BS34<>0,IF(AG34=0,BA34,0),0) -> 0 | CK36: =IF(BS34<>0,IF(AG34<>BA34,1,0),0) -> 0 | CN36: =IF(BB36<>0,1,0) -> 0 | CO36: =IF(BD36<>0,1,0) -> 0 | CR36: =BB36-'[51]Biểu B.5_2630 NSDP CT'!BA33-'[51]Biểu B.2_2630 KCM'!BC57 -> 0
A37: 5 | B37: Tuyến đường ĐH 02B kết nối các xã Đoàn Kết, tỉnh Lạng Sơn với xã Minh Khai, tỉnh Cao Bằng | C37: C | D37: Tràng Định | E37: xã Đoàn Kết | F37: xã Đoàn Kết | H37: 2027-2029 | I37: 228/BC-SKHĐT ngày 04/6/2024 | J37: 25000 | K37: 25000 | AA37: 25000 | AB37: 25000 | AF37: 25000 | AG37: 25000 | AK37: 25000 | AL37: 25000 | AN37: 25000 | AP37: 0 | AS37: 0 | AU37: 0 | AX37: 0 | AZ37: =BA37 -> 25000 | BA37: 25000 | BQ37: UBND huyện Tràng Định | BS37: UBND xã Đoàn Kết | BT37: Kết nối huyện Tràng Định.với huyện ThạchAn, tỉnh Cao Bằng tạo động lực phát triển kinh tế, văn hóa - xã hội, thực hiện chuỗi liên kết tiêu thụ sản phẩmvới hơn 10.000 ha (cây Quế) và mặt hàng nông sản khác | BU37: Định hướng chung phát triển ngành giao thông (cấp huyện, xã) thuyết minh báo cáo quy hoạch tỉnh | BV37: Định hướng chung phát triển ngành giao thông (cấp huyện, xã) | BX37: Phù hợp quy hoạch chung xây dựng xã, | BZ37: Hỗ trợ phát triển kinh tế và tiêu thụ sản phẩm | CB37: Giao thông | CC37: Khởi công mới | CD37: =IFERROR(BA37/(K37-(AB37-BA37)-M37)*100,0) -> 100 | CE37: Kiến nghị cử tri HĐND tỉnh, HĐND huyện. Tên cũ: Tuyến đường ĐH 02B kết nối các xã phía tây huyện Tràng Định với huyện Thạch An, tỉnh Cao Bằng | CN37: =IF(BB37<>0,1,0) -> 0 | CO37: =IF(BD37<>0,1,0) -> 0 | CR37: =BB37-'[51]Biểu B.5_2630 NSDP CT'!BA34-'[51]Biểu B.2_2630 KCM'!BC58 -> 0
A38: 6 | B38: Đầu tư xây mới Tuyến đường từ Hội Hoan – Tân Văn | C38: C | D38: Văn Lãng, Bình Gia | E38: xã Hội Hoan, Tân Văn | F38: xã Hội Hoan, Tân Văn | H38: 2026-2028 | I38: 1027/VP-KT ngày 07/3/2024 | J38: 30000 | K38: 30000 | AA38: 30000 | AB38: 30000 | AF38: 30000 | AG38: 30000 | AK38: 30000 | AL38: 30000 | AN38: 30000 | AP38: 0 | AS38: 0 | AU38: 0 | AX38: 0 | AZ38: =BA38 -> 30000 | BA38: 30000 | BQ38: Đề xuất CTĐT: Sở Giao thông vận tải, CĐT: Ban Quản lý xây dựng và bảo trì hạ tầng giao thông | BS38: Đề xuất CTĐT: Sở Xây dựng, CĐT: Ban Quản lý dự án đầu tư xây dựng tỉnh | BT38: phục vụ nhu cầu cho các cơ sở sản xuất kinh doanh, hàng tạp hóa, cơ sở nguyên vật liệu trên 1.000 ha, nhu cầu đi lại cho 1.095 hộ dân với 4.785 nhân khẩu, 07 trường học; 01 Trạm Y tế của xã Hồng Thái | BU38: Định hướng chung phát triển ngành giao thông (cấp huyện, xã) thuyết minh báo cáo quy hoạch tỉnh | BV38: Định hướng chung phát triển ngành giao thông (cấp huyện, xã) | BX38: Chưa có trong danh mục quy hoạch sử dụng đất đến năm 2030 | BZ38: Hỗ trợ phát triển kinh tế và sản xuất kinh doanh | CB38: Giao thông | CC38: Khởi công mới | CD38: =IFERROR(BA38/(K38-(AB38-BA38)-M38)*100,0) -> 100 | CE38: Kiến nghị cử tri HĐND tỉnh, HĐND huyện. Tên cũ: Đầu tư xây mới Tuyến đường từ Hội Hoan (huyện Văn Lãng) – Hồng Thái (huyện Bình Gia) | CN38: =IF(BB38<>0,1,0) -> 0 | CO38: =IF(BD38<>0,1,0) -> 0 | CR38: =BB38-'[51]Biểu B.5_2630 NSDP CT'!BA35-'[51]Biểu B.2_2630 KCM'!BC59 -> 0
CR39: =BB39-'[51]Biểu B.5_2630 NSDP CT'!BA39-'[51]Biểu B.2_2630 KCM'!#REF! -> #REF!
CR40: =BB40-'[51]Biểu B.5_2630 NSDP CT'!BA40-'[51]Biểu B.2_2630 KCM'!#REF! -> #REF!
B41: Nhóm công trình ưu tiên số 2 | D41: 26 | E41: 0 | F41: =A66 -> 0 | J41: =SUM(J42:J66) -> 0 | K41: =SUM(K42:K66) -> 0 | L41: =SUM(L42:L66) -> 0 | M41: =SUM(M42:M66) -> 0 | N41: =SUM(N42:N66) -> 0 | O41: =SUM(O42:O66) -> 0 | P41: =SUM(P42:P66) -> 0 | Q41: =SUM(Q42:Q66) -> 0 | ... AE41: =SUM(AE42:AE66) -> 0 | AF41: 2282190 | AG41: 2282190 | AH41: 0 | AI41: 0 | AJ41: 0 | AK41: 0 | AL41: 0 | AM41: 0 | AN41: 0 | AO41: =SUM(AO42:AO66) -> 0 | AP41: 0 | AQ41: 0 | AR41: 0 | AS41: 0 | AU41: 0 | AV41: 0 | AW41: 0 | AX41: 0 | AY41: =SUM(AY42:AY66) -> 0 | AZ41: =SUM(AZ42:AZ66) -> 0 | BA41: =SUM(BA42:BA66) -> 0 | BB41: =SUM(BB42:BB66) -> 0 | BC41: =SUM(BC42:BC66) -> 0 | BD41: =SUM(BD42:BD66) -> 0 | BE41: =SUM(BE42:BE66) -> 0 | BF41: =SUM(BF42:BF66) -> 0 | ... BH41: =SUM(BH42:BH66) -> 0 | BL41: =SUM(BL42:BL66) -> 0 | BM41: =SUM(BM42:BM66) -> 0 | BN41: =SUM(BN42:BN66) -> 0 | BO41: =SUM(BO42:BO66) -> 0 | BP41: =SUM(BP42:BP66) -> 0 | BR41: =SUM(BR42:BR66) -> 0 | CD41: =IFERROR(BA41/(K41-(AB41-BA41)-M41)*100,0) -> 0 | CN41: =SUM(CN42:CN66) -> 0 | CO41: =SUM(CO42:CO66) -> 0 | CP41: =SUM(CP42:CP66) -> 0 | CQ41: =SUM(CQ42:CQ66) -> 0 | CR41: =BB41-'[51]Biểu B.5_2630 NSDP CT'!BA41-'[51]Biểu B.2_2630 KCM'!#REF! -> #REF!
CR42: =BB42-'[51]Biểu B.5_2630 NSDP CT'!BA42-'[51]Biểu B.2_2630 KCM'!#REF! -> #REF!
CR43: =BB43-'[51]Biểu B.5_2630 NSDP CT'!BA43-'[51]Biểu B.2_2630 KCM'!#REF! -> #REF!
CR44: =BB44-'[51]Biểu B.5_2630 NSDP CT'!BA44-'[51]Biểu B.2_2630 KCM'!#REF! -> #REF!
CR45: =BB45-'[51]Biểu B.5_2630 NSDP CT'!BA45-'[51]Biểu B.2_2630 KCM'!#REF! -> #REF!
CR46: =BB46-'[51]Biểu B.5_2630 NSDP CT'!BA46-'[51]Biểu B.2_2630 KCM'!#REF! -> #REF!
CR47: =BB47-'[51]Biểu B.5_2630 NSDP CT'!BA47-'[51]Biểu B.2_2630 KCM'!#REF! -> #REF!
CR48: =BB48-'[51]Biểu B.5_2630 NSDP CT'!BA48-'[51]Biểu B.2_2630 KCM'!#REF! -> #REF!
CR49: =BB49-'[51]Biểu B.5_2630 NSDP CT'!BA49-'[51]Biểu B.2_2630 KCM'!#REF! -> #REF!
CR50: =BB50-'[51]Biểu B.5_2630 NSDP CT'!BA50-'[51]Biểu B.2_2630 KCM'!#REF! -> #REF!
CR51: =BB51-'[51]Biểu B.5_2630 NSDP CT'!BA51-'[51]Biểu B.2_2630 KCM'!#REF! -> #REF!
CR52: =BB52-'[51]Biểu B.5_2630 NSDP CT'!BA52-'[51]Biểu B.2_2630 KCM'!#REF! -> #REF!
CR53: =BB53-'[51]Biểu B.5_2630 NSDP CT'!BA53-'[51]Biểu B.2_2630 KCM'!#REF! -> #REF!
... CR61: =BB61-'[51]Biểu B.5_2630 NSDP CT'!BA61-'[51]Biểu B.2_2630 KCM'!#REF! -> #REF!
CJ62: =IF(BS67<>0,IF(AG67=0,BA67,0),0) -> 0 | CK62: =IF(BS67<>0,IF(AG67<>BA67,1,0),0) -> 0 | CR62: =BB62-'[51]Biểu B.5_2630 NSDP CT'!BA62-'[51]Biểu B.2_2630 KCM'!#REF! -> #REF!
CJ63: =IF(BS68<>0,IF(AG68=0,BA68,0),0) -> 0 | CK63: =IF(BS68<>0,IF(AG68<>BA68,1,0),0) -> 0 | CR63: =BB63-'[51]Biểu B.5_2630 NSDP CT'!BA63-'[51]Biểu B.2_2630 KCM'!#REF! -> #REF!
CJ64: =IF(BS69<>0,IF(AG69=0,BA69,0),0) -> 0 | CK64: =IF(BS69<>0,IF(AG69<>BA69,1,0),0) -> 0 | CR64: =BB64-'[51]Biểu B.5_2630 NSDP CT'!BA64-'[51]Biểu B.2_2630 KCM'!#REF! -> #REF!
CJ65: =IF(BS70<>0,IF(AG70=0,BA70,0),0) -> 0 | CK65: =IF(BS70<>0,IF(AG70<>BA70,1,0),0) -> 0 | CR65: =BB65-'[51]Biểu B.5_2630 NSDP CT'!BA65-'[51]Biểu B.2_2630 KCM'!#REF! -> #REF!
CJ66: =IF(BS71<>0,IF(AG71=0,BA71,0),0) -> 0 | CK66: =IF(BS71<>0,IF(AG71<>BA71,1,0),0) -> 0 | CR66: =BB66-'[51]Biểu B.5_2630 NSDP CT'!BA66-'[51]Biểu B.2_2630 KCM'!#REF! -> #REF!
CJ67: =IF(BS72<>0,IF(AG72=0,BA72,0),0) -> 0 | CK67: =IF(BS72<>0,IF(AG72<>BA72,1,0),0) -> 0 | CR67: =BB67-'[51]Biểu B.5_2630 NSDP CT'!BA67-'[51]Biểu B.2_2630 KCM'!#REF! -> #REF!
CJ68: =IF(BS73<>0,IF(AG73=0,BA73,0),0) -> 0 | CK68: =IF(BS73<>0,IF(AG73<>BA73,1,0),0) -> 0 | CR68: =BB68-'[51]Biểu B.5_2630 NSDP CT'!BA68-'[51]Biểu B.2_2630 KCM'!#REF! -> #REF!
CG69: =#REF!/(N74-(AE74-#REF!))*100 -> #REF! | CJ69: =IF(BS74<>0,IF(AG74=0,BA74,0),0) -> 0 | CK69: =IF(BS74<>0,IF(AG74<>BA74,1,0),0) -> 0 | CR69: =BB69-'[51]Biểu B.5_2630 NSDP CT'!BA69-'[51]Biểu B.2_2630 KCM'!#REF! -> #REF!
CG70: =#REF!/(N75-(AE75-#REF!))*100 -> #REF! | CJ70: =IF(BS75<>0,IF(AG75=0,BA75,0),0) -> 0 | CK70: =IF(BS75<>0,IF(AG75<>BA75,1,0),0) -> 0 | CR70: =BB70-'[51]Biểu B.5_2630 NSDP CT'!BA70-'[51]Biểu B.2_2630 KCM'!#REF! -> #REF!
CR71: =BB71-'[51]Biểu B.5_2630 NSDP CT'!BA71-'[51]Biểu B.2_2630 KCM'!#REF! -> #REF!
CG72: =#REF!/(N77-(AE77-#REF!))*100 -> #REF! | CJ72: =IF(BS77<>0,IF(AG77=0,BA77,0),0) -> 0 | CK72: =IF(BS77<>0,IF(AG77<>BA77,1,0),0) -> 0 | CR72: =BB72-'[51]Biểu B.5_2630 NSDP CT'!BA72-'[51]Biểu B.2_2630 KCM'!#REF! -> #REF!
CJ73: =IF(BS78<>0,IF(AG78=0,BA78,0),0) -> 0 | CK73: =IF(BS78<>0,IF(AG78<>BA78,1,0),0) -> 0 | CR73: =BB73-'[51]Biểu B.5_2630 NSDP CT'!BA73-'[51]Biểu B.2_2630 KCM'!#REF! -> #REF!
A74: II | B74: Nông nghiệp, lâm nghiệp, diêm nghiệp, thủy lợi và thủy sản | D74: 2 | E74: 0 | F74: =F75+F77 -> 0 | G74: =G75+G77 -> 0 | H74: =H75+H77 -> 0 | J74: =J75+J77 -> 0 | K74: =K75+K77 -> 0 | L74: =L75+L77 -> 0 | M74: =M75+M77 -> 0 | N74: =N75+N77 -> 0 | O74: =O75+O77 -> 0 | P74: =P75+P77 -> 0 | Q74: =Q75+Q77 -> 0 | ... AE74: =AE75+AE77 -> 0 | AF74: 127498 | AG74: 127498 | AH74: 0 | AI74: 0 | AJ74: 0 | AK74: 0 | AL74: 0 | AM74: 0 | AN74: 0 | AO74: =AO75+AO77 -> 0 | AP74: 0 | AQ74: 0 | AR74: 0 | AS74: 0 | AU74: 0 | AV74: 0 | AW74: 0 | AX74: 0 | AY74: =AY75+AY77 -> 0 | AZ74: =AZ75+AZ77 -> 0 | BA74: =BA75+BA77 -> 0 | BB74: =BB75+BB77 -> 0 | BC74: =BC75+BC77 -> 0 | BD74: =BD75+BD77 -> 0 | BE74: =BE75+BE77 -> 0 | BF74: =BF75+BF77 -> 0 | ... BH74: =BH75+BH77 -> 0 | BL74: =BL75+BL77 -> 0 | BM74: =BM75+BM77 -> 0 | BN74: =BN75+BN77 -> 0 | BO74: =BO75+BO77 -> 0 | BP74: =BP75+BP77 -> 0 | BR74: =BR75+BR77 -> 0 | CB74: Nông nghiệp, lâm nghiệp, diêm nghiệp, thủy lợi và thủy sản | CD74: =IFERROR(BA74/(K74-(AB74-BA74)-M74)*100,0) -> 0 | CN74: =CN75+CN77 -> 0 | CO74: =CO75+CO77 -> 0 | CP74: =CP75+CP77 -> 0 | CQ74: =CQ75+CQ77 -> 0 | CR74: =BB74-'[51]Biểu B.5_2630 NSDP CT'!BA74-'[51]Biểu B.2_2630 KCM'!#REF! -> #REF!
A75: (2) | B75: Dự án chuyển tiếp sang giai đoạn 2026-2030 | D75: 1 | E75: 0 | F75: =A76 -> 0 | J75: =J76 -> 0 | K75: =K76 -> 0 | L75: =L76 -> 0 | M75: =M76 -> 0 | N75: =N76 -> 0 | O75: =O76 -> 0 | P75: =P76 -> 0 | Q75: =Q76 -> 0 | ... AE75: =AE76 -> 0 | AF75: 14998 | AG75: 14998 | AH75: 0 | AI75: 0 | AJ75: 0 | AK75: 0 | AL75: 0 | AM75: 0 | AN75: 0 | AO75: =AO76 -> 0 | AP75: 0 | AQ75: 0 | AR75: 0 | AS75: 0 | AU75: 0 | AV75: 0 | AW75: 0 | AX75: 0 | AY75: =AY76 -> 0 | AZ75: =AZ76 -> 0 | BA75: =BA76 -> 0 | BB75: =BB76 -> 0 | BC75: =BC76 -> 0 | BD75: =BD76 -> 0 | BE75: =BE76 -> 0 | BF75: =BF76 -> 0 | ... BH75: =BH76 -> 0 | BL75: =BL76 -> 0 | BM75: =BM76 -> 0 | BN75: =BN76 -> 0 | BO75: =BO76 -> 0 | BP75: =BP76 -> 0 | BR75: =BR76 -> 0 | CB75: Nông nghiệp, lâm nghiệp, diêm nghiệp, thủy lợi và thủy sản | CC75: Chuyển tiếp | CD75: =IFERROR(BA75/(K75-(AB75-BA75)-M75)*100,0) -> 0 | CN75: =CN76 -> 0 | CO75: =CO76 -> 0 | CP75: =CP76 -> 0 | CQ75: =CQ76 -> 0 | CR75: =BB75-'[51]Biểu B.5_2630 NSDP CT'!BA75-'[51]Biểu B.2_2630 KCM'!#REF! -> #REF!
CJ76: =IF(BS80<>0,IF(AG80=0,BA80,0),0) -> 0 | CK76: =IF(BS80<>0,IF(AG80<>BA80,1,0),0) -> 0 | CR76: =BB76-'[51]Biểu B.5_2630 NSDP CT'!BA76-'[51]Biểu B.2_2630 KCM'!#REF! -> #REF!
A77: (3) | B77: Dự án khởi công mới giai đoạn 2026-2030 | D77: 1 | E77: 0 | F77: =F78 -> 0 | G77: =A90 -> 0 | H77: =H78 -> 0 | J77: =SUM(J78:J90)/2 -> 0 | K77: =SUM(K78:K90)/2 -> 0 | L77: =SUM(L78:L90)/2 -> 0 | M77: =SUM(M78:M90)/2 -> 0 | N77: =SUM(N78:N90)/2 -> 0 | O77: =SUM(O78:O90)/2 -> 0 | P77: =SUM(P78:P90)/2 -> 0 | Q77: =SUM(Q78:Q90)/2 -> 0 | ... AE77: =SUM(AE78:AE90)/2 -> 0 | AF77: 112500 | AG77: 112500 | AH77: 0 | AI77: 0 | AJ77: 0 | AK77: 0 | AL77: 0 | AM77: 0 | AN77: 0 | AO77: =SUM(AO78:AO90)/2 -> 0 | AP77: 0 | AQ77: 0 | AR77: 0 | AS77: 0 | AU77: 0 | AV77: 0 | AW77: 0 | AX77: 0 | AY77: =SUM(AY78:AY90)/2 -> 0 | AZ77: =SUM(AZ78:AZ90)/2 -> 0 | BA77: =SUM(BA78:BA90)/2 -> 0 | BB77: =SUM(BB78:BB90)/2 -> 0 | BC77: =SUM(BC78:BC90)/2 -> 0 | BD77: =SUM(BD78:BD90)/2 -> 0 | BE77: =SUM(BE78:BE90)/2 -> 0 | BF77: =SUM(BF78:BF90)/2 -> 0 | ... BH77: =SUM(BH78:BH90)/2 -> 0 | BL77: =SUM(BL78:BL90)/2 -> 0 | BM77: =SUM(BM78:BM90)/2 -> 0 | BN77: =SUM(BN78:BN90)/2 -> 0 | BO77: =SUM(BO78:BO90)/2 -> 0 | BP77: =SUM(BP78:BP90)/2 -> 0 | BR77: =SUM(BR78:BR90)/2 -> 0 | CB77: Nông nghiệp, lâm nghiệp, diêm nghiệp, thủy lợi và thủy sản | CC77: Khởi công mới | CD77: =IFERROR(BA77/(K77-(AB77-BA77)-M77)*100,0) -> 0 | CJ77: =IF(BS81<>0,IF(AG81=0,BA81,0),0) -> 0 | CK77: =IF(BS81<>0,IF(AG81<>BA81,1,0),0) -> 0 | CN77: =SUM(CN78:CN90)/2 -> 0 | CO77: =SUM(CO78:CO90)/2 -> 0 | CP77: =SUM(CP78:CP90)/2 -> 0 | CQ77: =SUM(CQ78:CQ90)/2 -> 0 | CR77: =BB77-'[51]Biểu B.5_2630 NSDP CT'!BA77-'[51]Biểu B.2_2630 KCM'!#REF! -> #REF!
B78: Nhóm công trình ưu tiên số 2 | D78: 2 | E78: 0 | F78: =A79 -> 0 | J78: =SUM(J79) -> 0 | K78: =SUM(K79) -> 0 | L78: =SUM(L79) -> 0 | M78: =SUM(M79) -> 0 | N78: =SUM(N79) -> 0 | O78: =SUM(O79) -> 0 | P78: =SUM(P79) -> 0 | Q78: =SUM(Q79) -> 0 | ... BH78: =SUM(BH79) -> 0 | BL78: =SUM(BL79) -> 0 | BM78: =SUM(BM79) -> 0 | BN78: =SUM(BN79) -> 0 | BO78: =SUM(BO79) -> 0 | BP78: =SUM(BP79) -> 0 | BR78: =SUM(BR79) -> 0 | CD78: =IFERROR(BA78/(K78-(AB78-BA78)-M78)*100,0) -> 0 | CJ78: =IF(BS82<>0,IF(AG82=0,BA82,0),0) -> 0 | CK78: =IF(BS82<>0,IF(AG82<>BA82,1,0),0) -> 0 | CN78: =SUM(CN79:CN90) -> 0 | CO78: =SUM(CO79:CO90) -> 0 | CP78: =SUM(CP79) -> 0 | CQ78: =SUM(CQ79) -> 0 | CR78: =BB78-'[51]Biểu B.5_2630 NSDP CT'!BA78-'[51]Biểu B.2_2630 KCM'!#REF! -> #REF!
CJ80: =IF(BS85<>0,IF(AG85=0,BA85,0),0) -> 0 | CK80: =IF(BS85<>0,IF(AG85<>BA85,1,0),0) -> 0 | CR80: =BB80-'[51]Biểu B.5_2630 NSDP CT'!BA81-'[51]Biểu B.2_2630 KCM'!#REF! -> #REF!
CJ81: =IF(BS86<>0,IF(AG86=0,BA86,0),0) -> 0 | CK81: =IF(BS86<>0,IF(AG86<>BA86,1,0),0) -> 0 | CR81: =BB81-'[51]Biểu B.5_2630 NSDP CT'!BA82-'[51]Biểu B.2_2630 KCM'!#REF! -> #REF!
CJ82: =IF(BS87<>0,IF(AG87=0,BA87,0),0) -> 0 | CK82: =IF(BS87<>0,IF(AG87<>BA87,1,0),0) -> 0 | CR82: =BB82-'[51]Biểu B.5_2630 NSDP CT'!BA83-'[51]Biểu B.2_2630 KCM'!#REF! -> #REF!
CJ83: =IF(BS88<>0,IF(AG88=0,BA88,0),0) -> 0 | CK83: =IF(BS88<>0,IF(AG88<>BA88,1,0),0) -> 0 | CR83: =BB83-'[51]Biểu B.5_2630 NSDP CT'!BA84-'[51]Biểu B.2_2630 KCM'!#REF! -> #REF!
CJ84: =IF(BS89<>0,IF(AG89=0,BA89,0),0) -> 0 | CK84: =IF(BS89<>0,IF(AG89<>BA89,1,0),0) -> 0 | CR84: =BB84-'[51]Biểu B.5_2630 NSDP CT'!BA85-'[51]Biểu B.2_2630 KCM'!#REF! -> #REF!
CJ85: =IF(BS90<>0,IF(AG90=0,BA90,0),0) -> 0 | CK85: =IF(BS90<>0,IF(AG90<>BA90,1,0),0) -> 0 | CR85: =BB85-'[51]Biểu B.5_2630 NSDP CT'!BA86-'[51]Biểu B.2_2630 KCM'!#REF! -> #REF!
CG86: =#REF!/(N91-(AE91-#REF!))*100 -> #REF! | CJ86: =IF(BS91<>0,IF(AG91=0,BA91,0),0) -> 0 | CK86: =IF(BS91<>0,IF(AG91<>BA91,1,0),0) -> 0 | CR86: =BB86-'[51]Biểu B.5_2630 NSDP CT'!BA87-'[51]Biểu B.2_2630 KCM'!#REF! -> #REF!
CG87: =#REF!/(N92-(AE92-#REF!))*100 -> #REF! | CJ87: =IF(BS92<>0,IF(AG92=0,BA92,0),0) -> 0 | CK87: =IF(BS92<>0,IF(AG92<>BA92,1,0),0) -> 0 | CR87: =BB87-'[51]Biểu B.5_2630 NSDP CT'!BA88-'[51]Biểu B.2_2630 KCM'!#REF! -> #REF!
CJ88: =IF(BS93<>0,IF(AG93=0,BA93,0),0) -> 0 | CK88: =IF(BS93<>0,IF(AG93<>BA93,1,0),0) -> 0 | CR88: =BB88-'[51]Biểu B.5_2630 NSDP CT'!BA89-'[51]Biểu B.2_2630 KCM'!#REF! -> #REF!
CR89: =BB89-'[51]Biểu B.5_2630 NSDP CT'!BA90-'[51]Biểu B.2_2630 KCM'!#REF! -> #REF!
CG90: =#REF!/(N95-(AE95-#REF!))*100 -> #REF! | CJ90: =IF(BS95<>0,IF(AG95=0,BA95,0),0) -> 0 | CK90: =IF(BS95<>0,IF(AG95<>BA95,1,0),0) -> 0 | CR90: =BB90-'[51]Biểu B.5_2630 NSDP CT'!BA91-'[51]Biểu B.2_2630 KCM'!#REF! -> #REF!
A91: X | B91: Công nghiệp | D91: 1 | E91: 0 | F91: =F92 -> 0 | H91: =H92 -> 0 | J91: =J92 -> 0 | K91: =K92 -> 0 | L91: =L92 -> 0 | M91: =M92 -> 0 | N91: =N92 -> 0 | O91: =O92 -> 0 | P91: =P92 -> 0 | Q91: =Q92 -> 0 | ... AE91: =AE92 -> 0 | AF91: 14000 | AG91: 14000 | AH91: 0 | AI91: 0 | AJ91: 0 | AK91: 0 | AL91: 0 | AM91: 0 | AN91: 0 | AO91: =AO92 -> 0 | AP91: 0 | AQ91: 0 | AR91: 0 | AS91: 0 | AU91: 0 | AV91: 0 | AW91: 0 | AX91: 0 | AY91: =AY92 -> 0 | AZ91: =AZ92 -> 0 | BA91: =BA92 -> 0 | BB91: =BB92 -> 0 | BC91: =BC92 -> 0 | BD91: =BD92 -> 0 | BE91: =BE92 -> 0 | BF91: =BF92 -> 0 | ... BH91: =BH92 -> 0 | BL91: =BL92 -> 0 | BM91: =BM92 -> 0 | BN91: =BN92 -> 0 | BO91: =BO92 -> 0 | BP91: =BP92 -> 0 | BR91: =BR92 -> 0 | CB91: Công nghiệp | CD91: =IFERROR(BA91/(K91-(AB91-BA91)-M91)*100,0) -> 0 | CG91: =#REF!/(N96-(AE96-#REF!))*100 -> #REF! | CJ91: =IF(BS96<>0,IF(AG96=0,BA96,0),0) -> 0 | CK91: =IF(BS96<>0,IF(AG96<>BA96,1,0),0) -> 0 | CN91: =CN92 -> 0 | CO91: =CO92 -> 0 | CP91: =CP92 -> 0 | CQ91: =CQ92 -> 0 | CR91: =BB91-'[51]Biểu B.5_2630 NSDP CT'!BA92-'[51]Biểu B.2_2630 KCM'!#REF! -> #REF!
A92: (3) | B92: Dự án khởi công mới giai đoạn 2026-2030 | D92: 1 | E92: 0 | F92: =F93 -> 0 | H92: =H93 -> 0 | J92: =SUM(J94:J94) -> 0 | K92: =SUM(K94:K94) -> 0 | L92: =SUM(L94:L94) -> 0 | M92: =SUM(M94:M94) -> 0 | N92: =SUM(N94:N94) -> 0 | O92: =SUM(O94:O94) -> 0 | P92: =SUM(P94:P94) -> 0 | Q92: =SUM(Q94:Q94) -> 0 | ... AE92: =SUM(AE94:AE94) -> 0 | AF92: 14000 | AG92: 14000 | AH92: 0 | AI92: 0 | AJ92: 0 | AK92: 0 | AL92: 0 | AM92: 0 | AN92: 0 | AO92: =SUM(AO94:AO94) -> 0 | AP92: 0 | AQ92: 0 | AR92: 0 | AS92: 0 | AU92: 0 | AV92: 0 | AW92: 0 | AX92: 0 | AY92: =SUM(AY94:AY94) -> 0 | AZ92: =SUM(AZ94:AZ94) -> 0 | BA92: =SUM(BA94:BA94) -> 0 | BB92: =SUM(BB94:BB94) -> 0 | BC92: =SUM(BC94:BC94) -> 0 | BD92: =SUM(BD94:BD94) -> 0 | BE92: =SUM(BE94:BE94) -> 0 | BF92: =SUM(BF94:BF94) -> 0 | ... BH92: =SUM(BH94:BH94) -> 0 | BL92: =SUM(BL94:BL94) -> 0 | BM92: =SUM(BM94:BM94) -> 0 | BN92: =SUM(BN94:BN94) -> 0 | BO92: =SUM(BO94:BO94) -> 0 | BP92: =SUM(BP94:BP94) -> 0 | BR92: =SUM(BR94:BR94) -> 0 | CB92: Công nghiệp | CC92: Khởi công mới | CD92: =IFERROR(BA92/(K92-(AB92-BA92)-M92)*100,0) -> 0 | CJ92: =IF(BS97<>0,IF(AG97=0,BA97,0),0) -> 0 | CK92: =IF(BS97<>0,IF(AG97<>BA97,1,0),0) -> 0 | CN92: =SUM(CN94:CN94) -> 0 | CO92: =SUM(CO94:CO94) -> 0 | CP92: =SUM(CP94:CP94) -> 0 | CQ92: =SUM(CQ94:CQ94) -> 0 | CR92: =BB92-'[51]Biểu B.5_2630 NSDP CT'!BA93-'[51]Biểu B.2_2630 KCM'!#REF! -> #REF!
B93: Nhóm công trình ưu tiên số 2 | D93: 1 | E93: 0 | F93: =A94 -> 0 | H93: =A94 -> 0 | J93: =SUM(J94) -> 0 | K93: =SUM(K94) -> 0 | L93: =SUM(L94) -> 0 | M93: =SUM(M94) -> 0 | N93: =SUM(N94) -> 0 | O93: =SUM(O94) -> 0 | P93: =SUM(P94) -> 0 | Q93: =SUM(Q94) -> 0 | ... AE93: =SUM(AE94) -> 0 | AF93: 14000 | AG93: 14000 | AH93: 0 | AI93: 0 | AK93: 0 | AL93: 0 | AM93: 0 | AN93: 0 | AO93: =SUM(AO94) -> 0 | AP93: 0 | AQ93: 0 | AR93: 0 | AS93: 0 | AU93: 0 | AV93: 0 | AW93: 0 | AX93: 0 | AY93: =SUM(AY94) -> 0 | AZ93: =SUM(AZ94) -> 0 | BA93: =SUM(BA94) -> 0 | BB93: =SUM(BB94) -> 0 | BC93: =SUM(BC94) -> 0 | BD93: =SUM(BD94) -> 0 | BE93: =SUM(BE94) -> 0 | BF93: =SUM(BF94) -> 0 | ... BH93: =SUM(BH94) -> 0 | BL93: =SUM(BL94) -> 0 | BM93: =SUM(BM94) -> 0 | BN93: =SUM(BN94) -> 0 | BO93: =SUM(BO94) -> 0 | BP93: =SUM(BP94) -> 0 | BR93: =SUM(BR94) -> 0 | CD93: =IFERROR(BA93/(K93-(AB93-BA93)-M93)*100,0) -> 0 | CJ93: =IF(BS493<>0,IF(AG493=0,BA493,0),0) -> 0 | CK93: =IF(BS493<>0,IF(AG493<>BA493,1,0),0) -> 0 | CN93: =SUM(CN94) -> 0 | CO93: =SUM(CO94) -> 0 | CP93: =SUM(CP94) -> 0 | CQ93: =SUM(CQ94) -> 0 | CR93: =BB93-'[51]Biểu B.5_2630 NSDP CT'!BA94-'[51]Biểu B.2_2630 KCM'!#REF! -> #REF!
CF94: 1820/SVHTTDL-VP | CJ94: =IF(BS525<>0,IF(AG525=0,BA525,0),0) -> 0 | CK94: =IF(BS525<>0,IF(AG525<>BA525,1,0),0) -> 0 | CR94: =BB94-'[51]Biểu B.5_2630 NSDP CT'!BA95-'[51]Biểu B.2_2630 KCM'!#REF! -> #REF!
A95: XIII | B95: Văn hóa | D95: 7 | E95: 2 | F95: =F96 -> 0 | G95: =G96 -> 0 | H95: =H96 -> 0 | J95: =J96 -> 0 | K95: =K96 -> 0 | L95: =L96 -> 0 | M95: =M96 -> 0 | N95: =N96 -> 0 | O95: =O96 -> 0 | P95: =P96 -> 0 | Q95: =Q96 -> 0 | ... AE95: =AE96 -> 0 | AF95: 848000 | AG95: 848000 | AH95: 0 | AI95: 0 | AJ95: 0 | AK95: 225000 | AL95: 225000 | AM95: 65000 | AN95: 160000 | AO95: =AO96 -> 0 | AP95: 65000 | AQ95: 65000 | AR95: 65000 | AS95: 0 | AU95: 65000 | AV95: 65000 | AW95: 65000 | AX95: 0 | AY95: =AY96 -> 0 | AZ95: =AZ96 -> 0 | BA95: =BA96 -> 0 | BB95: =BB96 -> 0 | BC95: =BC96 -> 0 | BD95: =BD96 -> 0 | BE95: =BE96 -> 0 | BF95: =BF96 -> 0 | ... BH95: =BH96 -> 0 | BL95: =BL96 -> 0 | BM95: =BM96 -> 0 | BN95: =BN96 -> 0 | BO95: =BO96 -> 0 | BP95: =BP96 -> 0 | BR95: =BR96 -> 0 | CB95: Văn hóa | CD95: =IFERROR(BA95/(K95-(AB95-BA95)-M95)*100,0) -> 0 | CN95: =CN96 -> 0 | CO95: =CO96 -> 0 | CP95: =CP96 -> 0 | CQ95: =CQ96 -> 0 | CR95: =BB95-'[51]Biểu B.5_2630 NSDP CT'!BA96-'[51]Biểu B.2_2630 KCM'!BC88 -> 0
A96: (3) | B96: Dự án khởi công mới giai đoạn 2026-2030 | D96: 7 | E96: 2 | CB96: Văn hóa | CC96: Khởi công mới | CD96: =IFERROR(BA96/(K96-(AB96-BA96)-M96)*100,0) -> 0 | CJ96: =IF(BS99<>0,IF(AG99=0,BA99,0),0) -> 0 | CK96: =IF(BS99<>0,IF(AG99<>BA99,1,0),0) -> 0 | CN96: =SUM(CN97:CN120)/2 -> 0 | CO96: =SUM(CO97:CO120)/2 -> 0 | CR96: =BB96-'[51]Biểu B.5_2630 NSDP CT'!BA97-'[51]Biểu B.2_2630 KCM'!#REF! -> #REF!
B97: Nhóm công trình ưu tiên số 1 | D97: 4 | E97: 2 | F97: =A525 -> 0 | G97: 1 | H97: 1 | J97: =SUM(J98:J98) -> 0 | K97: =SUM(K98:K98) -> 0 | L97: =SUM(L98:L98) -> 0 | M97: =SUM(M98:M98) -> 0 | N97: =SUM(N98:N98) -> 0 | O97: =SUM(O98:O98) -> 0 | P97: =SUM(P98:P98) -> 0 | Q97: =SUM(Q98:Q98) -> 0 | ... AE97: =SUM(AE98:AE98) -> 0 | AF97: 725000 | AG97: 725000 | AH97: 0 | AI97: 0 | AK97: 225000 | AL97: 225000 | AM97: 65000 | AN97: 160000 | AO97: =SUM(AO98:AO98) -> 0 | AP97: 65000 | AQ97: 65000 | AR97: 65000 | AS97: 0 | AU97: 65000 | AV97: 65000 | AW97: 65000 | AX97: 0 | AY97: =SUM(AY98:AY98) -> 0 | AZ97: =SUM(AZ98:AZ98) -> 0 | BA97: =SUM(BA98:BA98) -> 0 | BB97: =SUM(BB98:BB98) -> 0 | BC97: =SUM(BC98:BC98) -> 0 | BD97: =SUM(BD98:BD98) -> 0 | BE97: =SUM(BE98:BE98) -> 0 | BF97: =SUM(BF98:BF98) -> 0 | ... BH97: =SUM(BH98:BH98) -> 0 | BL97: =SUM(BL98:BL98) -> 0 | BM97: =SUM(BM98:BM98) -> 0 | BN97: =SUM(BN98:BN98) -> 0 | BO97: =SUM(BO98:BO98) -> 0 | BP97: =SUM(BP98:BP98) -> 0 | BR97: =SUM(BR98:BR98) -> 0 | CB97: Văn hóa | CC97: Khởi công mới | CD97: =IFERROR(BA97/(K97-(AB97-BA97)-M97)*100,0) -> 0 | CN97: =SUM(CN98:CN98) -> 0 | CO97: =SUM(CO98:CO98) -> 0 | CP97: =SUM(CP98:CP98) -> 0 | CQ97: =SUM(CQ98:CQ98) -> 0 | CR97: =BB97-'[51]Biểu B.5_2630 NSDP CT'!BA98-'[51]Biểu B.2_2630 KCM'!BC91 -> 0
CJ98: =IF(BS103<>0,IF(AG103=0,BA103,0),0) -> 0 | CK98: =IF(BS103<>0,IF(AG103<>BA103,1,0),0) -> 0 | CR98: =BB98-'[51]Biểu B.5_2630 NSDP CT'!BA100-'[51]Biểu B.2_2630 KCM'!BC99 -> 0
B99: Nhóm công trình ưu tiên số 2 | D99: 3 | E99: 0 | F99: =A102 -> 0 | J99: =SUM(J100:J102) -> 0 | K99: =SUM(K100:K102) -> 0 | L99: =SUM(L100:L102) -> 0 | M99: =SUM(M100:M102) -> 0 | N99: =SUM(N100:N102) -> 0 | O99: =SUM(O100:O102) -> 0 | P99: =SUM(P100:P102) -> 0 | Q99: =SUM(Q100:Q102) -> 0 | ... AE99: =SUM(AE100:AE102) -> 0 | AF99: 123000 | AG99: 123000 | AH99: 0 | AI99: 0 | AJ99: 0 | AK99: 0 | AL99: 0 | AM99: 0 | AN99: 0 | AO99: =SUM(AO100:AO102) -> 0 | AP99: 0 | AQ99: 0 | AR99: 0 | AS99: 0 | AU99: 0 | AV99: 0 | AW99: 0 | AX99: 0 | AY99: =SUM(AY100:AY102) -> 0 | AZ99: =SUM(AZ100:AZ102) -> 0 | BA99: =SUM(BA100:BA102) -> 0 | BB99: =SUM(BB100:BB102) -> 0 | BC99: =SUM(BC100:BC102) -> 0 | BD99: =SUM(BD100:BD102) -> 0 | BE99: =SUM(BE100:BE102) -> 0 | BF99: =SUM(BF100:BF102) -> 0 | ... BH99: =SUM(BH100:BH102) -> 0 | BL99: =SUM(BL100:BL102) -> 0 | BM99: =SUM(BM100:BM102) -> 0 | BN99: =SUM(BN100:BN102) -> 0 | BO99: =SUM(BO100:BO102) -> 0 | BP99: =SUM(BP100:BP102) -> 0 | BR99: =SUM(BR100:BR102) -> 0 | CD99: =IFERROR(BA99/(K99-(AB99-BA99)-M99)*100,0) -> 0 | CJ99: =IF(BS104<>0,IF(AG104=0,BA104,0),0) -> 0 | CK99: =IF(BS104<>0,IF(AG104<>BA104,1,0),0) -> 0 | CN99: =SUM(CN100:CN102) -> 0 | CO99: =SUM(CO100:CO102) -> 0 | CP99: =SUM(CP100:CP102) -> 0 | CQ99: =SUM(CQ100:CQ102) -> 0 | CR99: =BB99-'[51]Biểu B.5_2630 NSDP CT'!BA101-'[51]Biểu B.2_2630 KCM'!BC100 -> 0
CJ100: =IF(BS105<>0,IF(AG105=0,BA105,0),0) -> 0 | CK100: =IF(BS105<>0,IF(AG105<>BA105,1,0),0) -> 0 | CR100: =BB100-'[51]Biểu B.5_2630 NSDP CT'!BA102-'[51]Biểu B.2_2630 KCM'!BC101 -> 0
CJ101: =IF(BS106<>0,IF(AG106=0,BA106,0),0) -> 0 | CK101: =IF(BS106<>0,IF(AG106<>BA106,1,0),0) -> 0 | CR101: =BB101-'[51]Biểu B.5_2630 NSDP CT'!BA103-'[51]Biểu B.2_2630 KCM'!BC102 -> 0
CJ102: =IF(BS107<>0,IF(AG107=0,BA107,0),0) -> 0 | CK102: =IF(BS107<>0,IF(AG107<>BA107,1,0),0) -> 0 | CR102: =BB102-'[51]Biểu B.5_2630 NSDP CT'!BA104-'[51]Biểu B.2_2630 KCM'!BC103 -> 0
CJ103: =IF(BS108<>0,IF(AG108=0,BA108,0),0) -> 0 | CK103: =IF(BS108<>0,IF(AG108<>BA108,1,0),0) -> 0 | CR103: =BB103-'[51]Biểu B.5_2630 NSDP CT'!BA105-'[51]Biểu B.2_2630 KCM'!BC104 -> 0
CJ104: =IF(BS109<>0,IF(AG109=0,BA109,0),0) -> 0 | CK104: =IF(BS109<>0,IF(AG109<>BA109,1,0),0) -> 0 | CR104: =BB104-'[51]Biểu B.5_2630 NSDP CT'!BA106-'[51]Biểu B.2_2630 KCM'!BC105 -> 0
CJ105: =IF(BS110<>0,IF(AG110=0,BA110,0),0) -> 0 | CK105: =IF(BS110<>0,IF(AG110<>BA110,1,0),0) -> 0 | CR105: =BB105-'[51]Biểu B.5_2630 NSDP CT'!BA107-'[51]Biểu B.2_2630 KCM'!BC106 -> 0
CJ106: =IF(BS111<>0,IF(AG111=0,BA111,0),0) -> 0 | CK106: =IF(BS111<>0,IF(AG111<>BA111,1,0),0) -> 0 | CR106: =BB106-'[51]Biểu B.5_2630 NSDP CT'!BA108-'[51]Biểu B.2_2630 KCM'!BC107 -> 0
CJ107: =IF(BS112<>0,IF(AG112=0,BA112,0),0) -> 0 | CK107: =IF(BS112<>0,IF(AG112<>BA112,1,0),0) -> 0 | CR107: =BB107-'[51]Biểu B.5_2630 NSDP CT'!BA109-'[51]Biểu B.2_2630 KCM'!BC108 -> 0
CJ108: =IF(BS113<>0,IF(AG113=0,BA113,0),0) -> 0 | CK108: =IF(BS113<>0,IF(AG113<>BA113,1,0),0) -> 0 | CR108: =BB108-'[51]Biểu B.5_2630 NSDP CT'!BA110-'[51]Biểu B.2_2630 KCM'!BC109 -> 0
CJ109: =IF(BS114<>0,IF(AG114=0,BA114,0),0) -> 0 | CK109: =IF(BS114<>0,IF(AG114<>BA114,1,0),0) -> 0 | CR109: =BB109-'[51]Biểu B.5_2630 NSDP CT'!BA111-'[51]Biểu B.2_2630 KCM'!BC110 -> 0
CJ110: =IF(BS115<>0,IF(AG115=0,BA115,0),0) -> 0 | CK110: =IF(BS115<>0,IF(AG115<>BA115,1,0),0) -> 0 | CR110: =BB110-'[51]Biểu B.5_2630 NSDP CT'!BA112-'[51]Biểu B.2_2630 KCM'!BC111 -> 0
CJ111: =IF(BS116<>0,IF(AG116=0,BA116,0),0) -> 0 | CK111: =IF(BS116<>0,IF(AG116<>BA116,1,0),0) -> 0 | CR111: =BB111-'[51]Biểu B.5_2630 NSDP CT'!BA113-'[51]Biểu B.2_2630 KCM'!BC112 -> 0
... CJ115: =IF(BS120<>0,IF(AG120=0,BA120,0),0) -> 0 | CK115: =IF(BS120<>0,IF(AG120<>BA120,1,0),0) -> 0 | CR115: =BB115-'[51]Biểu B.5_2630 NSDP CT'!BA117-'[51]Biểu B.2_2630 KCM'!BC116 -> 0
CF116: =AB15+AB299+'[51]Biểu B.3_2630 NSTW'!AB14 -> 8228275 | CG116: =#REF!/(N121-(AE121-#REF!))*100 -> #REF! | CJ116: =IF(BS121<>0,IF(AG121=0,BA121,0),0) -> 0 | CK116: =IF(BS121<>0,IF(AG121<>BA121,1,0),0) -> 0 | CR116: =BB116-'[51]Biểu B.5_2630 NSDP CT'!BA118-'[51]Biểu B.2_2630 KCM'!BC117 -> 0
CR117: =BB117-'[51]Biểu B.5_2630 NSDP CT'!BA119-'[51]Biểu B.2_2630 KCM'!BC118 -> 0
CR118: =BB118-'[51]Biểu B.5_2630 NSDP CT'!BA120-'[51]Biểu B.2_2630 KCM'!BC119 -> 0
CR119: =BB119-'[51]Biểu B.5_2630 NSDP CT'!BA121-'[51]Biểu B.2_2630 KCM'!BC120 -> 0
CR120: =BB120-'[51]Biểu B.5_2630 NSDP CT'!BA122-'[51]Biểu B.2_2630 KCM'!BC121 -> 0
A287: II | B287: Giao thông | D287: 36 | E287: 8 | F287: =F288+F291 -> 0 | G287: =G288+G291 -> 1 | J287: =J288+J291 -> 100000 | K287: =K288+K291 -> 100000 | L287: =L288+L291 -> 0 | M287: =M288+M291 -> 0 | N287: =N288+N291 -> 0 | O287: =O288+O291 -> 0 | P287: =P288+P291 -> 125000 | Q287: =Q288+Q291 -> 125000 | ... AE287: =AE288+AE291 -> 0 | AF287: 2921584 | AG287: 2921384 | AH287: 0 | AI287: 0 | AJ287: 0 | AK287: 976209 | AL287: 701409 | AM287: 343950 | AN287: 357459 | AO287: =AO288+AO291 -> 0 | AP287: 1681209 | AQ287: 1406409 | AR287: 1406409 | AS287: 0 | AU287: 1330867 | AV287: 1330867 | AW287: 1330867 | AX287: 0 | AY287: =AY288+AY291 -> 0 | AZ287: =AZ288+AZ291 -> 100000 | BA287: =BA288+BA291 -> 100000 | BB287: =BB288+BB291 -> 0 | BC287: =BC288+BC291 -> 100000 | BD287: =BD288+BD291 -> 100000 | BE287: =BE288+BE291 -> 100000 | BF287: =BF288+BF291 -> 100000 | ... BH287: =BH288+BH291 -> 0 | BL287: =BL288+BL291 -> 0 | BM287: =BM288+BM291 -> 20000 | BN287: =BN288+BN291 -> 20000 | BO287: =BO288+BO291 -> 0 | BP287: =BP288+BP291 -> 0 | BR287: =BR288+BR291 -> 0 | CB287: Giao thông | CD287: =IFERROR(BA287/(K287-(AB287-BA287)-M287)*100,0) -> 264.55026
A288: (3) | B288: Dự án khởi công mới giai đoạn 2026-2030 | D288: 36 | E288: 8 | F288: =A304 -> 0 | G288: =A289 -> 1 | J288: =J289 -> 100000 | K288: =K289 -> 100000 | L288: =L289 -> 0 | M288: =M289 -> 0 | N288: =N289 -> 0 | O288: =O289 -> 0 | P288: =P289 -> 125000 | Q288: =Q289 -> 125000 | ... AO288: =AO289 -> 0 | AP288: 1681209 | AQ288: 1406409 | AR288: 1406409 | AS288: 0 | AU288: 1330867 | AV288: 1330867 | AW288: 1330867 | AX288: 0 | AY288: =AY289 -> 0 | AZ288: =AZ289 -> 100000 | BA288: =BA289 -> 100000 | BB288: =BB289 -> 0 | BC288: =BC289 -> 100000 | BD288: =BD289 -> 100000 | BE288: =BE289 -> 100000 | BF288: =BF289 -> 100000 | ... BH288: =BH289 -> 0 | BL288: =BL289 -> 0 | BM288: =BM289 -> 20000 | BN288: =BN289 -> 20000 | BO288: =BO289 -> 0 | BP288: =BP289 -> 0 | BQ288: =BQ289 -> Bộ CHQS tỉnh Lạng Sơn | BR288: =BR289 -> 0 | CB288: Giao thông | CC288: Khởi công mới | CD288: =IFERROR(BA288/(K288-(AB288-BA288)-M288)*100,0) -> 264.55026
A289: 1 | B289: Xây dựng công trình phòng thủ trong khu căn cứ chiến đấu 1 tỉnh Lạng Sơn | D289: Văn Quan | E289: Văn Quan | F289: Văn Quan | G289: Xây dựng 4 khu sở chỉ huy các cơ quan và các hạng mục phụ trợ | H289: 2027-2029 | I289: 131/QĐ-UBND ngày 22/9/2026 | J289: =K289 -> 100000 | K289: 100000 | P289: 125000 | Q289: 125000 | R289: 125000 | U289: 125000 | AA289: =AB289 -> 162200 | AB289: 162200 | AF289: 162200 | AG289: 162200 | AK289: 100000 | AL289: 100000 | AN289: 100000 | AP289: 100000 | AQ289: 100000 | AR289: 100000 | AS289: 0 | AU289: 100000 | AV289: 100000 | AW289: 100000 | AX289: 0 | AZ289: 100000 | BA289: =AZ289 -> 100000 | BB289: ='[52]Biểu B.2_2630 KCM'!BC246-BB629 -> 0 | BC289: =BD289 -> 100000 | BD289: 100000 | BE289: =BF289 -> 100000 | BF289: 100000 | BM289: =BN289 -> 20000 | BN289: 20000 | BQ289: Bộ CHQS tỉnh Lạng Sơn | BS289: Bộ CHQS tỉnh Lạng Sơn | BT289: Phục vụ xây dựng hoàn chỉnh khu vực phòng thủ của tỉnh là hết sức cần thiết. | BU289: Theo đề án được duyệt | BW289: Chưa thuyết minh cụ thể, thuộc đất khu vực phòng thủ tỉnh đã xác định | BX289: Chưa thuyết minh cụ thể, thuộc đất khu vực phòng thủ tỉnh đã xác định | BY289: Quy hoạch khu vực phòng thủ tỉnh | BZ289: Nâng cao năng lực phòng thủ tỉnh, hoàn thiện trang thiết bị, CSVC phục vụ chiến đấu khi có chiến tranh | CA289: Loại 3. Dự án quốc phòng, an ninh, tư pháp, giáo dục, đào tạo nhân lực chất lượng cao, bảo vê, chăm sóc sức khỏe nhân dân | CB289: Quốc phòng | CC289: Khởi công mới | CD289: =IFERROR(BA289/(K289-(AB289-BA289)-M289)*100,0) -> 264.55026
A290: B | B290: VỐN ĐẦU TƯ TỪ NGUỒN THU SỬ DỤNG ĐẤT | D290: 32 | E290: 37 | F290: =F349+F291+F393+F357++F367+F430+F376+F327+F343+F401+F404+F455+F480+F503+F505+F506 -> 0 | G290: =G349+G291+G393+G357+G430+G376+G327+G343+G401+G404+G455+G480+G503+G505+G506 -> 2 | J290: =J349+J291+J393+J357++J367+J430+J376+J327+J343+J401+J404+J455+J480+J503+J504+J505+J506 -> 264145.5 | K290: =K349+K291+K393+K357++K367+K430+K376+K327+K343+K401+K404+K455+K480+K503+K504+K505+K506 -> 164157.5 | L290: =L349+L291+L393+L357++L367+L430+L376+L327+L343+L401+L404+L455+L480+L503+L504+L505+L506 -> 0 | M290: =M349+M291+M393+M357++M367+M430+M376+M327+M343+M401+M404+M455+M480+M503+M504+M505+M506 -> 0 | N290: =N349+N291+N393+N357++N367+N430+N376+N327+N343+N401+N404+N455+N480+N503+N504+N505+N506 -> 0 | O290: =O349+O291+O393+O357++O367+O430+O376+O327+O343+O401+O404+O455+O480+O503+O504+O505+O506 -> 0 | P290: =P349+P291+P393+P357++P367+P430+P376+P327+P343+P401+P404+P455+P480+P503+P504+P505+P506 -> 0 | Q290: =Q349+Q291+Q393+Q357++Q367+Q430+Q376+Q327+Q343+Q401+Q404+Q455+Q480+Q503+Q504+Q505+Q506 -> 0 | ... BP290: =BP349+BP291+BP393+BP357++BP367+BP430+BP376+BP327+BP343+BP401+BP404+BP455+BP480+BP503+BP504+BP505+BP506 -> 0 | BR290: =BR349+BR291+BR393+BR357++BR367+BR430+BR376+BR327+BR343+BR401+BR404+BR455+BR480+BR503+BR504+BR505+BR506 -> 0 | CB290: X | CC290: X | CD290: =IFERROR(BA290/(K290-(AB290-BA290)-M290)*100,0) -> -218.85551 | CE290: =BE290-BF290 -> 99988 | CJ290: =IF(BS300<>0,IF(AG300=0,BA300,0),0) -> 0 | CK290: =IF(BS300<>0,IF(AG300<>BA300,1,0),0) -> 0 | CM290: =AQ290-BA290 -> 1874588.5 | CN290: =CN349+CN291+CN393+CN357++CN367+CN430+CN376+CN327+CN343+CN401+CN404+CN455+CN480+CN503+CN505+CN506 -> 1 | CO290: =CO349+CO291+CO393+CO357++CO367+CO430+CO376+CO327+CO343+CO401+CO404+CO455+CO480+CO503+CO505+CO506 -> 1 | CP290: =CP349+CP291+CP393+CP357++CP367+CP430+CP376+CP327+CP343+CP401+CP404+CP455+CP480+CP503+CP504+CP505+CP506 -> 1 | CQ290: =CQ349+CQ291+CQ393+CQ357++CQ367+CQ430+CQ376+CQ327+CQ343+CQ401+CQ404+CQ455+CQ480+CQ503+CQ504+CQ505+CQ506 -> 1 | CR290: =BB290-'[51]Biểu B.5_2630 NSDP CT'!BA291-'[51]Biểu B.2_2630 KCM'!#REF! -> #REF!
A291: I | B291: Giao thông | D291: 6 | E291: 5 | F291: =F292+F299 -> 0 | G291: =G292+G299 -> 0 | J291: =J292+J299 -> 0 | K291: =K292+K299 -> 0 | L291: =L292+L299 -> 0 | M291: =M292+M299 -> 0 | N291: =N292+N299 -> 0 | O291: =O292+O299 -> 0 | P291: =P292+P299 -> 0 | Q291: =Q292+Q299 -> 0 | ... AE291: =AE292+AE299 -> 0 | AF291: 560830 | AG291: 560030 | AH291: 0 | AI291: 0 | AJ291: 0 | AK291: 436167 | AL291: 436117 | AM291: 196167 | AN291: 239950 | AO291: =AO292+AO299 -> 0 | AP291: 196167 | AQ291: 196167 | AR291: 196167 | AS291: 0 | AU291: 326776 | AV291: 326776 | AW291: 326776 | AX291: 0 | AY291: =AY292+AY299 -> 0 | AZ291: =AZ292+AZ299 -> 0 | BA291: =BA292+BA299 -> 0 | BB291: =BB292+BB299 -> 0 | BC291: =BC292+BC299 -> 0 | BD291: =BD292+BD299 -> 0 | BE291: =BE292+BE299 -> 0 | BF291: =BF292+BF299 -> 0 | ... BH291: =BH292+BH299 -> 0 | BL291: =BL292+BL299 -> 0 | BM291: =BM292+BM299 -> 0 | BN291: =BN292+BN299 -> 0 | BO291: =BO292+BO299 -> 0 | BP291: =BP292+BP299 -> 0 | BR291: =BR292+BR299 -> 0 | CB291: Giao thông | CD291: =IFERROR(BA291/(K291-(AB291-BA291)-M291)*100,0) -> 0 | CG291: =#REF!/(N303-(AE303-#REF!))*100 -> #REF! | CJ291: =IF(BS303<>0,IF(AG303=0,BA303,0),0) -> 0 | CK291: =IF(BS303<>0,IF(AG303<>BA303,1,0),0) -> 0 | CN291: =CN292+CN299 -> 0 | CO291: =CO292+CO299 -> 0 | CP291: =CP292+CP299 -> 0 | CQ291: =CQ292+CQ299 -> 0 | CR291: =BB291-'[51]Biểu B.5_2630 NSDP CT'!BA292-'[51]Biểu B.2_2630 KCM'!#REF! -> #REF!
A292: (2) | B292: Dự án chuyển tiếp sang giai đoạn 2026-2030 | D292: 3 | E292: 3 | F292: =A298 -> 0 | G292: =A298 -> 0 | J292: =SUM(J293:J298) -> 0 | K292: =SUM(K293:K298) -> 0 | L292: =SUM(L293:L298) -> 0 | M292: =SUM(M293:M298) -> 0 | N292: =SUM(N293:N298) -> 0 | O292: =SUM(O293:O298) -> 0 | P292: =SUM(P293:P298) -> 0 | Q292: =SUM(Q293:Q298) -> 0 | ... AE292: =SUM(AE293:AE298) -> 0 | AF292: 182530 | AG292: 182530 | AH292: 0 | AI292: 0 | AJ292: 0 | AK292: 196167 | AL292: 196167 | AM292: 196167 | AN292: 0 | AO292: =SUM(AO293:AO298) -> 0 | AP292: 196167 | AQ292: 196167 | AR292: 196167 | AS292: 0 | AU292: 196167 | AV292: 196167 | AW292: 196167 | AX292: 0 | AY292: =SUM(AY293:AY298) -> 0 | AZ292: =SUM(AZ293:AZ298) -> 0 | BA292: =SUM(BA293:BA298) -> 0 | BB292: =SUM(BB293:BB298) -> 0 | BC292: =SUM(BC293:BC298) -> 0 | BD292: =SUM(BD293:BD298) -> 0 | BE292: =SUM(BE293:BE298) -> 0 | BF292: =SUM(BF293:BF298) -> 0 | ... BH292: =SUM(BH293:BH298) -> 0 | BL292: =SUM(BL293:BL298) -> 0 | BM292: =SUM(BM293:BM298) -> 0 | BN292: =SUM(BN293:BN298) -> 0 | BO292: =SUM(BO293:BO298) -> 0 | BP292: =SUM(BP293:BP298) -> 0 | BR292: =SUM(BR293:BR298) -> 0 | CB292: Giao thông | CC292: Chuyển tiếp | CD292: =IFERROR(BA292/(K292-(AB292-BA292)-M292)*100,0) -> 0 | CG292: =#REF!/(N304-(AE304-#REF!))*100 -> #REF! | CJ292: =IF(BS304<>0,IF(AG304=0,BA304,0),0) -> 0 | CK292: =IF(BS304<>0,IF(AG304<>BA304,1,0),0) -> 0 | CN292: =SUM(CN293:CN298) -> 0 | CO292: =SUM(CO293:CO298) -> 0 | CP292: =SUM(CP293:CP298) -> 0 | CQ292: =SUM(CQ293:CQ298) -> 0 | CR292: =BB292-'[51]Biểu B.5_2630 NSDP CT'!BA293-'[51]Biểu B.2_2630 KCM'!#REF! -> #REF!
...

Sheet Bieu II.DT.1
A2: BIỂU II.ĐT.1: ĐIỀU CHỈNH VỐN ĐẦU TƯ PHÁT TRIỂN KÉO DÀI SANG NĂM 2026 THUỘC CHƯƠNG TRÌNH MTQG TRÊN ĐỊA BÀN TỈNH LẠNG SƠN
A3: ='Biểu I.PB_2630 NSDP'!A4 -> (Kèm theo Tờ trình số: 305/ TTr-UBND ngày 10 /10/2026 của UBND tỉnh)
Z4: Đơn vị: triệu đồng
A5: TT | B5: Dự án thành phần/ nội dung hoạt động | C5: Kế hoạch vốn Chương trình được phép sử dụng trong năm 2026 | H5: Điều chỉnh | U5: Kế hoạch vốn Chương trình được phép sử dụng trong năm 2026 | Z5: Ghi chú
C6: Tổng cộng | D6: Trong đó | H6: Điều chỉnh giảm, trong đó: | R6: Tăng bổ sung | U6: Tổng cộng | V6: Trong đó
D7: NSTW | E7: NSĐP | F7: Trong đó | H7: Tổng số | K7: Giảm để tăng, bổ sung cho các dự án giai đoạn 2021-2025 | N7: Giảm để phân bổ cho các dự án giai đoạn 2026-2030 | Q7: Giảm do hụt thu nguồn thu sử dụng đất | V7: NSTW | W7: NSĐP | X7: Trong đó
F8: NST | G8: NSX | H8: Tổng cộng | I8: NSTW | J8: NST | K8: Tổng cộng | L8: NSTW | M8: NST | N8: Tổng cộng | O8: NSTW | P8: NST | Q8: NST | R8: Tổng cộng | S8: NSTW | T8: NST | X8: NST | Y8: NSX
A9: 1 | B9: 2 | C9: 3 | D9: 5 | E9: 6 | F9: 6a | G9: 6b | H9: 7 | I9: 8 | J9: 9 | K9: 10 | L9: 11 | M9: 12 | N9: 13 | O9: 14 | P9: 15 | Q9: 16 | R9: 17 | S9: 18 | T9: 19 | U9: 20 | V9: 21 | W9: 22 | X9: 22a | Y9: 22b | Z9: 23
A10: A | B10: CHƯƠNG TRÌNH MTQG PHÁT TRIỂN KT-XH VÙNG ĐỒNG BÀO DTTS&MN | C10: =SUM(D10:E10) -> #REF! | D10: =D11+D12+D13+D15+D17+D18 -> #REF! | E10: =E11+E12+E13+E15+E17+E18 -> #REF! | H10: =H11+H12+H13+H15+H17+H18+0.3 -> #REF! | I10: =I11+I12+I13+I15+I17+I18 -> #REF! | J10: =+M10+P10+Q10 -> #REF! | K10: =K11+K12+K13+K15+K17+K18 -> #REF! | L10: =L11+L12+L13+L15+L17+L18 -> #REF! | M10: =M11+M12+M13+M15+M17+M18 -> 0 | N10: =N11+N12+N13+N15+N17+N18 -> #REF! | O10: =O11+O12+O13+O15+O17+O18 -> #REF! | P10: =P11+P12+P13+P15+P17+P18 -> #REF! | Q10: =Q11+Q12+Q13+Q15+Q17+Q18 -> 20695 | R10: =R11+R12+R13+R15+R17 -> #REF! | S10: =S11+S12+S13+S15+S17 -> 24893 | T10: =T11+T12+T13+T15+T17 -> #REF! | U10: =C10-H10+R10 -> #REF! | V10: =D10-I10+S10 -> #REF! | W10: =E10-J10+T10 -> #REF!
A11: I | B11: Dự án 1: Giải quyết tình trạng thiếu đất ở, nhà ở, đất sản xuất, nước sinh hoạt | C11: =SUM(D11:E11) -> 12715.404 | D11: 11515.889 | E11: 1199.515 | H11: =SUM(I11:J11) -> #REF! | I11: =I24 -> #REF! | J11: =J24 -> #REF! | K11: =L11+M11 -> 252 | L11: =L24 -> 252 | M11: =M24 -> 0 | N11: =N24 -> #REF! | O11: =O24 -> 746 | P11: =P24 -> #REF! | Q11: =Q24 -> 701 | R11: =R24 -> 0 | S11: =S24 -> 0 | ... W11: =W24 -> #REF!
A12: II | B12: Dự án 2: Quy hoạch, sắp xếp, bố trí, ổn định dân cư ở những nơi cần thiết | C12: =SUM(D12:E12) -> 54367.777 | D12: 54197.777 | E12: 170 | H12: =SUM(I12:J12) -> #REF! | I12: =I37 -> #REF! | J12: =J37 -> #REF! | K12: =K37 -> 590 | L12: =L37 -> 590 | M12: =M37 -> 0 | N12: =N37 -> #REF! | O12: =O37 -> #REF! | P12: =P37 -> #REF! | Q12: =Q37 -> 0 | R12: =SUM(S12:T12) -> 0 | S12: =S37 -> 0 | T12: =T37 -> 0 | U12: =SUM(V12:W12) -> #REF! | V12: =V37 -> #REF! | W12: =W37 -> #REF!
A13: III | B13: Dự án 4: Đầu tư cơ sở hạ tầng thiết yếu, phục vụ sản xuất, đời sống trong vùng đồng bào dân tộc thiểu số và miền núi và các đơn vị sự nghiệp công lập của lĩnh vực dân tộc | C13: =SUM(D13:E13) -> #REF! | D13: =D14 -> #REF! | E13: =E14 -> #REF! | H13: =SUM(I13:J13) -> #REF! | I13: =I14 -> #REF! | J13: =J43 -> #REF! | K13: =K43 -> #REF! | L13: =L43 -> #REF! | M13: =M43 -> 0 | N13: =N43 -> #REF! | O13: =O43 -> #REF! | P13: =P43 -> #REF! | Q13: =Q43 -> 19830 | R13: =SUM(S13:T13) -> #REF! | S13: =S43 -> 24893 | T13: =T43 -> #REF! | U13: =SUM(V13:W13) -> #REF! | V13: =V43 -> #REF! | W13: =W43 -> #REF!
A14: 1 | B14: Tiểu dự án 1: Đầu tư cơ sở hạ tầng thiết yếu, phục vụ sản xuất, đời sống trong vùng đồng bào dân tộc thiểu số và miền núi | C14: =SUM(D14:E14) -> #REF! | D14: =D43 -> #REF! | E14: =E43 -> #REF! | H14: =SUM(I14:J14) -> #REF! | I14: =I44 -> #REF! | J14: =J44 -> #REF! | K14: =K44 -> #REF! | L14: =L44 -> #REF! | M14: =M44 -> 0 | N14: =N44 -> #REF! | O14: =O44 -> #REF! | P14: 0 | Q14: =Q44 -> 19830 | R14: =SUM(S14:T14) -> #REF! | S14: =S44 -> 24893 | T14: =T44 -> #REF! | U14: =SUM(V14:W14) -> #REF! | V14: =V44 -> #REF! | W14: =W44 -> #REF!
A15: IV | B15: Dự án 5: Phát triển giáo dục đào tạo nâng cao chất lượng nguồn nhân lực | C15: =SUM(D15:E15) -> 23405.025 | D15: 21429.188 | E15: 1975.837 | H15: =SUM(I15:J15) -> #REF! | I15: =I67 -> #REF! | J15: =J67 -> #REF! | K15: =K67 -> 4865 | L15: =L67 -> 4865 | M15: =M67 -> 0 | N15: =N67 -> #REF! | O15: =O67 -> #REF! | P15: =P67 -> 0 | Q15: 164 | R15: =SUM(S15:T15) -> 0 | S15: =S67 -> 0 | T15: =T67 -> 0 | U15: =SUM(V15:W15) -> #REF! | V15: =V67 -> #REF! | W15: =W67 -> #REF!
A16: 1 | B16: Tiểu dự án 1: Đổi mới hoạt động, củng cố phát triển các trường phổ thông dân tộc nội trú, trường phổ thông dân tộc bán trú, trường phổ thông có học sinh ở bán trú và xóa mù chữ cho người dân vùng đồng bào dân tộc thiểu số | C16: =SUM(D16:E16) -> 23405.025 | D16: 21429.188 | E16: 1975.837 | H16: =SUM(I16:J16) -> #REF! | I16: =I68 -> #REF! | J16: =J68 -> #REF! | K16: =K68 -> 4865 | L16: =L68 -> 4865 | M16: =M68 -> 0 | N16: =N68 -> #REF! | O16: =O68 -> #REF! | P16: 0 | Q16: =Q67 -> 164 | R16: =SUM(S16:T16) -> 0 | S16: =S68 -> 0 | T16: =T68 -> 0 | U16: =SUM(V16:W16) -> #REF! | V16: =V68 -> #REF! | W16: =W68 -> #REF!
A17: V | B17: Dự án 6: Bảo tồn, phát huy giá trị văn hóa truyền thống tốt đẹp của các dân tộc thiểu số gắn với phát triển du lịch | C17: =SUM(D17:E17) -> 12199.551 | D17: 11684.805 | E17: 514.7463 | H17: =SUM(I17:J17) -> 1508 | I17: =I81 -> 1508 | J17: =J81 -> 0 | K17: =K81 -> 1508 | L17: =L81 -> 1508 | M17: =M81 -> 0 | N17: =N81 -> 0 | O17: =O81 -> 0 | P17: =P81 -> 0 | R17: =SUM(S17:T17) -> 0 | S17: =S81 -> 0 | T17: =T81 -> 0 | U17: =SUM(V17:W17) -> 6712 | V17: =V81 -> 6190 | W17: =W81 -> 522
A18: VII | B18: Dự án 10: Truyền thông, tuyên truyền, vận động trong vùng đồng bào dân tộc thiểu số và miền núi. Kiểm tra, giám sát đánh giá việc tổ chức thực hiện Chương trình | C18: =SUM(D18:E18) -> 2751.5635 | D18: 2561.6983 | E18: 189.8652 | H18: =SUM(I18:J18) -> 3.508358 | I18: =I89 -> 1.643153 | J18: =J89 -> 1.865205 | K18: =K89 -> 1.643153 | L18: =L89 -> 1.643153 | M18: =M89 -> 0 | N18: =N89 -> 1.865205 | O18: =O89 -> 0 | P18: =P89 -> 1.865205 | R18: =R19 -> 0 | S18: =S19 -> 0 | T18: =T19 -> 0 | U18: =U19 -> 0 | V18: =V19 -> 0 | W18: =W19 -> 0 | Z18: =Z19 -> #REF!
B19: Tiểu dự án 2: Ứng dụng công nghệ thông tin hỗ trợ phát triển kinh tế - xã hội và đảm bảo an ninh trật tự vùng đồng bào dân tộc thiểu số và miền núi | C19: =SUM(D19:E19) -> 2751.5635 | D19: 2561.6983 | E19: 189.8652 | H19: =SUM(I19:J19) -> 3.508358 | I19: =I90 -> 1.643153 | J19: =J90 -> 1.865205 | K19: =K90 -> 1.643153 | L19: =L90 -> 1.643153 | M19: =M90 -> 0 | N19: =N90 -> 1.865205 | O19: =O90 -> 0 | P19: =P90 -> 1.865205 | R19: 0 | S19: 0 | T19: 0 | U19: 0 | V19: 0 | W19: 0 | Z19: =#REF! -> #REF!
B20: TỔNG CỘNG | C20: =C21+C97+C116+C125 -> #REF! | D20: =D21+D97+D116+D125 -> 387223.11 | E20: =E21+E97+E116+E125 -> #REF! | F20: =F21+F97+F116+F125 -> #REF! | G20: =G21+G97+G116+G125 -> 6191 | H20: =H21+H97+H116+H125+0.1 -> #REF! | I20: =I21+I97+I116+I125 -> #REF! | J20: =J21+J97+J116+J125 -> #REF! | K20: =K21+K97+K116+K125-0.1 -> #REF! | L20: =L21+L97+L116+L125 -> #REF! | M20: =M21+M97+M116+M125 -> 5246.18 | N20: =N21+N97+N116+N125 -> #REF! | O20: =O21+O97+O116+O125 -> #REF! | P20: =P21+P97+P116+P125 -> #REF! | Q20: =Q21+Q97+Q116+Q125 -> 20695 | R20: =R21+R97+R116+R125 -> #REF! | S20: =S21+S97+S116+S125 -> #REF! | ... Y20: =Y21+Y97+Y116+Y125 -> 6191 | AA20: =C20-Q20 -> #REF! | AB20: =D20-V20 -> #REF!
A21: A | B21: CHƯƠNG TRÌNH MTQG PHÁT TRIỂN KT-XH VÙNG ĐỒNG BÀO DTTS&MN | C21: =D21+E21 -> 320877.11 | D21: 282866.11 | E21: =F21+G21 -> 38011 | F21: =31820 -> 31820 | G21: 6191 | H21: =H22+H95 -> #REF! | I21: =I22+I95 -> #REF! | J21: =J22+J95 -> #REF! | K21: =K22+K95 -> #REF! | L21: =L22+L95 -> #REF! | M21: =M22+M95 -> 0 | N21: =N22+N95 -> #REF! | O21: =O22+O95-0.3 -> #REF! | P21: =P22+P95 -> #REF! | Q21: =Q22+Q95 -> 20695 | R21: =R22+R95+0.3 -> #REF! | S21: =S22+S95+0.3 -> 24893.3 | T21: =T22+T95 -> #REF! | U21: =U22+U95 -> #REF! | V21: =V22+V95 -> #REF! | W21: =W22+W95 -> #REF! | X21: =W21-Y21 -> #REF! | Y21: =G21 -> 6191 | AB21: =D21-I21+S21-V21 -> #REF! | AC21: =E21-J21+S21-W21 -> #REF!
A22: A.1 | B22: Vốn của danh mục dự án thuộc phạm vi điều chỉnh | C22: =C24+C37+C43+C67+C81+C89+C87 -> #REF! | D22: =D24+D37+D43+D67+D81+D89+D87 -> #REF! | E22: =E24+E37+E43+E67+E81+E89+E87 -> #REF! | F22: =E22 -> #REF! | H22: =H24+H37+H43+H67+H81+H89+H87 -> #REF! | I22: =I24+I37+I43+I67+I81+I89+I87-0.3 -> #REF! | J22: =J24+J37+J43+J67+J81+J89+J87 -> #REF! | K22: =K24+K37+K43+K67+K81+K89+K87 -> #REF! | L22: =L24+L37+L43+L67+L81+L89+L87 -> #REF! | M22: =M24+M37+M43+M67+M81+M89+M87 -> 0 | N22: =N24+N37+N43+N67+N81+N89+N87 -> #REF! | O22: =O24+O37+O43+O67+O81+O89+O87 -> #REF! | P22: =P24+P37+P43+P67+P81+P89+P87 -> #REF! | Q22: =Q24+Q37+Q43+Q67+Q81+Q89+Q87 -> 20695 | ... W22: =W24+W37+W43+W67+W81+W89+W87 -> #REF! | X22: =W22 -> #REF! | Y22: =Y24+Y37+Y43+Y67+Y81+Y89+Y87 -> 0 | AB22: =D22-I22+S22-V22 -> #REF! | AC22: =E22-J22+T22-W22 -> #REF!
B23: Trong đó | F23: =E23 -> 0 | X23: =W23 -> 0 | AB23: =D23-I23+S23-V23 -> 0 | AC23: =E23-J23+T23-W23 -> 0
A24: I | B24: Dự án 1: Giải quyết tình trạng thiếu đất ở, nhà ở, đất sản xuất, nước sinh hoạt | C24: =C26+C32 -> #REF! | D24: =D26+D32 -> #REF! | E24: =E26+E32 -> #REF! | F24: =E24 -> #REF! | H24: =H26+H32 -> #REF! | I24: =I26+I32 -> #REF! | J24: =J26+J32 -> #REF! | K24: =L24+M24 -> 252 | L24: =L26+L32 -> 252 | M24: =M26+M32 -> 0 | N24: =N26+N32 -> #REF! | O24: =O26+O32 -> 746 | P24: =P26+P32 -> #REF! | Q24: =Q26+Q32 -> 701 | R24: =R26+R32 -> 0 | S24: =S26+S32 -> 0 | T24: =T26+T32 -> 0 | U24: =C24-H24+R24 -> #REF! | V24: =D24-I24+S24 -> #REF! | W24: =E24-J24+T24 -> #REF! | X24: =W24 -> #REF! | AB24: =D24-I24+S24-V24 -> #REF! | AC24: =E24-J24+T24-W24 -> #REF!
B25: Trong đó | F25: =E25 -> 0 | K25: =L25+M25 -> 0 | X25: =W25 -> 0 | AB25: =D25-I25+S25-V25 -> 0 | AC25: =E25-J25+T25-W25 -> 0
A26: I.1 | B26: Các dự án giao UBND xã làm chủ đầu tư | C26: =SUM(D26:E26) -> #REF! | D26: =SUM(D27:D31) -> #REF! | E26: =SUM(E27:E31) -> #REF! | F26: =E26 -> #REF! | H26: =SUM(H27:H31) -> #REF! | I26: =SUM(I27:I31)+0.2 -> #REF! | J26: =SUM(J27:J31) -> #REF! | K26: =L26+M26 -> 172 | L26: =SUM(L27:L31) -> 172 | M26: =SUM(M27:M31) -> 0 | N26: =SUM(N27:N31) -> #REF! | O26: =SUM(O27:O31) -> 0 | P26: =SUM(P27:P31) -> #REF! | Q26: =SUM(Q27:Q31) -> 701 | R26: =SUM(R27:R31) -> 0 | S26: =SUM(S27:S31) -> 0 | ... W26: =SUM(W27:W31) -> #REF! | X26: =W26 -> #REF! | AB26: =D26-I26+S26-V26 -> #REF! | AC26: =E26-J26+T26-W26 -> #REF!
A27: 1.1 | B27: UBND xã Đồng Đăng (Ban QLDA KV 2 cũ) | C27: =SUM(D27:E27) -> #REF! | D27: =#REF! -> #REF! | E27: =#REF! -> #REF! | F27: =E27 -> #REF! | H27: =SUM(I27:J27) -> 774 | I27: ='[53]Ban 2-DongDang'!G12 -> 73 | J27: 701 | K27: =L27+M27 -> 73 | L27: 73 | N27: =O27+P27 -> 0 | O27: =I27-L27 -> 0 | P27: 0 | Q27: 701 | R27: =SUM(S27:T27) -> 0 | U27: =SUM(V27:W27) -> #REF! | V27: =D27-I27+S27 -> #REF! | W27: =E27-J27+T27 -> #REF! | X27: =W27 -> #REF! | AB27: =D27-I27+S27-V27 -> #REF! | AC27: =E27-J27+T27-W27 -> #REF!
A28: 1.2 | B28: UBND xã Lộc Bình (Ban QLDA KV 3 cũ) | C28: =SUM(D28:E28) -> #REF! | D28: =#REF! -> #REF! | E28: =#REF! -> #REF! | F28: =E28 -> #REF! | H28: =SUM(I28:J28) -> #REF! | I28: =#REF! -> #REF! | J28: =#REF! -> #REF! | K28: =L28+M28 -> 28 | L28: 28 | N28: =O28+P28 -> #REF! | O28: 0 | P28: =J28-M28 -> #REF! | R28: =SUM(S28:T28) -> 0 | U28: =SUM(V28:W28) -> #REF! | V28: =D28-I28+S28 -> #REF! | W28: =E28-J28+T28 -> #REF! | X28: =W28 -> #REF! | AB28: =D28-I28+S28-V28 -> #REF! | AC28: =E28-J28+T28-W28 -> #REF!
A29: 1.4 | B29: UBND xã Đình Lập (Ban QLDA KV 4 cũ) | C29: =SUM(D29:E29) -> #REF! | D29: =#REF! -> #REF! | E29: =#REF! -> #REF! | F29: =E29 -> #REF! | H29: =SUM(I29:J29) -> 1 | I29: 1 | K29: =L29+M29 -> 1 | L29: 1 | N29: =O29+P29 -> 0 | O29: 0 | P29: =J29-M29 -> 0 | R29: =SUM(S29:T29) -> 0 | U29: =SUM(V29:W29) -> #REF! | V29: 0 | W29: =E29-J29+T29 -> #REF! | X29: =W29 -> #REF! | AB29: =D29-I29+S29-V29 -> #REF! | AC29: =E29-J29+T29-W29 -> #REF!
A30: 1.5 | B30: UBND xã Na Sầm ( Ban QLDA KV 7 cũ) | C30: =SUM(D30:E30) -> #REF! | D30: =#REF! -> #REF! | E30: =#REF! -> #REF! | F30: =E30 -> #REF! | H30: =SUM(I30:J30) -> #REF! | I30: =#REF! -> #REF! | J30: =#REF! -> #REF! | K30: =L30+M30 -> 13 | L30: 13 | M30: 0 | N30: =O30+P30 -> #REF! | O30: 0 | P30: =J30-M30 -> #REF! | R30: =SUM(S30:T30) -> 0 | U30: =SUM(V30:W30) -> #REF! | V30: 0 | W30: =E30-J30+T30 -> #REF! | X30: =W30 -> #REF! | AB30: =D30-I30+S30-V30 -> #REF! | AC30: =E30-J30+T30-W30 -> #REF!
A31: 1.6 | B31: UBND xã Bình Gia (Ban QLDA KV 10 cũ) | C31: =SUM(D31:E31) -> #REF! | D31: =#REF! -> #REF! | E31: =#REF! -> #REF! | F31: =E31 -> #REF! | H31: =SUM(I31:J31) -> #REF! | I31: =#REF! -> #REF! | J31: =#REF! -> #REF! | K31: =L31+M31 -> 57 | L31: 57 | N31: =O31+P31 -> #REF! | O31: 0 | P31: =J31-M31 -> #REF! | R31: =SUM(S31:T31) -> 0 | U31: =SUM(V31:W31) -> #REF! | V31: =D31-I31+S31 -> #REF! | W31: =E31-J31+T31 -> #REF! | X31: =W31 -> #REF! | AB31: =D31-I31+S31-V31 -> #REF! | AC31: =E31-J31+T31-W31 -> #REF!
A32: I.2 | B32: Khối xã: | C32: =SUM(D32:E32) -> 826 | D32: =D33+D34+D35+D36 -> 826 | E32: =E33+E34+E35 -> 0 | F32: =E32 -> 0 | H32: =H33+H34+H35+H36 -> 826 | I32: =I33+I34+I35+I36 -> 826 | J32: =J33+J34+J35 -> 0 | K32: =K33+K34+K35 -> 80 | L32: =L33+L34+L35 -> 80 | N32: =O32+P32 -> 746 | O32: =O33+O34+O35+O36 -> 746 | P32: =J32-M32 -> 0 | R32: =R33+R34+R35 -> 0 | S32: =S33+S34+S35 -> 0 | T32: =T33+T34+T35 -> 0 | U32: =U33+U34+U35 -> 0 | V32: =V33+V34+V35 -> 0 | W32: =W33+W34+W35 -> 0 | X32: =W32 -> 0 | AB32: =D32-I32+S32-V32 -> 0 | AC32: =E32-J32+T32-W32 -> 0
A33: 2.1 | B33: Xã Thiện Hòa | C33: =SUM(D33:E33) -> 80 | D33: 80 | F33: =E33 -> 0 | H33: =SUM(I33:J33) -> 80 | I33: 80 | J33: 0 | K33: =L33+M33 -> 80 | L33: 80 | M33: 0 | N33: =O33+P33 -> 0 | O33: =I33-L33 -> 0 | P33: =J33-M33 -> 0 | U33: =+V33+W33 -> 0 | V33: =D33-I33+S33 -> 0 | W33: =E33-J33+T33 -> 0 | X33: =W33 -> 0 | AB33: =D33-I33+S33-V33 -> 0 | AC33: =E33-J33+T33-W33 -> 0
A34: 2.2 | B34: Xã Yên Bình | C34: =SUM(D34:E34) -> 360 | D34: 360 | F34: =E34 -> 0 | H34: =SUM(I34:J34) -> 360 | I34: 360 | J34: 0 | K34: =L34+M34 -> 0 | L34: 0 | M34: 0 | N34: =O34+P34 -> 360 | O34: =I34-L34 -> 360 | P34: =J34-M34 -> 0 | U34: =+V34+W34 -> 0 | V34: 0 | W34: 0 | X34: =W34 -> 0 | AB34: =D34-I34+S34-V34 -> 0 | AC34: =E34-J34+T34-W34 -> 0
A35: 2.3 | B35: Xã Tân Thành | C35: =SUM(D35:E35) -> 360 | D35: 360 | F35: =E35 -> 0 | H35: =SUM(I35:J35) -> 360 | I35: 360 | J35: 0 | K35: =L35+M35 -> 0 | L35: 0 | M35: 0 | N35: =O35+P35 -> 360 | O35: =I35-L35 -> 360 | P35: =J35-M35 -> 0 | U35: =+V35+W35 -> 0 | V35: 0 | W35: 0 | X35: =W35 -> 0 | AB35: =D35-I35+S35-V35 -> 0 | AC35: =E35-J35+T35-W35 -> 0
A36: 2.4 | B36: Xã Nhất Hoà | C36: =SUM(D36:E36) -> 26 | D36: 26 | F36: =E36 -> 0 | H36: =SUM(I36:J36) -> 26 | I36: 26 | J36: 0 | K36: =L36+M36 -> 0 | L36: 0 | M36: 0 | N36: =O36+P36 -> 26 | O36: =I36-L36 -> 26 | P36: =J36-M36 -> 0 | U36: =+V36+W36 -> 0 | V36: 0 | W36: 0 | X36: =W36 -> 0 | AB36: =D36-I36+S36-V36 -> 0 | AC36: =E36-J36+T36-W36 -> 0
A37: II | B37: Dự án 2: Quy hoạch, sắp xếp, bố trí, ổn định dân cư ở những nơi cần thiết | C37: =C39 -> #REF! | D37: =D39 -> #REF! | E37: =E39 -> #REF! | F37: =E37 -> #REF! | H37: =H39+H42 -> #REF! | I37: =I39+I42 -> #REF! | J37: =J39+J42 -> #REF! | K37: =K39 -> 590 | L37: =L39 -> 590 | M37: =M39 -> 0 | N37: =N39 -> #REF! | O37: =O39 -> #REF! | P37: =P39 -> #REF! | Q37: =Q39 -> 0 | R37: =R39 -> 0 | ... T37: =T39 -> 0 | U37: =C37-H37+R37 -> #REF! | V37: =D37-I37+S37 -> #REF! | W37: =E37-J37+T37 -> #REF! | X37: =W37 -> #REF! | AB37: =D37-I37+S37-V37 -> #REF! | AC37: =E37-J37+T37-W37 -> #REF!
B38: Trong đó: | F38: =E38 -> 0 | X38: =W38 -> 0 | AB38: =D38-I38+S38-V38 -> 0 | AC38: =E38-J38+T38-W38 -> 0
A39: 1 | B39: Các dự án giao UBND xã làm chủ đầu tư | C39: =SUM(D39:E39) -> #REF! | D39: =SUM(D40:D41)+0.2 -> #REF! | E39: =SUM(E40:E41) -> #REF! | F39: =E39 -> #REF! | H39: =SUM(H40:H41) -> #REF! | I39: =SUM(I40:I41) -> #REF! | J39: =SUM(J40:J41) -> #REF! | K39: =L39+M39 -> 590 | L39: =SUM(L40:L41) -> 590 | M39: =SUM(M40:M41) -> 0 | N39: =SUM(N40:N41) -> #REF! | O39: =SUM(O40:O41) -> #REF! | P39: =SUM(P40:P41) -> #REF! | Q39: =SUM(Q40:Q41) -> 0 | R39: =SUM(R40:R41) -> 0 | S39: =SUM(S40:S41) -> 0 | T39: =SUM(T40:T41) -> 0 | U39: =V39+W39 -> #REF! | V39: =SUM(V40:V41) -> #REF! | W39: =SUM(W40:W41) -> #REF! | X39: =W39 -> #REF! | AB39: =D39-I39+S39-V39 -> #REF! | AC39: =E39-J39+T39-W39 -> #REF!
A40: 1.1 | B40: UBND xã Lộc Bình (Ban QLDA KV 3 cũ) | C40: =SUM(D40:E40) -> #REF! | D40: =#REF! -> #REF! | E40: =#REF! -> #REF! | F40: =E40 -> #REF! | H40: =SUM(I40:J40) -> #REF! | I40: =#REF! -> #REF! | J40: =#REF! -> #REF! | K40: =L40+M40 -> 188 | L40: 188 | M40: 0 | N40: =O40+P40 -> #REF! | O40: =I40-L40 -> #REF! | P40: =J40-M40 -> #REF! | Q40: 0 | R40: =SUM(S40:T40) -> 0 | S40: 0 | T40: 0 | U40: =SUM(V40:W40) -> #REF! | V40: =D40-I40+S40 -> #REF! | W40: =E40-J40+T40 -> #REF! | X40: =W40 -> #REF! | AB40: =D40-I40+S40-V40 -> #REF! | AC40: =E40-J40+T40-W40 -> #REF!
A41: 1.2 | B41: UBND xã Bình Gia (Ban QLDA KV 10 cũ) | C41: =SUM(D41:E41) -> #REF! | D41: =#REF! -> #REF! | E41: =#REF! -> #REF! | F41: =E41 -> #REF! | H41: =SUM(I41:J41) -> #REF! | I41: =#REF! -> #REF! | J41: =#REF! -> #REF! | K41: =L41+M41 -> 402 | L41: 402 | M41: 0 | N41: =O41+P41 -> #REF! | O41: 0 | P41: =J41-M41 -> #REF! | Q41: 0 | R41: =SUM(S41:T41) -> 0 | S41: 0 | T41: 0 | U41: =SUM(V41:W41) -> #REF! | V41: 382 | W41: =E41-J41+T41 -> #REF! | X41: =W41 -> #REF! | AB41: =D41-I41+S41-V41 -> #REF! | AC41: =E41-J41+T41-W41 -> #REF!
A42: 2 | B42: Khối xã: | C42: =SUM(D42:E42) -> 0 | F42: =E42 -> 0 | N42: =O42+P42 -> 0 | O42: =I42-L42 -> 0 | P42: =J42-M42 -> 0 | V42: =D42-I42+S42 -> 0 | W42: =E42-J42+T42 -> 0 | X42: =W42 -> 0 | AB42: =D42-I42+S42-V42 -> 0 | AC42: =E42-J42+T42-W42 -> 0
A43: III | B43: Dự án 4: Đầu tư cơ sở hạ tầng thiết yếu, phục vụ sản xuất, đời sống trong vùng đồng bào dân tộc thiểu số và miền núi và các đơn vị sự nghiệp công lập của lĩnh vực dân tộc | C43: =SUM(D43:E43) -> #REF! | D43: =D44 -> #REF! | E43: =E44 -> #REF! | F43: =E43 -> #REF! | H43: =H44 -> #REF! | I43: =I44 -> #REF! | J43: =J44 -> #REF! | K43: =K44 -> #REF! | L43: =L44 -> #REF! | M43: =M44 -> 0 | N43: =O43+P43 -> #REF! | O43: =I43-L43 -> #REF! | P43: =P44 -> #REF! | Q43: =Q44 -> 19830 | R43: =R44 -> #REF! | S43: =S44 -> 24893 | T43: =T44 -> #REF! | U43: =C43-H43+R43 -> #REF! | V43: =D43-I43+S43 -> #REF! | W43: =E43-J43+T43 -> #REF! | X43: =W43 -> #REF! | AB43: =D43-I43+S43-V43 -> #REF! | AC43: =E43-J43+T43-W43 -> #REF!
B44: Tiểu dự án 1: Đầu tư cơ sở hạ tầng thiết yếu, phục vụ sản xuất, đời sống trong vùng đồng bào dân tộc thiểu số và miền núi | C44: =SUM(D44:E44) -> #REF! | D44: =D46+D56 -> #REF! | E44: =E46+E56 -> #REF! | F44: =E44 -> #REF! | H44: =H46+H56 -> #REF! | I44: =I46+I56 -> #REF! | J44: =J46+J56 -> #REF! | K44: =K46+K56 -> #REF! | L44: =L46+L56 -> #REF! | M44: =M46+M56 -> 0 | N44: =O44+P44 -> #REF! | O44: =I44-L44 -> #REF! | P44: =P46 -> #REF! | Q44: =Q46 -> 19830 | R44: =R46+R56 -> #REF! | S44: =S46+S56 -> 24893 | T44: =T46+T56 -> #REF! | U44: =C44-H44+R44 -> #REF! | V44: =D44-I44+S44 -> #REF! | W44: =E44-J44+T44 -> #REF! | X44: =W44 -> #REF! | AB44: =D44-I44+S44-V44 -> #REF! | AC44: =E44-J44+T44-W44 -> #REF!
B45: Trong đó | F45: =E45 -> 0 | N45: =O45+P45 -> 0 | O45: =I45-L45 -> 0 | P45: =J45-M45 -> 0 | X45: =W45 -> 0 | AB45: =D45-I45+S45-V45 -> 0 | AC45: =E45-J45+T45-W45 -> 0
A46: 1 | B46: Các dự án giao UBND xã làm chủ đầu tư | C46: =SUM(D46:E46) -> #REF! | D46: =SUM(D47:D55) -> #REF! | E46: =SUM(E47:E55) -> #REF! | F46: =E46 -> #REF! | H46: =SUM(H47:H55) -> #REF! | I46: =SUM(I47:I55) -> #REF! | J46: =SUM(J47:J55) -> #REF! | K46: =L46+M46 -> #REF! | L46: =SUM(L47:L55) -> #REF! | M46: =SUM(M47:M55) -> 0 | N46: =O46+P46 -> #REF! | O46: =I46-L46 -> #REF! | P46: =SUM(P47:P55) -> #REF! | Q46: =SUM(Q47:Q55) -> 19830 | R46: =SUM(R47:R55) -> #REF! | S46: =SUM(S47:S55) -> 23167 | T46: =SUM(T47:T55) -> #REF! | U46: =SUM(U47:U55) -> #REF! | V46: =D46-I46+S46 -> #REF! | W46: =E46-J46+T46 -> #REF! | X46: =W46 -> #REF! | AB46: =D46-I46+S46-V46 -> #REF! | AC46: =E46-J46+T46-W46 -> #REF!
A47: 1.1 | B47: UBND xã Đồng Đăng (Ban QLDA KV 2 cũ) | C47: =SUM(D47:E47) -> #REF! | D47: =#REF! -> #REF! | E47: =#REF! -> #REF! | F47: =E47 -> #REF! | H47: =SUM(I47:J47) -> #REF! | I47: =#REF! -> #REF! | J47: =#REF! -> #REF! | K47: =L47+M47 -> #REF! | L47: =I47 -> #REF! | N47: =O47+P47 -> #REF! | O47: =I47-L47 -> #REF! | P47: =J47-M47-Q47 -> #REF! | Q47: 1077 | R47: =SUM(S47:T47) -> 400 | S47: 400 | U47: =SUM(V47:W47) -> #REF! | V47: =D47-I47+S47 -> #REF! | W47: =E47-J47+T47 -> #REF! | X47: =W47 -> #REF! | AB47: =D47-I47+S47-V47 -> #REF! | AC47: =E47-J47+T47-W47 -> #REF!
A48: 1.2 | B48: UBND xã Lộc Bình (Ban QLDA KV 3 cũ) | C48: =SUM(D48:E48) -> #REF! | D48: =#REF! -> #REF! | E48: =#REF! -> #REF! | F48: =E48 -> #REF! | H48: =SUM(I48:J48) -> #REF! | I48: =#REF! -> #REF! | J48: =#REF! -> #REF! | K48: =L48+M48 -> 2768 | L48: 2768 | M48: 0 | N48: =O48+P48 -> #REF! | O48: =I48-L48 -> #REF! | P48: =J48-M48-Q48 -> #REF! | Q48: ='[53]Ban 3-Locbinh'!M15 -> 18753 | R48: =SUM(S48:T48) -> 0 | S48: 0 | T48: 0 | U48: =SUM(V48:W48) -> #REF! | V48: =D48-I48+S48 -> #REF! | W48: =E48-J48+T48 -> #REF! | X48: =W48 -> #REF! | AB48: =D48-I48+S48-V48 -> #REF! | AC48: =E48-J48+T48-W48 -> #REF!
A49: 1.3 | B49: UBND xã Đình Lập (Ban QLDA KV 4 cũ) | C49: =SUM(D49:E49) -> #REF! | D49: =#REF! -> #REF! | E49: =#REF! -> #REF! | F49: =E49 -> #REF! | H49: =SUM(I49:J49) -> 131.796 | I49: ='[53]Ban 4-DinhLap'!N21 -> 131.796 | J49: 0 | K49: =L49+M49 -> 132 | L49: 132 | M49: 0 | N49: =O49+P49 -> 0 | O49: 0 | P49: =J49-M49 -> 0 | Q49: 0 | R49: =SUM(S49:T49) -> 0 | S49: 0 | T49: 0 | U49: =SUM(V49:W49) -> #REF! | V49: =D49-I49+S49 -> #REF! | W49: =E49-J49+T49 -> #REF! | X49: =W49 -> #REF! | AB49: =D49-I49+S49-V49 -> #REF! | AC49: =E49-J49+T49-W49 -> #REF!
A50: 1.5 | B50: UBND xã Hữu Lũng (Ban QLDA KV 6 cũ) | C50: =SUM(D50:E50) -> #REF! | D50: =#REF! -> #REF! | E50: =#REF! -> #REF! | F50: =E50 -> #REF! | H50: =SUM(I50:J50) -> 0 | K50: =L50+M50 -> 0 | N50: =O50+P50 -> 0 | O50: =I50-L50 -> 0 | P50: =J50-M50 -> 0 | Q50: 0 | R50: =SUM(S50:T50) -> 14557 | S50: 14557 | U50: =SUM(V50:W50) -> #REF! | V50: =D50-I50+S50 -> #REF! | W50: =E50-J50+T50 -> #REF! | X50: =W50 -> #REF! | AB50: =D50-I50+S50-V50 -> #REF! | AC50: =E50-J50+T50-W50 -> #REF!
A51: 1.6 | B51: UBND xã Na Sầm (Ban QLDA KV 7 cũ) | C51: =SUM(D51:E51) -> #REF! | D51: =#REF! -> #REF! | E51: =#REF! -> #REF! | F51: =E51 -> #REF! | H51: =SUM(I51:J51) -> #REF! | I51: =#REF! -> #REF! | J51: =#REF! -> #REF! | K51: =L51+M51 -> #REF! | L51: =I51 -> #REF! | M51: 0 | N51: =O51+P51 -> #REF! | O51: =I51-L51 -> #REF! | P51: =J51-M51 -> #REF! | Q51: 0 | R51: =SUM(S51:T51) -> 0 | S51: 0 | T51: 0 | U51: =SUM(V51:W51) -> #REF! | V51: =D51-I51+S51 -> #REF! | W51: =E51-J51+T51 -> #REF! | X51: =W51 -> #REF! | AB51: =D51-I51+S51-V51 -> #REF! | AC51: =E51-J51+T51-W51 -> #REF!
A52: 1.7 | B52: UBND xã Thất Khê (Ban QLDA KV 8 cũ) | C52: =SUM(D52:E52) -> #REF! | D52: =#REF! -> #REF! | E52: =#REF! -> #REF! | F52: =E52 -> #REF! | H52: =SUM(I52:J52) -> #REF! | I52: =#REF! -> #REF! | J52: =#REF! -> #REF! | K52: =L52+M52 -> 2886 | L52: 2886 | M52: 0 | N52: =O52+P52 -> #REF! | O52: =I52-L52 -> #REF! | P52: =J52-M52 -> #REF! | Q52: 0 | R52: =SUM(S52:T52) -> 28 | S52: 28 | U52: =SUM(V52:W52) -> #REF! | V52: =D52-I52+S52 -> #REF! | W52: =E52-J52+T52 -> #REF! | X52: =W52 -> #REF! | AB52: =D52-I52+S52-V52 -> #REF! | AC52: =E52-J52+T52-W52 -> #REF!
A53: 1.8 | B53: UBND xã Văn Quan (Ban QLDA KV 9 cũ) | C53: =SUM(D53:E53) -> #REF! | D53: =#REF! -> #REF! | E53: =#REF! -> #REF! | F53: =E53 -> #REF! | H53: =SUM(I53:J53) -> #REF! | I53: =#REF! -> #REF! | J53: =#REF! -> #REF! | K53: =L53+M53 -> 414 | L53: 414 | M53: 0 | N53: =O53+P53 -> #REF! | O53: =I53-L53 -> #REF! | P53: =J53-M53 -> #REF! | Q53: 0 | R53: =SUM(S53:T53) -> 7144 | S53: 7144 | T53: 0 | U53: =SUM(V53:W53) -> #REF! | V53: =D53-I53+S53 -> #REF! | W53: =E53-J53+T53 -> #REF! | X53: =W53 -> #REF! | AB53: =D53-I53+S53-V53 -> #REF! | AC53: =E53-J53+T53-W53 -> #REF!
A54: 1.9 | B54: UBND xã Bình Gia (Ban QLDA KV 10 cũ) | C54: =SUM(D54:E54) -> #REF! | D54: =#REF! -> #REF! | E54: =#REF! -> #REF! | F54: =E54 -> #REF! | H54: =SUM(I54:J54) -> #REF! | I54: =#REF! -> #REF! | J54: =#REF! -> #REF! | K54: =L54+M54 -> 1931 | L54: 1931 | N54: =O54+P54 -> #REF! | O54: 0 | P54: =J54-M54 -> #REF! | Q54: 0 | R54: =SUM(S54:T54) -> #REF! | S54: 55 | T54: =#REF! -> #REF! | U54: =SUM(V54:W54) -> #REF! | V54: =D54-I54+S54-0.3 -> #REF! | W54: =E54-J54+T54 -> #REF! | X54: =W54 -> #REF! | AB54: =D54-I54+S54-V54 -> #REF! | AC54: =E54-J54+T54-W54 -> #REF!
A55: 1.10 | B55: UBND xã Bắc Sơn (Ban QLDA KV 11 cũ) | C55: =SUM(D55:E55) -> #REF! | D55: =#REF! -> #REF! | E55: =#REF! -> #REF! | F55: =E55 -> #REF! | H55: =SUM(I55:J55) -> #REF! | I55: =#REF! -> #REF! | J55: =#REF! -> #REF! | K55: =L55+M55 -> 3010 | L55: 3010 | N55: =O55+P55 -> #REF! | O55: 0 | P55: =J55-M55 -> #REF! | Q55: 0 | R55: =SUM(S55:T55) -> #REF! | S55: 983 | T55: =#REF! -> #REF! | U55: =SUM(V55:W55) -> #REF! | V55: =D55-I55+S55 -> #REF! | W55: =E55-J55+T55 -> #REF! | X55: =W55 -> #REF! | AB55: =D55-I55+S55-V55 -> #REF! | AC55: =E55-J55+T55-W55 -> #REF!
A56: 2 | B56: Khối xã: | C56: =SUM(D56:E56) -> 7770.8548 | D56: =SUM(D57:D66) -> 7770.8548 | E56: =SUM(E57:E66) -> 0 | F56: =E56 -> 0 | H56: =I56+J56 -> 2174.6139 | I56: =SUM(I57:I66) -> 2174.6139 | J56: =SUM(J57:J66) -> 0 | K56: =L56+M56 -> 2174.9233 | L56: =SUM(L57:L66) -> 2174.9233 | M56: =SUM(M57:M66) -> 0 | N56: =O56+P56 -> 0 | O56: =SUM(O57:O65) -> 0 | P56: =J56-M56 -> 0 | Q56: 0 | R56: =SUM(R57:R63) -> 1726 | S56: =SUM(S57:S66) -> 1726 | T56: =SUM(T57:T66) -> 0 | U56: =V56+W56 -> 7322.241 | V56: =SUM(V57:V66) -> 7322.241 | W56: =SUM(W57:W66) -> 0 | X56: =W56 -> 0 | AB56: =D56-I56+S56-V56 -> 0 | AC56: =E56-J56+T56-W56 -> 0
A57: 2.1 | B57: Xã Công Sơn | C57: =SUM(D57:E57) -> 738.73007 | D57: =738730066/1000000 -> 738.73007 | E57: 0 | F57: =E57 -> 0 | H57: =I57+J57 -> 127.24058 | I57: =127240585/1000000 -> 127.24058 | J57: 0 | K57: =L57+M57 -> 127 | L57: 127 | M57: 0 | N57: 0 | O57: 0 | P57: =J57-M57 -> 0 | Q57: 0 | R57: =SUM(S57:T57) -> 0 | S57: 0 | T57: 0 | U57: =SUM(V57:W57) -> 611.48948 | V57: =D57-I57+S57 -> 611.48948 | W57: =E57-J57+T57 -> 0 | X57: =W57 -> 0 | AB57: =D57-I57+S57-V57 -> 0 | AC57: =E57-J57+T57-W57 -> 0
A58: 2.2 | B58: Xã Châu Sơn | C58: =SUM(D58:E58) -> 1151.019 | D58: 1151.019 | E58: 0 | F58: =E58 -> 0 | H58: =I58+J58 -> 88.45 | I58: 88.45 | J58: 0 | K58: =L58+M58 -> 88 | L58: 88 | M58: 0 | N58: 0 | O58: 0 | P58: =J58-M58 -> 0 | Q58: 0 | R58: =SUM(S58:T58) -> 0 | S58: 0 | T58: 0 | U58: =SUM(V58:W58) -> 1062.569 | V58: =D58-I58+S58 -> 1062.569 | W58: =E58-J58+T58 -> 0 | X58: =W58 -> 0 | AB58: =D58-I58+S58-V58 -> 0 | AC58: =E58-J58+T58-W58 -> 0
A59: 2.3 | B59: Xã Kiên Mộc | C59: =SUM(D59:E59) -> 152.914 | D59: 152.914 | E59: 0 | F59: =E59 -> 0 | H59: =I59+J59 -> 38 | I59: 38 | J59: 0 | K59: =L59+M59 -> 39 | L59: 39 | M59: 0 | N59: =O59+P59 -> 0 | O59: 0 | P59: =J59-M59 -> 0 | Q59: 0 | R59: =SUM(S59:T59) -> 0 | S59: 0 | T59: 0 | U59: =SUM(V59:W59) -> 114.914 | V59: =D59-I59+S59 -> 114.914 | W59: =E59-J59+T59 -> 0 | X59: =W59 -> 0 | AB59: =D59-I59+S59-V59 -> 0 | AC59: =E59-J59+T59-W59 -> 0
A60: 2.4 | B60: Xã Thống Nhất | C60: =SUM(D60:E60) -> 360 | D60: 360 | E60: 0 | F60: =E60 -> 0 | H60: =I60+J60 -> 54 | I60: 54 | J60: 0 | K60: =L60+M60 -> 54 | L60: 54 | M60: 0 | N60: =O60+P60 -> 0 | O60: =I60-L60 -> 0 | P60: =J60-M60 -> 0 | Q60: 0 | R60: =SUM(S60:T60) -> 0 | S60: 0 | T60: 0 | U60: =SUM(V60:W60) -> 306 | V60: =D60-I60+S60 -> 306 | W60: =E60-J60+T60 -> 0 | X60: =W60 -> 0 | AB60: =D60-I60+S60-V60 -> 0 | AC60: =E60-J60+T60-W60 -> 0
A61: 2.5 | B61: Xã Xuân Dương | C61: =SUM(D61:E61) -> 718.064 | D61: 718.064 | E61: 0 | F61: =E61 -> 0 | H61: =I61+J61 -> 0 | J61: 0 | K61: =L61+M61 -> 0 | N61: =O61+P61 -> 0 | O61: =I61-L61 -> 0 | P61: =J61-M61 -> 0 | Q61: 0 | R61: =SUM(S61:T61) -> 0 | S61: 0 | T61: 0 | U61: =SUM(V61:W61) -> 718.064 | V61: =D61-I61+S61 -> 718.064 | W61: =E61-J61+T61 -> 0 | X61: =W61 -> 0 | AB61: =D61-I61+S61-V61 -> 0 | AC61: =E61-J61+T61-W61 -> 0
A62: 2.6 | B62: Xã Kháng Chiến | C62: =SUM(D62:E62) -> 3004.2435 | D62: 3004.2435 | E62: 0 | F62: =E62 -> 0 | H62: =I62+J62 -> 625 | I62: 625 | J62: 0 | K62: =L62+M62 -> 625 | L62: 625 | M62: 0 | N62: =O62+P62 -> 0 | O62: =I62-L62 -> 0 | P62: =J62-M62 -> 0 | Q62: 0 | R62: =SUM(S62:T62) -> 0 | S62: 0 | T62: 0 | U62: =SUM(V62:W62) -> 2379.2435 | V62: =D62-I62+S62 -> 2379.2435 | W62: =E62-J62+T62 -> 0 | X62: =W62 -> 0 | AB62: =D62-I62+S62-V62 -> 0 | AC62: =E62-J62+T62-W62 -> 0
A63: 2.7 | B63: Xã Tân Văn | E63: 0 | F63: =E63 -> 0 | H63: =I63+J63 -> 0 | I63: 0 | J63: 0 | K63: =L63+M63 -> 0 | L63: 0 | M63: 0 | N63: =O63+P63 -> 0 | O63: =I63-L63 -> 0 | P63: =J63-M63 -> 0 | Q63: 0 | R63: =SUM(S63:T63) -> 1726 | S63: 1726 | U63: =SUM(V63:W63) -> 1726 | V63: =D63-I63+S63 -> 1726 | X63: =W63 -> 0 | AB63: =D63-I63+S63-V63 -> 0 | AC63: =E63-J63+T63-W63 -> 0
A64: 2.8 | B64: Xã Yên Bình | C64: =SUM(D64:E64) -> 185.34028 | D64: 185.34028 | E64: 0 | F64: =E64 -> 0 | H64: =SUM(I64:J64) -> 185.34028 | I64: 185.34028 | J64: 0 | K64: =SUM(L64:M64) -> 185.34028 | L64: 185.34028 | M64: 0 | N64: 0 | O64: 0 | P64: 0 | Q64: 0 | R64: 0 | S64: 0 | T64: 0 | U64: =SUM(V64:W64) -> 0 | V64: =D64-I64+S64 -> 0 | X64: =W64 -> 0 | AB64: =D64-I64+S64-V64 -> 0 | AC64: =E64-J64+T64-W64 -> 0
A65: 2.9 | B65: Xã Vũ Lễ | C65: =SUM(D65:E65) -> 256.544 | D65: 256.544 | E65: 0 | F65: =E65 -> 0 | H65: =SUM(I65:J65) -> 46.583 | I65: 46.583 | J65: 0 | K65: =SUM(L65:M65) -> 46.583 | L65: 46.583 | M65: 0 | N65: 0 | O65: 0 | P65: 0 | Q65: 0 | R65: 0 | S65: 0 | T65: 0 | U65: =SUM(V65:W65) -> 209.961 | V65: =D65-I65+S65 -> 209.961 | X65: =W65 -> 0 | AB65: =D65-I65+S65-V65 -> 0 | AC65: =E65-J65+T65-W65 -> 0
A66: 2.10 | B66: Xã Nhất Hoà | C66: =SUM(D66:E66) -> 1204 | D66: 1204 | E66: 0 | F66: =E66 -> 0 | H66: =SUM(I66:J66) -> 1010 | I66: 1010 | J66: 0 | K66: =SUM(L66:M66) -> 1010 | L66: 1010 | M66: 0 | N66: 0 | O66: 0 | P66: 0 | Q66: 0 | R66: 0 | S66: 0 | T66: 0 | U66: =SUM(V66:W66) -> 194 | V66: =D66-I66+S66 -> 194 | X66: =W66 -> 0 | AB66: =D66-I66+S66-V66 -> 0 | AC66: =E66-J66+T66-W66 -> 0
A67: IV | B67: Dự án 5: Phát triển giáo dục đào tạo nâng cao chất lượng nguồn nhân lực | C67: =SUM(D67:E67) -> #REF! | D67: =D68 -> #REF! | E67: =E68 -> #REF! | F67: =E67 -> #REF! | H67: =H68 -> #REF! | I67: =I68 -> #REF! | J67: =J68 -> #REF! | K67: =L67+M67 -> 4865 | L67: =L68 -> 4865 | M67: =M68 -> 0 | N67: =O67+P67 -> #REF! | O67: =I67-L67 -> #REF! | P67: 0 | Q67: =Q68 -> 164 | R67: =R68 -> 0 | S67: =S68 -> 0 | T67: =T68 -> 0 | U67: =C67-H67+R67 -> #REF! | V67: =D67-I67+S67 -> #REF! | W67: =E67-J67+T67 -> #REF! | X67: =W67 -> #REF! | AB67: =D67-I67+S67-V67 -> #REF! | AC67: =E67-J67+T67-W67 -> #REF!
B68: Tiểu dự án 1: Đổi mới hoạt động, củng cố phát triển các trường phổ thông dân tộc nội trú, trường phổ thông dân tộc bán trú, trường phổ thông có học sinh ở bán trú và xóa mù chữ cho người dân vùng đồng bào dân tộc thiểu số | C68: =SUM(D68:E68) -> #REF! | D68: =D70 -> #REF! | E68: =E70 -> #REF! | F68: =E68 -> #REF! | H68: =H70+H79 -> #REF! | I68: =I70+I79 -> #REF! | J68: =J70+J79 -> #REF! | K68: =L68+M68 -> 4865 | L68: =L70+L79 -> 4865 | M68: =M70+M79 -> 0 | N68: =O68+P68 -> #REF! | O68: =I68-L68 -> #REF! | P68: 0 | Q68: 164 | R68: =R70+R79 -> 0 | S68: =S70+S79 -> 0 | T68: =T70+T79 -> 0 | U68: =C68-H68+R68 -> #REF! | V68: =D68-I68+S68 -> #REF! | W68: =E68-J68+T68 -> #REF! | X68: =W68 -> #REF! | AB68: =D68-I68+S68-V68 -> #REF! | AC68: =E68-J68+T68-W68 -> #REF!
B69: Trong đó: | F69: =E69 -> 0 | K69: =L69+M69 -> 0 | N69: =O69+P69 -> 0 | O69: =I69-L69 -> 0 | P69: =J69-M69 -> 0 | X69: =W69 -> 0 | AB69: =D69-I69+S69-V69 -> 0 | AC69: =E69-J69+T69-W69 -> 0
A70: 1 | B70: Các dự án giao UBND xã làm chủ đầu tư | C70: =SUM(D70:E70) -> #REF! | D70: =SUM(D71:D78) -> #REF! | E70: =SUM(E71:E78) -> #REF! | F70: =E70 -> #REF! | H70: =SUM(H71:H78) -> #REF! | I70: =SUM(I71:I78) -> #REF! | J70: =SUM(J71:J78) -> #REF! | K70: =L70+M70 -> 4865 | L70: =SUM(L71:L78) -> 4865 | M70: =SUM(M71:M78) -> 0 | N70: =O70+P70 -> #REF! | O70: =I70-L70 -> #REF! | P70: =SUM(P71:P78) -> #REF! | Q70: =SUM(Q71:Q78) -> 164 | R70: =SUM(R71:R78) -> 0 | S70: =SUM(S71:S78) -> 0 | T70: =SUM(T71:T78) -> 0 | U70: =SUM(U71:U78) -> #REF! | V70: =SUM(V71:V78) -> #REF! | W70: =SUM(W71:W78) -> #REF! | X70: =W70 -> #REF! | AB70: =D70-I70+S70-V70 -> #REF! | AC70: =E70-J70+T70-W70 -> #REF!
A71: 2.1 | B71: UBND xã Đồng Đăng (Ban QLDA KV 2 cũ) | C71: =SUM(D71:E71) -> #REF! | D71: =#REF! -> #REF! | E71: =#REF! -> #REF! | F71: =E71 -> #REF! | H71: =SUM(I71:J71) -> #REF! | I71: =#REF! -> #REF! | J71: =#REF! -> #REF! | K71: =L71+M71 -> 3861 | L71: 3861 | M71: 0 | N71: =O71+P71 -> #REF! | O71: =I71-L71 -> #REF! | P71: 0 | R71: =SUM(S71:T71) -> 0 | S71: 0 | T71: 0 | U71: =SUM(V71:W71) -> #REF! | V71: =D71-I71+S71 -> #REF! | W71: =E71-J71+T71 -> #REF! | X71: =W71 -> #REF! | AB71: =D71-I71+S71-V71 -> #REF! | AC71: =E71-J71+T71-W71 -> #REF!
A72: 2.2 | B72: UBND xã Lộc Bình (Ban QLDA KV 3 cũ) | C72: =SUM(D72:E72) -> #REF! | D72: =#REF! -> #REF! | E72: =#REF! -> #REF! | F72: =E72 -> #REF! | H72: =SUM(I72:J72) -> #REF! | I72: =#REF! -> #REF! | J72: =#REF! -> #REF! | K72: =L72+M72 -> 222 | L72: 222 | N72: =O72+P72 -> #REF! | O72: =I72-L72 -> #REF! | P72: 0 | Q72: 164 | R72: =SUM(S72:T72) -> 0 | S72: 0 | T72: 0 | U72: =SUM(V72:W72) -> #REF! | V72: =D72-I72+S72 -> #REF! | W72: =E72-J72+T72 -> #REF! | X72: =W72 -> #REF! | AB72: =D72-I72+S72-V72 -> #REF! | AC72: =E72-J72+T72-W72 -> #REF!
A73: 2.3 | B73: UBND xã Đình Lập (Ban QLDA KV 4 cũ) | C73: =SUM(D73:E73) -> #REF! | D73: =#REF! -> #REF! | E73: =#REF! -> #REF! | F73: =E73 -> #REF! | H73: =SUM(I73:J73) -> #REF! | I73: =#REF! -> #REF! | J73: =#REF! -> #REF! | K73: =L73+M73 -> 1 | L73: 1 | M73: 0 | N73: =O73+P73 -> #REF! | O73: 0 | P73: =J73-M73 -> #REF! | R73: =SUM(S73:T73) -> 0 | S73: 0 | T73: 0 | U73: =SUM(V73:W73) -> #REF! | V73: =D73-I73+S73 -> #REF! | W73: =E73-J73+T73 -> #REF! | X73: =W73 -> #REF! | AB73: =D73-I73+S73-V73 -> #REF! | AC73: =E73-J73+T73-W73 -> #REF!
A74: 2.6 | B74: UBND xã Na Sầm (Ban QLDA KV 7 cũ) | C74: =SUM(D74:E74) -> #REF! | D74: =#REF! -> #REF! | E74: =#REF! -> #REF! | F74: =E74 -> #REF! | H74: =SUM(I74:J74) -> #REF! | I74: =#REF! -> #REF! | J74: =#REF! -> #REF! | K74: =L74+M74 -> 0 | L74: 0 | M74: 0 | N74: =O74+P74 -> #REF! | O74: =I74-L74 -> #REF! | P74: =J74-M74 -> #REF! | Q74: 0 | R74: =SUM(S74:T74) -> 0 | S74: 0 | T74: 0 | U74: =SUM(V74:W74) -> #REF! | V74: =D74-I74+S74 -> #REF! | W74: =E74-J74+T74 -> #REF! | X74: =W74 -> #REF! | AB74: =D74-I74+S74-V74 -> #REF! | AC74: =E74-J74+T74-W74 -> #REF!
A75: 2.7 | B75: UBND xã Thất Khê (Ban QLDA KV 8 cũ) | C75: =SUM(D75:E75) -> 7457.3002 | D75: 7456.3972 | E75: 0.903 | F75: =E75 -> 0.903 | H75: =SUM(I75:J75) -> 2059.091 | I75: 2059.091 | K75: =L75+M75 -> 0 | L75: 0 | M75: 0 | N75: =O75+P75 -> 2059.091 | O75: =I75-L75 -> 2059.091 | P75: =J75-M75 -> 0 | Q75: 0 | R75: =SUM(S75:T75) -> 0 | S75: 0 | T75: 0 | U75: =SUM(V75:W75) -> 5398.2092 | V75: =D75-I75+S75 -> 5397.3062 | W75: =E75-J75+T75 -> 0.903 | X75: =W75 -> 0.903 | AB75: =D75-I75+S75-V75 -> 0 | AC75: =E75-J75+T75-W75 -> 0
A76: 2.8 | B76: UBND xã Văn Quan (Ban QLDA KV 9 cũ) | C76: =SUM(D76:E76) -> 0 | F76: =E76 -> 0 | H76: =SUM(I76:J76) -> 0 | K76: =L76+M76 -> 0 | L76: 0 | M76: 0 | N76: =O76+P76 -> 0 | O76: =I76-L76 -> 0 | P76: =J76-M76 -> 0 | Q76: 0 | R76: =SUM(S76:T76) -> 0 | S76: 0 | T76: 0 | U76: =SUM(V76:W76) -> 0 | V76: =D76-I76+S76 -> 0 | W76: =E76-J76+T76 -> 0 | X76: =W76 -> 0 | AB76: =D76-I76+S76-V76 -> 0 | AC76: =E76-J76+T76-W76 -> 0
A77: 2.9 | B77: UBND xã Bình Gia (Ban QLDA KV 10 cũ) | C77: =SUM(D77:E77) -> #REF! | D77: =#REF! -> #REF! | E77: =#REF! -> #REF! | F77: =E77 -> #REF! | H77: =SUM(I77:J77) -> #REF! | I77: =#REF! -> #REF! | J77: =#REF! -> #REF! | K77: =L77+M77 -> 0 | L77: 0 | M77: 0 | N77: =O77+P77 -> #REF! | O77: =I77-L77 -> #REF! | P77: =J77-M77 -> #REF! | Q77: 0 | R77: =SUM(S77:T77) -> 0 | S77: 0 | T77: 0 | U77: =SUM(V77:W77) -> #REF! | V77: =D77-I77+S77 -> #REF! | W77: =E77-J77+T77 -> #REF! | X77: =W77 -> #REF! | AB77: =D77-I77+S77-V77 -> #REF! | AC77: =E77-J77+T77-W77 -> #REF!
A78: 2.10 | B78: UBND xã Bắc Sơn (Ban QLDA KV 11 cũ) | C78: =SUM(D78:E78) -> #REF! | D78: =#REF! -> #REF! | E78: =#REF! -> #REF! | F78: =E78 -> #REF! | H78: =SUM(I78:J78) -> #REF! | I78: =#REF! -> #REF! | J78: =#REF! -> #REF! | K78: =L78+M78 -> 781 | L78: 781 | M78: 0 | N78: =O78+P78 -> #REF! | O78: =I78-L78 -> #REF! | P78: =J78-M78 -> #REF! | Q78: 0 | R78: =SUM(S78:T78) -> 0 | S78: 0 | T78: 0 | U78: =SUM(V78:W78) -> #REF! | V78: =D78-I78+S78 -> #REF! | W78: =E78-J78+T78 -> #REF! | X78: =W78 -> #REF! | AB78: =D78-I78+S78-V78 -> #REF! | AC78: =E78-J78+T78-W78 -> #REF!
A79: 2 | B79: Khối xã: | C79: =SUM(D79:E79) -> 0 | F79: =E79 -> 0 | K79: =L79+M79 -> 0 | N79: =O79+P79 -> 0 | O79: =I79-L79 -> 0 | P79: =J79-M79 -> 0 | V79: =D79-I79+S79 -> 0 | W79: =E79-J79+T79 -> 0 | X79: =W79 -> 0 | AB79: =D79-I79+S79-V79 -> 0 | AC79: =E79-J79+T79-W79 -> 0
C80: =SUM(D80:E80) -> 0 | F80: =E80 -> 0 | K80: =L80+M80 -> 0 | N80: =O80+P80 -> 0 | O80: =I80-L80 -> 0 | P80: =J80-M80 -> 0 | V80: =D80-I80+S80 -> 0 | W80: =E80-J80+T80 -> 0 | X80: =W80 -> 0 | AB80: =D80-I80+S80-V80 -> 0 | AC80: =E80-J80+T80-W80 -> 0
A81: V | B81: Dự án 6: Bảo tồn, phát huy giá trị văn hóa truyền thống tốt đẹp của các dân tộc thiểu số gắn với phát triển du lịch | C81: =C83+C85 -> 8220 | D81: =D83+D85 -> 7698 | E81: =E83+E85 -> 522 | F81: =E81 -> 522 | H81: =H83+H85 -> 1508 | I81: =I83+I85 -> 1508 | J81: =J83+J85 -> 0 | K81: =K83+K85 -> 1508 | L81: =L83+L85 -> 1508 | M81: =M83+M85 -> 0 | N81: =N83+N85 -> 0 | O81: =O83+O85 -> 0 | ... W81: =W83+W85 -> 522 | X81: =W81 -> 522 | AB81: =D81-I81+S81-V81 -> 0 | AC81: =E81-J81+T81-W81 -> 0
B82: Trong đó: | F82: =E82 -> 0 | K82: =L82+M82 -> 0 | N82: =O82+P82 -> 0 | O82: =I82-L82 -> 0 | P82: =J82-M82 -> 0 | Q82: 0 | X82: =W82 -> 0 | AB82: =D82-I82+S82-V82 -> 0 | AC82: =E82-J82+T82-W82 -> 0
A83: 1 | B83: Khối tỉnh | C83: =C84 -> 8207 | D83: =D84 -> 7685 | E83: =E84 -> 522 | F83: =E83 -> 522 | H83: =H84 -> 1495 | I83: =I84 -> 1495 | J83: =J84 -> 0 | K83: =K84 -> 1495 | L83: =L84 -> 1495 | M83: =M84 -> 0 | N83: =N84 -> 0 | O83: =O84 -> 0 | P83: =P84 -> 0 | Q83: 0 | R83: =R84 -> 0 | S83: =S84 -> 0 | T83: =T84 -> 0 | U83: =U84 -> 6712 | V83: =V84 -> 6190 | W83: =W84 -> 522 | X83: =W83 -> 522 | AB83: =D83-I83+S83-V83 -> 0 | AC83: =E83-J83+T83-W83 -> 0
B84: Sở Văn hóa, Thể thao và Du lịch | C84: =SUM(D84:E84) -> 8207 | D84: ='B II.DT.2-KTinh'!D26 -> 7685 | E84: ='B II.DT.2-KTinh'!E26 -> 522 | F84: =E84 -> 522 | H84: =SUM(I84:J84) -> 1495 | I84: ='B II.DT.2-KTinh'!G26 -> 1495 | J84: ='B II.DT.2-KTinh'!H26 -> 0 | K84: =L84+M84 -> 1495 | L84: 1495 | N84: =O84+P84 -> 0 | O84: =I84-L84 -> 0 | P84: =J84-M84 -> 0 | Q84: 0 | R84: 0 | S84: 0 | T84: 0 | U84: =C84-H84+R84 -> 6712 | V84: =D84-I84+S84 -> 6190 | W84: =E84-J84+T84 -> 522 | X84: =W84 -> 522 | AB84: =D84-I84+S84-V84 -> 0 | AC84: =E84-J84+T84-W84 -> 0
A85: 2 | B85: Khối xã: | C85: =C86 -> 13 | D85: =D86 -> 13 | E85: =E86 -> 0 | F85: =E85 -> 0 | H85: =H86 -> 13 | I85: =I86 -> 13 | J85: =J86 -> 0 | K85: =K86 -> 13 | L85: =L86 -> 13 | M85: =M86 -> 0 | N85: =N86 -> 0 | O85: =O86 -> 0 | ... W85: =W86 -> 0 | X85: =W85 -> 0 | AB85: =D85-I85+S85-V85 -> 0 | AC85: =E85-J85+T85-W85 -> 0
B86: Xã Nhất Hoà | C86: =D86+E86 -> 13 | D86: 13 | F86: =E86 -> 0 | H86: =I86+J86 -> 13 | I86: 13 | J86: 0 | K86: =L86+M86 -> 13 | L86: 13 | M86: 0 | N86: =O86+P86 -> 0 | O86: =I86-L86 -> 0 | P86: =J86-M86 -> 0 | Q86: 0 | R86: 0 | S86: 0 | T86: 0 | U86: =C86-H86+R86 -> 0 | V86: =D86-I86+S86 -> 0 | W86: =E86-J86+T86 -> 0 | X86: =W86 -> 0 | AB86: =D86-I86+S86-V86 -> 0 | AC86: =E86-J86+T86-W86 -> 0
B87: Dự án 7.Chăm sóc sức khỏe Nhân dân, nâng cao thể trạng, tầm vóc người DTTS; phòng chống suy dinh dưỡng trẻ em | C87: =C88 -> 28619 | D87: =D88 -> 28619 | E87: =E88 -> 0 | F87: =E87 -> 0 | H87: =H88 -> 59 | I87: =I88 -> 59 | J87: =J88 -> 0 | K87: =K88 -> 0 | L87: =L88 -> 0 | M87: =M88 -> 0 | N87: =N88 -> 59 | O87: =O88 -> 59 | ... W87: =W88 -> 0 | X87: =W87 -> 0 | AB87: =D87-I87+S87-V87 -> 0 | AC87: =E87-J87+T87-W87 -> 0
B88: Sở Y tế | C88: =D88+E88 -> 28619 | D88: 28619 | E88: 0 | F88: =E88 -> 0 | H88: =I88+J88 -> 59 | I88: 59 | J88: 0 | K88: 0 | L88: 0 | M88: 0 | N88: =O88+P88 -> 59 | O88: 59 | P88: 0 | R88: 0 | S88: 0 | T88: 0 | U88: =C88-H88+R88 -> 28560 | V88: =D88-I88+S88 -> 28560 | W88: =E88-J88+T88 -> 0 | X88: =W88 -> 0 | AB88: =D88-I88+S88-V88 -> 0 | AC88: =E88-J88+T88-W88 -> 0
A89: VII | B89: Dự án 10: Truyền thông, tuyên truyền, vận động trong vùng đồng bào dân tộc thiểu số và miền núi. Kiểm tra, giám sát đánh giá việc tổ chức thực hiện Chương trình | C89: =SUM(D89:E89) -> 3.508358 | D89: =D90 -> 1.643153 | E89: =E90 -> 1.865205 | F89: =E89 -> 1.865205 | H89: =H90 -> 3.508358 | I89: =I90 -> 1.643153 | J89: =J90 -> 1.865205 | K89: =L89+M89 -> 1.643153 | L89: =L90 -> 1.643153 | M89: =M90 -> 0 | N89: =O89+P89 -> 1.865205 | O89: =I89-L89 -> 0 | P89: =J89-M89 -> 1.865205 | R89: =R90 -> 0 | S89: =S90 -> 0 | T89: =T90 -> 0 | U89: =C89-H89+R89 -> 0 | V89: =D89-I89+S89 -> 0 | W89: =E89-J89+T89 -> 0 | X89: =W89 -> 0 | AB89: =D89-I89+S89-V89 -> 0 | AC89: =E89-J89+T89-W89 -> 0
B90: Tiểu dự án 2: Ứng dụng công nghệ thông tin hỗ trợ phát triển kinh tế - xã hội và đảm bảo an ninh trật tự vùng đồng bào dân tộc thiểu số và miền núi | C90: =SUM(D90:E90) -> 3.508358 | D90: =D92 -> 1.643153 | E90: =E92 -> 1.865205 | F90: =E90 -> 1.865205 | H90: =H92 -> 3.508358 | I90: =I92 -> 1.643153 | J90: =J92 -> 1.865205 | K90: =K92 -> 1.643153 | L90: =L92 -> 1.643153 | N90: =O90+P90 -> 1.865205 | O90: =I90-L90 -> 0 | P90: =J90-M90 -> 1.865205 | R90: =R92 -> 0 | S90: =S92 -> 0 | T90: =T92 -> 0 | U90: =C90-H90+R90 -> 0 | V90: =D90-I90+S90 -> 0 | W90: =E90-J90+T90 -> 0 | X90: =W90 -> 0 | AB90: =D90-I90+S90-V90 -> 0 | AC90: =E90-J90+T90-W90 -> 0
B91: Trong đó: | F91: =E91 -> 0 | X91: =W91 -> 0 | AB91: =D91-I91+S91-V91 -> 0 | AC91: =E91-J91+T91-W91 -> 0
A92: VII.1 | B92: Khối tỉnh: | C92: =SUM(C93:C94) -> 3.508358 | D92: =SUM(D93:D94) -> 1.643153 | E92: =SUM(E93:E94) -> 1.865205 | F92: =E92 -> 1.865205 | H92: =SUM(H93:H94) -> 3.508358 | I92: =I93+I94 -> 1.643153 | J92: =J93+J94 -> 1.865205 | K92: =K93+K94 -> 1.643153 | L92: =L93+L94 -> 1.643153 | M92: =M93+M94 -> 0 | N92: =N93+N94 -> 1.865205 | O92: =O93+O94 -> 0 | P92: =P93+P94 -> 1.865205 | Q92: 0 | R92: 0 | S92: 0 | T92: 0 | U92: =C92-H92+R92 -> 0 | V92: =D92-I92+S92 -> 0 | W92: =E92-J92+T92 -> 0 | X92: =W92 -> 0 | AB92: =D92-I92+S92-V92 -> 0 | AC92: =E92-J92+T92-W92 -> 0
A93: 1 | B93: Sở Khoa học và Công nghệ | C93: =SUM(D93:E93) -> 1.736731 | D93: ='B II.DT.2-KTinh'!D37 -> 0.805526 | E93: ='B II.DT.2-KTinh'!E37 -> 0.931205 | F93: =E93 -> 0.931205 | H93: =I93+J93 -> 1.736731 | I93: ='B II.DT.2-KTinh'!G37 -> 0.805526 | J93: ='B II.DT.2-KTinh'!H37 -> 0.931205 | K93: =L93+M93 -> 0.805526 | L93: =I93 -> 0.805526 | M93: 0 | N93: =O93+P93 -> 0.931205 | O93: =I93-L93 -> 0 | P93: =J93-M93 -> 0.931205 | Q93: 0 | R93: =S93+T93 -> 0 | S93: 0 | T93: 0 | U93: =C93-H93+R93 -> 0 | V93: =D93-I93+S93 -> 0 | W93: =E93-J93+T93 -> 0 | X93: =W93 -> 0 | AB93: =D93-I93+S93-V93 -> 0 | AC93: =E93-J93+T93-W93 -> 0
A94: 2 | B94: Sở Dân tộc và Tôn giáo | C94: =SUM(D94:E94) -> 1.771627 | D94: ='B II.DT.2-KTinh'!D40 -> 0.837627 | E94: ='B II.DT.2-KTinh'!E40 -> 0.934 | F94: =E94 -> 0.934 | H94: =I94+J94 -> 1.771627 | I94: ='B II.DT.2-KTinh'!G40 -> 0.837627 | J94: ='B II.DT.2-KTinh'!H40 -> 0.934 | K94: =L94+M94 -> 0.837627 | L94: =I94 -> 0.837627 | M94: 0 | N94: =O94+P94 -> 0.934 | O94: =I94-L94 -> 0 | P94: =J94-M94 -> 0.934 | Q94: 0 | R94: =S94+T94 -> 0 | S94: 0 | T94: 0 | U94: =C94-H94+R94 -> 0 | V94: =D94-I94+S94 -> 0 | W94: =E94-J94+T94 -> 0 | X94: =W94 -> 0 | AB94: =D94-I94+S94-V94 -> 0 | AC94: =E94-J94+T94-W94 -> 0
A95: A.2 | B95: Vốn của danh mục dự án thuộc phạm vi điều chỉnh | C95: =D95+E95 -> #REF! | D95: =D21-D22 -> #REF! | E95: =E21-E22 -> #REF! | U95: =V95+W95 -> #REF! | V95: =D95+S95-I95 -> #REF! | W95: =E95+T95-J95 -> #REF! | X95: =W95 -> #REF! | AB95: =D95-I95+S95-V95 -> #REF! | AC95: =E95-J95+T95-W95 -> #REF!
B96: TỔNG CỘNG | C96: =C97+C116 -> #REF! | D96: =D97+D116 -> 104357 | E96: =E97+E116 -> #REF! | H96: =H97+H116 -> #REF! | I96: =I97+I116 -> #REF! | J96: =J97+J116 -> #REF! | K96: =K97+K116 -> 25465.18 | L96: =L97+L116 -> 20219 | M96: =M97+M116 -> 5246.18 | N96: =N97+N116 -> #REF! | O96: =O97+O116 -> #REF! | P96: =P97+P116 -> #REF! | R96: =R97+R116 -> #REF! | S96: =S97+S116 -> #REF! | T96: =T97+T116 -> #REF! | U96: =U97+U116 -> #REF! | V96: =V97+V116 -> #REF! | W96: =W97+W116 -> #REF! | X96: =W96 -> #REF! | AB96: =D96-I96+S96-V96 -> #REF! | AC96: =E96-J96+T96-W96 -> #REF!
A97: B | B97: CHƯƠNG TRÌNH MTQG XÂY DỰNG NÔNG THÔN MỚI | C97: =D97+E97 -> 116608 | D97: 60757 | E97: 55851 | F97: =E97 -> 55851 | H97: =H99+H100 -> #REF! | I97: =I99+I100 -> #REF! | J97: =J99+J100 -> #REF! | K97: =L97+M97 -> 21436.18 | L97: =L99+L100 -> 16190 | M97: =M99+M100 -> 5246.18 | N97: =N99+N100 -> #REF! | O97: =O99+O100 -> #REF! | P97: =P99+P100 -> #REF! | Q97: 0 | R97: =R99+R100+0.2 -> #REF! | S97: =S99+S100+0.2 -> #REF! | T97: =T99+T100 -> #REF! | U97: =U98+U115 -> #REF! | V97: =V98+V115 -> #REF! | W97: =W98+W115 -> #REF! | X97: =W97 -> #REF! | AB97: =D97-I97+S97-V97 -> #REF! | AC97: =E97-J97+T97-W97 -> #REF!
A98: B.1 | B98: Vốn của danh mục dự án thuộc phạm vi điều chỉnh | C98: =C99+C100 -> #REF! | D98: =D99+D100 -> #REF! | E98: =E99+E100 -> #REF! | F98: =E98 -> #REF! | H98: =H99+H100 -> #REF! | I98: =I99+I100 -> #REF! | J98: =J99+J100 -> #REF! | K98: =K99+K100 -> 21436.18 | L98: =L99+L100 -> 16190 | M98: =M99+M100 -> 5246.18 | N98: =N99+N100 -> #REF! | O98: =O99+O100 -> #REF! | P98: =P99+P100 -> #REF! | Q98: 0 | R98: =R99+R100 -> #REF! | S98: =S99+S100 -> #REF! | T98: =T99+T100 -> #REF! | U98: =V98+W98 -> #REF! | V98: =D98+S98-I98 -> #REF! | W98: =E98+T98-J98 -> #REF! | X98: =W98 -> #REF! | AB98: =D98-I98+S98-V98 -> #REF! | AC98: =E98-J98+T98-W98 -> #REF!
A99: I | B99: Khối tỉnh | C99: 0 | D99: 0 | E99: 0 | H99: 0 | I99: 0 | J99: 0 | K99: =L99+M99 -> 0 | L99: 0 | M99: 0 | N99: =O99+P99 -> 0 | O99: 0 | P99: 0 | Q99: 0 | R99: 0 | S99: 0 | T99: 0 | U99: 0 | V99: 0 | W99: 0 | X99: =W99 -> 0 | AB99: =D99-I99+S99-V99 -> 0 | AC99: =E99-J99+T99-W99 -> 0
A100: II | B100: Khối xã | C100: =D100+E100 -> #REF! | D100: =SUM(D101:D114) -> #REF! | E100: =SUM(E101:E114) -> #REF! | F100: =SUM(F101:F114) -> #REF! | G100: =SUM(G101:G114) -> 0 | H100: =SUM(H101:H114) -> #REF! | I100: =SUM(I101:I114) -> #REF! | J100: =SUM(J101:J114) -> #REF! | K100: =SUM(K101:K114) -> 21436.18 | ... W100: =SUM(W101:W114) -> #REF! | X100: =W100 -> #REF! | AB100: =D100-I100+S100-V100 -> #REF! | AC100: =E100-J100+T100-W100 -> #REF!
A101: 1 | B101: Phường Lương Văn Tri | C101: =D101+E101 -> 779 | D101: 779 | E101: 0 | F101: =E101 -> 0 | H101: =I101+J101 -> 779 | I101: ='[53]Biểu I NTM GNBV'!G15 -> 779 | J101: ='[53]Biểu I NTM GNBV'!H15 -> 0 | K101: =L101+M101 -> 779 | L101: ='[53]Biểu I NTM GNBV'!J15 -> 779 | N101: =O101+P101 -> 0 | O101: =I101-L101 -> 0 | P101: =J101-M101 -> 0 | Q101: 0 | R101: 0 | S101: ='[53]Biểu I NTM GNBV'!Q15 -> 0 | T101: ='[53]Biểu I NTM GNBV'!R15 -> 0 | U101: =V101+W101 -> 0 | V101: =D101+S101-I101 -> 0 | W101: =E101+T101-J101 -> 0 | X101: =W101 -> 0 | AB101: =D101-I101+S101-V101 -> 0 | AC101: =E101-J101+T101-W101 -> 0
...

Sheet B II.DT.2
A1: BIỂU II.ĐT.2. ĐIỀU CHỈNH KẾ HOẠCH VỐN CTMTQG PHÁT TRIỂN KINH TẾ XÃ HỘI VÙNG ĐỒNG BÀO DÂN TỘC THIỂU SỐ VÀ MIỀN NÚI CHUYỂN SANG GIAI ĐOẠN 2026-2030
A3: ='[53]Biểu I NTM GNBV'!A3:Y3 -> (Kèm theo Tờ trình số: /TTr-STC ngày / /2026 của Sở Tài chính)
A4: STT | B4: Đơn vị | C4: Tổng số | D4: NSTW | E4: NST | F4: Ghi chú
A5: I | B5: Số vốn thu về sau khi đã bổ sung cho các đơn vị thực hiện nhiệm vụ giai đoạn 2021-2030 | C5: ='Bieu II.DT.1'!N10 -> #REF! | D5: ='Bieu II.DT.1'!O10 -> #REF! | E5: ='Bieu II.DT.1'!P10 -> #REF!
A6: II | B6: Phân bổ | C6: =D6+E6 -> #REF! | D6: =D7+D10 -> 11249 | E6: =E5 -> #REF!
A7: 1 | B7: Xã Bắc Sơn | C7: =D7+E7 -> 3000 | D7: 3000 | E7: =E9 -> 0
A8: - | B8: Nội dung 1, nội dung thành phần 2 | C8: =D8+E8 -> 2020 | D8: =D9 -> 2020
B9: Công trình đường Tân Tiến - Thủy Hội, xã Bắc Sơn, tỉnh Lạng Sơn | C9: =D9+E9 -> 2020 | D9: 2020
A10: 2 | B10: Xã Lộc Bình | C10: =D10+E10 -> #REF! | D10: 8249 | E10: =E11+E13+E15 -> #REF!
A11: 3.1 | B11: Nội dung 10, nội dung thành phần 2, Hợp phần thứ nhất : Phát triển công trình cấp nước sạch tập trung… | C11: =C12 -> #REF! | D11: 1408 | E11: =E12 -> #REF!
B12: Cải tạo, sửa chữa hệ thống cấp nước sinh hoạt các thôn | C12: =SUM(D12:E12) -> #REF! | D12: 1411 | E12: =E5 -> #REF!
A13: 3.2 | B13: Nội dung 01, nội dung thành phần 1, Hợp phần thứ nhất: Đầu tư xây dựng mới; đầu tư cải tạo, nâng cấp; đầu tư cơ sở vật chất, trang thiết bị cho: Các cơ sở giáo dục mầm non; các trường phổ thông… | C13: =C14 -> 2110 | D13: =D14 -> 2110
B14: Cải tạo, nâng cấp Trường Tiểu học Minh Khai | C14: =SUM(D14:E14) -> 2110 | D14: 2110
A15: 3.3 | B15: Nội dung 04, nội dung thành phần 1, Hợp phần thứ hai : Đầu tư xây dựng, cải tạo thiết chế văn hóa, thể thao… | C15: =SUM(D15:E15) -> 3000 | D15: 3000
B16: Xây mới Nhà Văn hóa thôn Khòn Quắc | C16: =SUM(D16:E16) -> 1000 | D16: 1000
B17: Sửa chữa Nhà văn hóa thôn Tằm Lịp | C17: =SUM(D17:E17) -> 600 | D17: 600
B18: Sửa chữa nhà văn hóa thôn Bản Khiếng | C18: =SUM(D18:E18) -> 400 | D18: 400
B19: Xây mới Nhà văn hóa thôn Đoàn Kết | C19: =SUM(D19:E19) -> 1000 | D19: 1000
A20: III | B20: Số thu hồi về NS tỉnh | C20: =C5-C6 -> #REF! | D20: =D5-D6 -> #REF! | E20: =E5-E6 -> #REF!

Sheet B II.DT.2-KTinh
A2: PHỤ BIỂU II.ĐT.2. ĐIỀU CHỈNH KẾ HOẠCH TRUNG HẠN GIAI ĐOẠN 2026-2030 VÀ NĂM 2026 CÁC NHIỆM VỤ, DỰ ÁN THUỘC CHƯƠNG TRÌNH MỤC TIÊU QUỐC GIA (KHỐI SỞ, NGÀNH)
A3: ='Biểu I.PB_2630 NSDP'!A4 -> (Kèm theo Tờ trình số: 305/ TTr-UBND ngày 10 /10/2026 của UBND tỉnh)
V4: Đơn vị: triệu đồng
A5: TT | B5: Dự án thành phần/ nội dung hoạt động | C5: Kế hoạch vốn Chương trình được phép sử dụng trong năm 2026 | F5: Điều chỉnh | S5: Kế hoạch vốn Chương trình được phép sử dụng trong năm 2026 | V5: Ghi chú
C6: Tổng cộng | D6: Trong đó | F6: Điều chỉnh giảm, trong đó: | P6: Tăng bổ sung | S6: Tổng cộng | T6: Trong đó
D7: NSTW | E7: NST | F7: Tổng số | I7: Giảm để tăng, bổ sung cho các dự án giai đoạn 2021-2025 | L7: Giảm để phân bổ cho các dự án giai đoạn 2026-2030 | O7: Giảm do hụt thu nguồn thu sử dụng đất | T7: NSTW | U7: NST
F8: Tổng cộng | G8: NSTW | H8: NST | I8: Tổng cộng | J8: NSTW | K8: NST | L8: Tổng cộng | M8: NSTW | N8: NST | O8: NST | P8: Tổng cộng | Q8: NSTW | R8: NST
A9: 1 | B9: 2 | C9: 3 | D9: 5 | E9: 6 | F9: 7 | G9: 8 | H9: 9 | I9: 10 | J9: 11 | K9: 12 | L9: 13 | M9: 14 | N9: 15 | O9: 16 | P9: 17 | Q9: 18 | R9: 19 | S9: 20 | T9: 21 | U9: 22 | V9: 23
A10: A | B10: CHƯƠNG TRÌNH MTQG PHÁT TRIỂN KT-XH VÙNG ĐỒNG BÀO DTTS&MN | C10: =SUM(D10:E10) -> #REF! | D10: =D11+D12+D13+D15+D17+D18 -> #REF! | E10: =E11+E12+E13+E15+E17+E18 -> #REF! | F10: =F11+F12+F13+F15+F17+F18+0.3 -> #REF! | G10: =G11+G12+G13+G15+G17+G18 -> #REF! | H10: =+K10+N10+O10 -> #REF! | I10: =I11+I12+I13+I15+I17+I18 -> #REF! | J10: =J11+J12+J13+J15+J17+J18 -> #REF! | K10: =K11+K12+K13+K15+K17+K18 -> #REF! | L10: =L11+L12+L13+L15+L17+L18 -> #REF! | M10: =M11+M12+M13+M15+M17+M18 -> #REF! | N10: =N11+N12+N13+N15+N17+N18 -> #REF! | O10: =O11+O12+O13+O15+O17+O18 -> #REF! | P10: =P11+P12+P13+P15+P17 -> #REF! | Q10: =Q11+Q12+Q13+Q15+Q17 -> #REF! | R10: =R11+R12+R13+R15+R17 -> #REF! | S10: =C10-F10+P10 -> #REF! | T10: =D10-G10+Q10 -> #REF! | U10: =E10-H10+R10 -> #REF!
A11: I | B11: Dự án 1: Giải quyết tình trạng thiếu đất ở, nhà ở, đất sản xuất, nước sinh hoạt | C11: =SUM(D11:E11) -> 12715.404 | D11: 11515.889 | E11: 1199.515 | F11: =SUM(G11:H11) -> #REF! | G11: =#REF! -> #REF! | H11: =#REF! -> #REF! | I11: =J11+K11 -> #REF! | J11: =#REF! -> #REF! | K11: =#REF! -> #REF! | L11: =#REF! -> #REF! | M11: =#REF! -> #REF! | N11: =#REF! -> #REF! | O11: =#REF! -> #REF! | P11: =#REF! -> #REF! | Q11: =#REF! -> #REF! | ... U11: =#REF! -> #REF!
A12: II | B12: Dự án 2: Quy hoạch, sắp xếp, bố trí, ổn định dân cư ở những nơi cần thiết | C12: =SUM(D12:E12) -> 54367.777 | D12: 54197.777 | E12: 170 | F12: =SUM(G12:H12) -> #REF! | G12: =#REF! -> #REF! | H12: =#REF! -> #REF! | I12: =#REF! -> #REF! | J12: =#REF! -> #REF! | K12: =#REF! -> #REF! | L12: =#REF! -> #REF! | M12: =#REF! -> #REF! | N12: =#REF! -> #REF! | O12: =#REF! -> #REF! | P12: =SUM(Q12:R12) -> #REF! | Q12: =#REF! -> #REF! | R12: =#REF! -> #REF! | S12: =SUM(T12:U12) -> #REF! | T12: =#REF! -> #REF! | U12: =#REF! -> #REF!
A13: III | B13: Dự án 4: Đầu tư cơ sở hạ tầng thiết yếu, phục vụ sản xuất, đời sống trong vùng đồng bào dân tộc thiểu số và miền núi và các đơn vị sự nghiệp công lập của lĩnh vực dân tộc | C13: =SUM(D13:E13) -> #REF! | D13: =D14 -> #REF! | E13: =E14 -> #REF! | F13: =SUM(G13:H13) -> #REF! | G13: =G14 -> #REF! | H13: =#REF! -> #REF! | I13: =#REF! -> #REF! | J13: =#REF! -> #REF! | K13: =#REF! -> #REF! | L13: =#REF! -> #REF! | M13: =#REF! -> #REF! | N13: =#REF! -> #REF! | O13: =#REF! -> #REF! | P13: =SUM(Q13:R13) -> #REF! | Q13: =#REF! -> #REF! | R13: =#REF! -> #REF! | S13: =SUM(T13:U13) -> #REF! | T13: =#REF! -> #REF! | U13: =#REF! -> #REF!
A14: 1 | B14: Tiểu dự án 1: Đầu tư cơ sở hạ tầng thiết yếu, phục vụ sản xuất, đời sống trong vùng đồng bào dân tộc thiểu số và miền núi | C14: =SUM(D14:E14) -> #REF! | D14: =#REF! -> #REF! | E14: =#REF! -> #REF! | F14: =SUM(G14:H14) -> #REF! | G14: =#REF! -> #REF! | H14: =#REF! -> #REF! | I14: =#REF! -> #REF! | J14: =#REF! -> #REF! | K14: =#REF! -> #REF! | L14: =#REF! -> #REF! | M14: =#REF! -> #REF! | N14: 0 | O14: =#REF! -> #REF! | P14: =SUM(Q14:R14) -> #REF! | Q14: =#REF! -> #REF! | R14: =#REF! -> #REF! | S14: =SUM(T14:U14) -> #REF! | T14: =#REF! -> #REF! | U14: =#REF! -> #REF!
A15: IV | B15: Dự án 5: Phát triển giáo dục đào tạo nâng cao chất lượng nguồn nhân lực | C15: =SUM(D15:E15) -> 23405.025 | D15: 21429.188 | E15: 1975.837 | F15: =SUM(G15:H15) -> #REF! | G15: =#REF! -> #REF! | H15: =#REF! -> #REF! | I15: =#REF! -> #REF! | J15: =#REF! -> #REF! | K15: =#REF! -> #REF! | L15: =#REF! -> #REF! | M15: =#REF! -> #REF! | N15: =#REF! -> #REF! | O15: 164 | P15: =SUM(Q15:R15) -> #REF! | Q15: =#REF! -> #REF! | R15: =#REF! -> #REF! | S15: =SUM(T15:U15) -> #REF! | T15: =#REF! -> #REF! | U15: =#REF! -> #REF!
A16: 1 | B16: Tiểu dự án 1: Đổi mới hoạt động, củng cố phát triển các trường phổ thông dân tộc nội trú, trường phổ thông dân tộc bán trú, trường phổ thông có học sinh ở bán trú và xóa mù chữ cho người dân vùng đồng bào dân tộc thiểu số | C16: =SUM(D16:E16) -> 23405.025 | D16: 21429.188 | E16: 1975.837 | F16: =SUM(G16:H16) -> #REF! | G16: =#REF! -> #REF! | H16: =#REF! -> #REF! | I16: =#REF! -> #REF! | J16: =#REF! -> #REF! | K16: =#REF! -> #REF! | L16: =#REF! -> #REF! | M16: =#REF! -> #REF! | N16: 0 | O16: =#REF! -> #REF! | P16: =SUM(Q16:R16) -> #REF! | Q16: =#REF! -> #REF! | R16: =#REF! -> #REF! | S16: =SUM(T16:U16) -> #REF! | T16: =#REF! -> #REF! | U16: =#REF! -> #REF!
A17: V | B17: Dự án 6: Bảo tồn, phát huy giá trị văn hóa truyền thống tốt đẹp của các dân tộc thiểu số gắn với phát triển du lịch | C17: =SUM(D17:E17) -> 12199.551 | D17: 11684.805 | E17: 514.7463 | F17: =SUM(G17:H17) -> 1495 | G17: =G24 -> 1495 | H17: =H24 -> 0 | I17: =I24 -> 1495 | J17: =J24 -> 1495 | K17: =K24 -> 0 | L17: =L24 -> 0 | M17: =M24 -> 0 | N17: =N24 -> 0 | P17: =SUM(Q17:R17) -> 0 | Q17: =Q24 -> 0 | R17: =R24 -> 0 | S17: =SUM(T17:U17) -> 6712 | T17: =T24 -> 6190 | U17: =U24 -> 522
A18: VII | B18: Dự án 10: Truyền thông, tuyên truyền, vận động trong vùng đồng bào dân tộc thiểu số và miền núi. Kiểm tra, giám sát đánh giá việc tổ chức thực hiện Chương trình | C18: =SUM(D18:E18) -> 2751.5635 | D18: 2561.6983 | E18: 189.8652 | F18: =SUM(G18:H18) -> 3.508358 | G18: =G34 -> 1.643153 | H18: =H34 -> 1.865205 | I18: =I34 -> 1.643153 | J18: =J34 -> 1.643153 | K18: =K34 -> 0 | L18: =L34 -> 1.865205 | M18: =M34 -> 0 | N18: =N34 -> 1.865205 | P18: =P19 -> 0 | Q18: =Q19 -> 0 | R18: =R19 -> 0 | S18: =S19 -> 0 | T18: =T19 -> 0 | U18: =U19 -> 0 | V18: =V19 -> #REF!
B19: Tiểu dự án 2: Ứng dụng công nghệ thông tin hỗ trợ phát triển kinh tế - xã hội và đảm bảo an ninh trật tự vùng đồng bào dân tộc thiểu số và miền núi | C19: =SUM(D19:E19) -> 2751.5635 | D19: 2561.6983 | E19: 189.8652 | F19: =SUM(G19:H19) -> 3.508358 | G19: =G35 -> 1.643153 | H19: =H35 -> 1.865205 | I19: =I35 -> 3.643153 | J19: =J35 -> 1.643153 | K19: =K35 -> 0 | L19: =L35 -> 1.865205 | M19: =M35 -> 0 | N19: =N35 -> 1.865205 | P19: 0 | Q19: 0 | R19: 0 | S19: 0 | T19: 0 | U19: 0 | V19: =#REF! -> #REF!
B20: TỔNG CỘNG | C20: =C21+C42 -> 37107.443 | D20: =D21+D42 -> 36582.647 | E20: =E21+E42 -> 524.7962 | F20: =F21+F42 -> 1835.4434 | G20: =G21+G42 -> 1831.6432 | H20: =H21+H42 -> 1.865205 | I20: =I21+I42 -> 1772.6432 | J20: =J21+J42 -> 1772.6432 | ... U20: =U21+U42 -> 522.931
A21: A | B21: CHƯƠNG TRÌNH MTQG PHÁT TRIỂN KT-XH VÙNG ĐỒNG BÀO DTTS&MN | C21: =C24+C34+C31 -> 36831.443 | D21: =D24+D34+D31 -> 36306.647 | E21: =E24+E34+E31 -> 524.7962 | F21: =F24+F34+F31 -> 1559.4434 | G21: =G24+G34+G31 -> 1555.6432 | H21: =H24+H34+H31 -> 1.865205 | I21: =I24+I34+I31 -> 1496.6432 | J21: =J24+J34+J31 -> 1496.6432 | ... U21: =U24+U34+U31 -> 522.931
A22: 2 | B22: Khối xã: | C22: =SUM(D22:E22) -> 0 | I22: =J22+K22 -> 0 | L22: =M22+N22 -> 0 | M22: =G22-J22 -> 0 | N22: =H22-K22 -> 0 | T22: =D22-G22+Q22 -> 0 | U22: =E22-H22+R22 -> 0
C23: =SUM(D23:E23) -> 0 | I23: =J23+K23 -> 0 | L23: =M23+N23 -> 0 | M23: =G23-J23 -> 0 | N23: =H23-K23 -> 0 | T23: =D23-G23+Q23 -> 0 | U23: =E23-H23+R23 -> 0
A24: I | B24: Dự án 6: Bảo tồn, phát huy giá trị văn hóa truyền thống tốt đẹp của các dân tộc thiểu số gắn với phát triển du lịch | C24: =C26 -> 8207 | D24: =D26 -> 7685 | E24: =E26 -> 522 | F24: =F26 -> 1495 | G24: =G26 -> 1495 | H24: =H26 -> 0 | I24: =I26 -> 1495 | J24: =J26 -> 1495 | ... U24: =U26 -> 522
B25: Trong đó: | I25: =J25+K25 -> 0 | L25: =M25+N25 -> 0 | M25: =G25-J25 -> 0 | N25: =H25-K25 -> 0 | O25: 0
A26: 1 | B26: Sở Văn hóa, Thể thao và Du lịch | C26: =SUM(D26:E26) -> 8207 | D26: =SUM(D27:D30) -> 7685 | E26: =SUM(E27:E30) -> 522 | F26: =SUM(G26:H26) -> 1495 | G26: 1495 | I26: =J26+K26 -> 1495 | J26: =SUM(J27:J30) -> 1495 | K26: 0 | L26: =M26+N26 -> 0 | M26: =G26-J26 -> 0 | N26: =H26-K26 -> 0 | O26: 0 | P26: 0 | Q26: 0 | R26: 0 | S26: =T26+U26 -> 6712 | T26: =D26-G26+Q26 -> 6190 | U26: =E26-H26+R26 -> 522
A27: 1.1 | B27: Đầu tư bảo tồn làng văn hóa truyền thống - Làng đá Thạch Khuyên, xã Xuất Lễ, huyện Cao Lộc (nay là xã Ba Sơn, tỉnh Lạng Sơn) | C27: =SUM(D27:E27) -> 1850 | D27: 1701 | E27: 149 | F27: 50.723055 | G27: 50.723055 | H27: 0 | I27: =J27+K27 -> 51 | J27: 51 | K27: 0 | L27: =M27+N27 -> 0 | M27: 0 | N27: =H27-K27 -> 0 | O27: 0 | P27: 0 | Q27: 0 | R27: 0 | S27: =T27+U27 -> 1799 | T27: 1650 | U27: =E27-H27+R27 -> 149
A28: 1.2 | B28: Bảo tồn, phát huy giá trị văn hóa truyền thống Làng VH du lịch cộng đồng Quỳnh Sơn, xã Bắc Quỳnh (nay là xã Bắc Sơn), tỉnh Lạng Sơn | C28: =SUM(D28:E28) -> 3080 | D28: 3049 | E28: 31 | F28: 1311.0472 | G28: 1311.0472 | H28: 0 | I28: =J28+K28 -> 1311 | J28: 1311 | K28: 0 | L28: =M28+N28 -> 0 | M28: 0 | N28: =H28-K28 -> 0 | O28: 0 | P28: 0 | Q28: 0 | R28: 0 | S28: =T28+U28 -> 1769 | T28: 1738 | U28: =E28-H28+R28 -> 31
A29: 1.3 | B29: Dự án bảo tồn làng VH truyền thống - Thôn Lân Châu, xã Hữu Liên, huyện Hữu Lũng (nay là xã Hưu Liên), tỉnh Lạng Sơn | C29: =SUM(D29:E29) -> 2617 | D29: 2468 | E29: 149 | F29: 129.94738 | G29: 129.94738 | H29: 0 | I29: =J29+K29 -> 130 | J29: 130 | K29: 0 | L29: =M29+N29 -> 0 | M29: 0 | N29: =H29-K29 -> 0 | O29: 0 | P29: 0 | Q29: 0 | R29: 0 | S29: =T29+U29 -> 2487 | T29: 2338 | U29: =E29-H29+R29 -> 149
A30: 1.4 | B30: Tôn tạo khu di tích khởi nghĩa Bắc Sơn, HM: xây nhà bia ghi dấu sự kiện và các HM phụ trợ tại 08 điểm thuộc khu di tích | C30: =SUM(D30:E30) -> 660 | D30: 467 | E30: 193 | F30: 2.676433 | G30: 2.676433 | H30: 0 | I30: =J30+K30 -> 3 | J30: 3 | K30: 0 | L30: =M30+N30 -> 0 | M30: 0 | N30: =H30-K30 -> 0 | O30: 0 | P30: 0 | Q30: 0 | R30: 0 | S30: =T30+U30 -> 657 | T30: 464 | U30: =E30-H30+R30 -> 193
A31: II | B31: Dự án 7.Chăm sóc sức khỏe Nhân dân, nâng cao thể trạng, tầm vóc người DTTS; phòng chống suy dinh dưỡng trẻ em | C31: =C32 -> 28619 | D31: =D32 -> 28619 | E31: =E32 -> 0 | F31: =F32 -> 59 | G31: =G32 -> 59 | H31: =H32 -> 0 | I31: =I32 -> 0 | J31: =J32 -> 0 | ... R31: =R32 -> 0 | S31: =T31+U31 -> 28560 | T31: =D31-G31+Q31 -> 28560 | U31: =E31-H31+R31 -> 0
A32: 1 | B32: Sở Y tế | C32: =C33 -> 28619 | D32: =D33 -> 28619 | E32: =E33 -> 0 | F32: =F33 -> 59 | G32: =G33 -> 59 | H32: =H33 -> 0 | I32: =I33 -> 0 | J32: =J33 -> 0 | ... R32: =R33 -> 0 | S32: =C32-F32+P32 -> 28560 | T32: =D32-G32+Q32 -> 28560 | U32: =E32-H32+R32 -> 0
A33: 1.1 | B33: Cải tạo, sửa chữa Trung tâm Y tế huyện Bình Gia | C33: =D33+E33 -> 28619 | D33: 28619 | E33: 0 | F33: =G33+H33 -> 59 | G33: 59 | H33: 0 | I33: 0 | J33: 0 | K33: 0 | L33: =M33+N33 -> 59 | M33: 59 | N33: 0 | P33: 0 | Q33: 0 | R33: 0 | S33: =C33-F33+P33 -> 28560 | T33: =D33-G33+Q33 -> 28560 | U33: =E33-H33+R33 -> 0
A34: III | B34: Dự án 10: Truyền thông, tuyên truyền, vận động trong vùng đồng bào dân tộc thiểu số và miền núi. Kiểm tra, giám sát đánh giá việc tổ chức thực hiện Chương trình | C34: =SUM(D34:E34) -> 5.443358 | D34: =D35 -> 2.647153 | E34: =E35 -> 2.796205 | F34: =F35 -> 5.443358 | G34: =G35 -> 1.643153 | H34: =H35 -> 1.865205 | I34: =J34+K34 -> 1.643153 | J34: =J35 -> 1.643153 | K34: =K35 -> 0 | L34: =M34+N34 -> 1.865205 | M34: =G34-J34 -> 0 | N34: =H34-K34 -> 1.865205 | P34: =P35 -> 0 | Q34: =Q35 -> 0 | R34: =R35 -> 0 | S34: =T34+U34 -> 1.935 | T34: =D34-G34+Q34 -> 1.004 | U34: =E34-H34+R34 -> 0.931
B35: Tiểu dự án 2: Ứng dụng công nghệ thông tin hỗ trợ phát triển kinh tế - xã hội và đảm bảo an ninh trật tự vùng đồng bào dân tộc thiểu số và miền núi | C35: =SUM(D35:E35) -> 5.443358 | D35: =D36 -> 2.647153 | E35: =E36 -> 2.796205 | F35: =F36 -> 5.443358 | G35: =G36 -> 1.643153 | H35: =H36 -> 1.865205 | I35: =I36 -> 3.643153 | J35: =J36 -> 1.643153 | L35: =M35+N35 -> 1.865205 | M35: =G35-J35 -> 0 | N35: =H35-K35 -> 1.865205 | P35: =P36 -> 0 | Q35: =Q36 -> 0 | R35: =R36 -> 0 | S35: =T35+U35 -> 1.935 | T35: =D35-G35+Q35 -> 1.004 | U35: =E35-H35+R35 -> 0.931
B36: Khối tỉnh: | C36: =SUM(C37:C40) -> 5.443358 | D36: =SUM(D37:D40) -> 2.647153 | E36: =SUM(E37:E40) -> 2.796205 | F36: =SUM(F37:F40) -> 5.443358 | G36: =G37+G40 -> 1.643153 | H36: =H37+H40 -> 1.865205 | I36: =I37+I40 -> 3.643153 | J36: =J37+J40 -> 1.643153 | K36: =K37+K40 -> 2 | L36: =L37+L40 -> 0 | M36: =M37+M40 -> 0 | N36: =N37+N40 -> 0 | P36: 0 | Q36: 0 | R36: 0 | S36: 0 | T36: 0 | U36: 0
A37: 1 | B37: Sở Khoa học và Công nghệ | C37: =SUM(D37:E37) -> 1.736731 | D37: 0.805526 | E37: 0.931205 | F37: =G37+H37 -> 1.736731 | G37: 0.805526 | H37: 0.931205 | I37: =J37+K37 -> 1.805526 | J37: =G37 -> 0.805526 | K37: 1 | L37: =M37+N37 -> 0 | M37: =G37-J37 -> 0 | N37: 0 | P37: =Q37+R37 -> 0 | Q37: 0 | R37: 0 | S37: 0 | T37: 0 | U37: 0
A38: 1.1 | B38: Dự án hỗ trợ thiết lập các điểm hỗ trợ đồng bào DTTS ứng dụng công nghệ thông tin tại Uỷ ban nhân dân xã để phục vụ phát triển kinh tế - xã hội và đảm bảo an ninh trật tự | C38: =SUM(D38:E38) -> 0.339 | D38: 0.22 | E38: 0.119 | F38: =SUM(G38:H38) -> 0.339 | G38: 0.22 | H38: 0.119 | I38: =SUM(J38:K38) -> 0.339 | J38: 0.22 | K38: 0.119 | L38: 0 | M38: 0 | N38: 0 | O38: 0 | P38: 0 | Q38: 0 | R38: 0 | S38: 0 | T38: 0 | U38: 0
A39: 1.2 | B39: Dự án đầu tư xây dựng mới phòng họp trực tuyến Ban Dân tộc | C39: =SUM(D39:E39) -> 1.596 | D39: 0.784 | E39: 0.812 | F39: =SUM(G39:H39) -> 1.596 | G39: 0.784 | H39: 0.812 | I39: =SUM(J39:K39) -> 1.596 | J39: 0.784 | K39: 0.812 | L39: 0 | M39: 0 | N39: 0 | O39: 0 | P39: 0 | Q39: 0 | R39: 0 | S39: 0 | T39: 0 | U39: 0
A40: 2 | B40: Sở Dân tộc và Tôn giáo | C40: =SUM(D40:E40) -> 1.771627 | D40: 0.837627 | E40: 0.934 | F40: =G40+H40 -> 1.771627 | G40: 0.837627 | H40: 0.934 | I40: =J40+K40 -> 1.837627 | J40: =G40 -> 0.837627 | K40: 1 | L40: =M40+N40 -> 0 | M40: =G40-J40 -> 0 | N40: 0 | P40: 0 | Q40: 0 | R40: 0 | S40: 0 | T40: 0 | U40: 0
A41: 2.1 | B41: Dự án chuyển đổi số trong tổ chức triển khai thực hiện Chương trình mục tiêu quốc gia phát triển kinh tế - xã hội vùng đồng bào dân tộc thiểu số và miền núi | C41: =SUM(D41:E41) -> 1.772 | D41: 0.838 | E41: 0.934 | F41: =SUM(G41:H41) -> 1.772 | G41: 0.838 | H41: 0.934 | I41: =SUM(J41:K41) -> 1.772 | J41: 0.838 | K41: 0.934 | L41: 0 | N41: 0 | O41: 0 | P41: 0 | Q41: 0 | R41: 0 | S41: 0 | T41: 0 | U41: 0
A42: B | B42: Chương trình MTQG giảm nghèo bền vững | C42: =C43 -> 276 | D42: =D43 -> 276 | E42: =E43 -> 0 | F42: =F43 -> 276 | G42: =G43 -> 276 | H42: =H43 -> 0 | I42: =I43 -> 276 | J42: =J43 -> 276 | ... U42: =U43 -> 0
A43: I | B43: Khối tỉnh | C43: =C44 -> 276 | D43: =D44 -> 276 | E43: =E44 -> 0 | F43: =F44 -> 276 | G43: =G44 -> 276 | H43: =H44 -> 0 | I43: =I44 -> 276 | J43: 276 | K43: =K44 -> 0 | L43: =M43+N43 -> 0 | M43: =G43-J43 -> 0 | N43: =H43-K43 -> 0 | P43: =P44 -> 0 | Q43: =Q44 -> 0 | R43: =R44 -> 0 | S43: =S44 -> 0 | T43: =G43-J43+Q43 -> 0 | U43: =U44 -> 0
A44: 1 | B44: Sở Nội vụ | C44: =C45 -> 276 | D44: =D45 -> 276 | E44: =E45 -> 0 | F44: =F45 -> 276 | G44: =G45 -> 276 | H44: =H45 -> 0 | I44: =I45 -> 276 | J44: =J45 -> 276 | ... U44: =U45 -> 0
A45: 1 | B45: Dự án 4. Hỗ trợ việc làm bền vững: Đầu tư trang thiết bị công nghệ thông tin để hiện đại hóa hệ thống thông tin thị trường lao động, hình thành sàn giao dịch việc làm trực tuyến và xây dựng các cơ sở dữ liệu | C45: =C46 -> 276 | D45: =D46 -> 276 | E45: =E46 -> 0 | F45: =F46 -> 276 | G45: =G46 -> 276 | H45: =H46 -> 0 | I45: =I46 -> 276 | J45: =J46 -> 276 | K45: 0 | L45: 0 | M45: 0 | N45: 0 | O45: 0 | P45: 0 | Q45: 0 | R45: 0 | S45: 0 | T45: 0 | U45: 0
A46: 1.1 | B46: Đầu tư trang thiết bị công nghệ thông tin để hiện đại hóa hệ thống thông tin thị trường lao động, hình thành sàn giao dịch việc làm trực tuyến và xây dựng các cơ sở dữ liệu | C46: =D46+E46 -> 276 | D46: 276 | E46: 0 | F46: =G46+H46 -> 276 | G46: 276 | I46: =J46+K46 -> 276 | J46: 276 | K46: 0 | L46: 0 | M46: 0 | N46: 0 | O46: 0 | P46: 0 | Q46: 0 | R46: 0 | S46: =T46+U46 -> 0 | T46: =G46-J46+Q46 -> 0 | U46: =E46+R46-H46 -> 0

Sheet Bổ sung vốn ĐTC
A2: PHÂN BỔ VỐN ĐẦU TƯ PHÁT TRIỂN CHƯƠNG TRÌNH MỤC TIÊU QUỐC GIA GIAI ĐOẠN 2021-2025 KHÔNG CÒN NHU CẦU CHI CHUYỂN SANG GIAI ĐOẠN 2026 -2030
A3: (Kèm theo Nghị quyết số: / NQ-HĐND ngày /10/2026 của HĐND xã)
A4: Đơn vị: Triệu đồng
A6: STT | B6: CÁC ĐƠN VỊ | C6: Thời gian KC-HT | D6: Địa điểm | E6: Năng lực thiết kế | F6: Quyết định đầu tư | K6: Kế hoạch trung hạn 2026-2030 | O6: Kế hoạch vốn đã bố trí đến hết 2025 | S6: Bố trí vốn năm 2026 | W6: Đánh giá sự phù hợp với mục tiêu, tiêu chí còn thiếu theo kế hoạch | X6: Chủ đầu tư | Y6: Ghi chú
F7: Số quyết định | G7: TMĐT | K7: Tổng số | L7: Trong đó: | O7: Tổng số (tất cả các nguồn vốn) | P7: Trong đó | S7: Tổng số (tất cả các nguồn vốn) | T7: Trong đó
G8: Tổng số (tất cả các nguồn vốn) | H8: Trong đó: | L8: NSTW | M8: NST | N8: NSX | P8: NSTW | Q8: NST | R8: Vốn khác | T8: NSTW | U8: NST | V8: NSX
H9: NSTW | I9: NST | J9: NSX
B10: TỔNG CỘNG | G10: =G11 -> 6800 | H10: =H11 -> 1500 | I10: =I11 -> 0 | J10: =J11 -> 5300 | K10: =K11 -> 6800 | L10: =L11 -> 1500 | M10: =M11 -> 0 | N10: =N11 -> 5300 | O10: 0 | P10: 0 | Q10: 0 | R10: 0 | S10: 1500 | T10: 1500 | U10: 0 | V10: 0 | W10: 0
B11: Chương trình mục tiêu quốc gia xây dựng nông thôn mới, giảm nghèo bền vững và phát triển kinh tế - xã hội vùng đồng bào dân tộc thiểu số và miền núi giai đoạn 2026 - 2030 | G11: =G12 -> 6800 | H11: =H12 -> 1500 | I11: =I12 -> 0 | J11: =J12 -> 5300 | K11: =K12 -> 6800 | L11: =L12 -> 1500 | M11: =M12 -> 0 | N11: =N12 -> 5300 | O11: 0 | P11: 0 | Q11: 0 | R11: 0 | S11: 1500 | T11: 1500 | U11: 0 | V11: 0 | W11: 0
A12: A | B12: Hợp phần thứ Nhất: Các nội dung chung thực hiện trên địa bàn cả nước | G12: =G13 -> 6800 | H12: =H13 -> 1500 | I12: =I13 -> 0 | J12: =J13 -> 5300 | K12: =K13 -> 6800 | L12: =L13 -> 1500 | M12: =M13 -> 0 | N12: =N13 -> 5300 | O12: 0 | P12: 0 | Q12: 0 | R12: 0 | S12: 1500 | T12: 1500 | U12: 0 | V12: 0
A13: I | B13: Nội dung thành phần 02: Phát triển hạ tầng kinh tế - xã hội nông thôn toàn diện, đồng bộ, hiện đại, kết nối hiệu quả với đô thị và thích ứng với biến đổi khí hậu | G13: =G14+G16 -> 6800 | H13: =H14+H16 -> 1500 | I13: =I14+I16 -> 0 | J13: =J14+J16 -> 5300 | K13: =K14+K16 -> 6800 | L13: =L14+L16 -> 1500 | M13: =M14+M16 -> 0 | N13: =N14+N16 -> 5300 | O13: 0 | P13: 0 | Q13: 0 | R13: 0 | S13: 1500 | T13: 1500 | U13: 0 | V13: 0
A14: 1 | B14: Nội dung 01: Tiếp tục hoàn thiện và nâng cao chất lượng hệ thống hạ tầng giao thông (bao gồm cả cầu dân sinh, công trình giao thông) phục vụ dân sinh, sản xuất và kinh doanh trên địa bàn xã, thôn; hạ tầng giao thông kết nối liên xã, liên thôn theo hướng đồng bộ, hiện đại, thích ứng với biến đổi khí hậu, phù hợp với đặc thù vùng, miền và bảo đảm kết nối hiệu quả. Trong đó, tập trung, ưu tiên hỗ trợ đầu tư cho các xã, thôn đặc biệt khó khăn, vùng đồng bào DTTS&MN, an toàn khu, biên giới và hải đảo | G14: =G15 -> 3800 | H14: =H15 -> 1000 | I14: =I15 -> 0 | J14: =J15 -> 2800 | K14: =K15 -> 3800 | L14: =L15 -> 1000 | M14: =M15 -> 0 | N14: =N15 -> 2800 | O14: 0 | P14: 0 | Q14: 0 | R14: 0 | S14: 1891 | T14: 1891 | U14: 0 | V14: 0
B15: Cải tạo, nâng cấp đường thôn Ngọc Thành đi thôn Bãi Vàng | C15: 2026-2028 | D15: Thôn Ngọc Thành | F15: Quyết định 1316/QĐ-UBND ngày 21/10/2026 | G15: 3800 | H15: 1000 | J15: 2800 | K15: 3800 | L15: 1000 | N15: 2800 | S15: 1891 | T15: 1891 | X15: Ban Quản lý Dự án đầu tư xây dựng xã
A16: 2 | B16: Nội dung 06: Từng bước hoàn thiện hệ thống cơ sở hạ tầng thương mại nông thôn; phát triển các mô hình chợ đáp ứng các tiêu chí đảm bảo an toàn thực phẩm cấp xã; thúc đẩy hoạt động thương mại điện tử; khuyến khích phát triển hệ thống dịch vụ logistics gắn với vùng sản | G16: =G17 -> 3000 | H16: =H17 -> 500 | I16: =I17 -> 0 | J16: =J17 -> 2500 | K16: =K17 -> 3000 | L16: =L17 -> 500 | M16: =M17 -> 0 | N16: =N17 -> 2500 | O16: 0 | P16: 0 | Q16: 0 | R16: 0 | S16: 1500 | T16: 1500 | U16: 0 | V16: 0
B17: Cải tạo, nâng cấp và bổ sung hệ thống PCCC chợ Mẹt | C17: 2026-2028 | D17: Thôn An Ninh | F17: Quyết định 1319/QĐ-UBND ngày 23/10/2026 | G17: 3000 | H17: 500 | J17: 2500 | K17: 3000 | L17: 500 | N17: 2500 | S17: 1500 | T17: 1500 | W17: Bảo đảm an toàn PCCC, góp phần hoàn thiện tiêu chí 2.5 về cơ sở hạ tầng thương mại nông thôn | X17: Ban Quản lý Dự án đầu tư xây dựng xã
