Workbook
Name ­: #N/A
Name \0: '[1]PNT-QUOT-#3'!#REF!
Name \0: '[1]PNT-QUOT-#3'!#REF!
Name \0051: #REF!
Name \0051: #REF!
Name \0061: #REF!
Name \0061: #REF!
Name \0061a: #REF!
Name \0061a: #REF!
Name \0062a: #REF!
Name \0062a: #REF!
Name \0062b: #REF!
Name \0062b: #REF!
Name \0062c: #REF!
Name \0062c: #REF!
Name \0063: #REF!
Name \0063: #REF!
Name \0063a: #REF!
Name \0063a: #REF!
Name \0064: #REF!
Name \0064: #REF!
Name \0081: #REF!
Name \0081: #REF!
Name \0082: #REF!
Name \0082: #REF!
Name \010: #REF!
Name \010: #REF!
Name \4001a: #REF!
Name \4001a: #REF!
Name \4001b: #REF!
Name \4001b: #REF!
Name \4002a: #REF!
Name \4002a: #REF!
Name \4002b: #REF!
Name \4002b: #REF!
Name \4003a: #REF!
Name \4003a: #REF!
Name \4003b: #REF!
Name \4003b: #REF!
Name \4004: #REF!
Name \4004: #REF!
Name \4005: #REF!
Name \4005: #REF!
Name \4006: #REF!
Name \4006: #REF!
Name \4007: #REF!
Name \4007: #REF!
Name \4013: #REF!
Name \4013: #REF!
Name \4041: #REF!
Name \4041: #REF!
Name \4042: #REF!
Name \4042: #REF!
Name \4043: #REF!
Name \4043: #REF!
Name \4044: #REF!
Name \4044: #REF!
Name \4051: #REF!
Name \4051: #REF!
Name \4052: #REF!

Sheet Biểu I.PB_2630 NSDP
A1: Tỉnh Lạng Sơn
A3: BIỂU I. KẾ HOẠCH ĐẦU TƯ TRUNG HẠN VỐN NGÂN SÁCH ĐỊA PHƯƠNG GIAI ĐOẠN 2026-2030
A4: (Kèm theo Tờ trình số: 305/ TTr-UBND ngày 10 /10/2026 của UBND tỉnh)
AZ5: dữ liệu biểu TH | BA5: dữ liệu biểu TH | BB5: dữ liệu biểu TH | CE5: Đơn vị: Triệu đồng
A6: TT | B6: Danh mục dự án | C6: Nhóm dự án | D6: Địa điểm xây dựng (sau sắp xếp) | E6: Địa điểm xây dựng (616/BC-UBND) | F6: Địa điểm xây dựng (rà soát sau sắp xếp) | G6: Năng lực thiết kế | H6: Thời gian khởi công, hoàn thành | I6: Quyết định đầu tư | L6: Lũy kế bố trí vốn đến hết KH năm 2025 | Q6: Kế hoạch đầu tư công giai đoạn 2021-2025 được duyệt | V6: Trong đó, kế hoạch đầu tư công giai đoạn 2021-2025 dự kiến sử dụng đến hết năm 2025 | AA6: Đề xuất Kế hoạch đầu tư công giai đoạn 2026-2030 của các cơ quan, đơn vị | AF6: Dự kiến Kế hoạch đầu tư công giai đoạn 2026-2030 (Nghị quyết số 46/NQ-HĐND) | AK6: Dự kiến Kế hoạch đầu tư công giai đoạn 2026-2030 (Báo cáo số 616/BC-UBND ngày 30/9/2025) | AP6: Dự kiến Kế hoạch đầu tư công giai đoạn 2026-2030 (901/BC-UBND) | AU6: Dự kiến Kế hoạch đầu tư công giai đoạn 2026-2030 (179/BC-UBND ngày 07/4/2026) | AZ6: Nhu cầu Kế hoạch đầu tư công giai đoạn 2026-2030 (Rà soát lần 6) | BB6: Kế hạch đầu tư công giai đoạn 2026-2030 | BC6: Kế hoạch đầu tư công giai đoạn 2026-2030 dự kiến tại Tờ trình số 225/TTr-UBND ngày 06/8/2026 | BD6: Kế hoạch đầu tư công giai đoạn 2026-2030 dự kiến tại Tờ trình số 225/TTr-UBND ngày 06/8/2026 | BE6: Kế hoạch đầu tư công giai đoạn 2026-2030 phân bổ kỳ này | BG6: Kế hoạch đầu tư công năm 2026 | BL6: Đề xuất của đơn vị KHĐTC 2027 | BM6: Dự kiến Kế hoạch đầu tư công năm 2027 | BQ6: Đơn vị đề xuất chủ trương đầu tư/Chủ đầu tư (NQ 46/NQ-HĐND) | BR6: Kế hoạch vốn HĐND tỉnh quyết định kéo dài thời gian bố trí vốn sang năm 2027 | BS6: Đơn vị đề xuất chủ trương đầu tư/Chủ đầu tư sau sắp xếp | BT6: Đánh giá hiệu quả đầu tư | BU6: Thuyết minh sơ bộ đánh giá sự phù hợp với quy hoạch tỉnh (Quyết định số 236/QĐ-TTg)/ các quy hoạch, kế hoạch có liên quan | BV6: Rà soát sự phù hợp quy hoạch, kế hoạch có liên quan (ghi rõ Quyết định phê duyệt quy hoạch của cấp có thẩm quyền) | BZ6: Hiệu quả kinh tế - xã hội | CA6: Phân loại danh mục dự án khởi công mới theo STT (8) điểm a khoản 1 Mục I Văn bản số 20014/BTC-NSNN | CB6: Ngành, lĩnh vực | CC6: Kiểu dự án | CD6: Tỷ lệ bố trí vốn giai đoạn 2026-2030 (%) | CE6: Ghi chú
I7: Số quyết định ngày, tháng, năm ban hành | J7: Tổng mức đầu tư (TMĐT)
J8: Tổng số (tất cả các nguồn vốn) | K8: Trong đó: ngân sách địa phương (NSĐP) | L8: Tổng số (tất cả các nguồn vốn) | M8: Trong đó: NSĐP | Q8: Tổng số (tất cả các nguồn vốn) | R8: Trong đó: NSĐP | V8: Tổng số (tất cả các nguồn vốn) | W8: Trong đó: NSĐP | AA8: Tổng số (tất cả các nguồn vốn) | AB8: Trong đó: NSĐP | AF8: Tổng số (tất cả các nguồn vốn) | AG8: Trong đó: NSĐP | AK8: Tổng số (tất cả các nguồn vốn) | AL8: Trong đó: NSĐP | AP8: Tổng số (tất cả các nguồn vốn) | AQ8: Trong đó: NSĐP | AU8: Tổng số (tất cả các nguồn vốn) | AV8: Trong đó: NSĐP | AZ8: Tổng số (tất cả các nguồn vốn) | BA8: Trong đó: NSĐP | BV8: Quy hoạch tỉnh | BW8: Quy hoạch, kế hoạch sử dụng đất | BX8: Quy hoạch xây dựng | BY8: Quy hoạch ngành, lĩnh vực khác | CI8: =ROUND(707198,-2) -> 707200
M9: Trong đó: NSĐP | N9: Thu hồi các khoản vốn ứng trước | O9: Thanh toán nợ XDCB | P9: Chuẩn bị đầu tư | R9: Tổng số | S9: Thu hồi các khoản vốn ứng trước | T9: Thanh toán nợ XDCB | U9: Chuẩn bị đầu tư | W9: Tổng số | X9: Thu hồi các khoản vốn ứng trước | Y9: Thanh toán nợ XDCB | Z9: Chuẩn bị đầu tư | AB9: Tổng số | AC9: Thu hồi các khoản vốn ứng trước | AD9: Thanh toán nợ XDCB | AE9: Chuẩn bị đầu tư | AG9: Tổng số | AH9: Thu hồi các khoản vốn ứng trước | AI9: Thanh toán nợ XDCB | AJ9: Chuẩn bị đầu tư | AQ9: Trong đó: NSĐP | AR9: Theo Báo cáo kế hoạch tài chính 5 năm | AS9: Đề xuất tăng thêm | AT9: Chuẩn bị đầu tư | AV9: Trong đó: NSĐP | AW9: Theo Báo cáo kế hoạch tài chính 5 năm | AX9: Đề xuất tăng thêm | AY9: Chuẩn bị đầu tư | BA9: Trong đó: NSĐP | BB9: ='[51]Biểu B.2_2630 KCM'!BB9:BB11 -> Phương án 1 (Theo kế hoạch tài chính 5 năm) | BC9: Tổng số (tất cả các nguồn vốn) | BE9: Tổng số (tất cả các nguồn vốn) | BF9: Trong đó: NSĐP | BH9: Trong đó: | BI9: Thu hồi các khoản vốn ứng trước | BJ9: Thanh toán nợ XDCB | BK9: Chuẩn bị đầu tư | BM9: Tổng số (tất cả các nguồn vốn) | BN9: NSĐP | BO9: Thu hồi các khoản vốn ứng trước | BP9: Thanh toán nợ XDCB
BH10: Chuẩn bị đầu tư
CJ11: =COUNTIF(CJ13:CJ513,"<>0") -> 423 | CK11: =COUNTIF(CK13:CK513,"<>0") -> 423 | CN11: Số dự án | CP11: Trong đó
A12: 1 | B12: 2 | C12: 3 | F12: 4 | G12: 5 | H12: 6 | I12: 7 | J12: 8 | K12: 9 | L12: 10 | M12: 11 | N12: 12 | O12: 13 | AA12: 14 | AB12: 15 | AC12: 16 | AD12: 17 | AK12: 7 | AL12: 8 | AM12: 16 | AN12: 17 | AZ12: 12 | BA12: 13 | BB12: 14 | BC12: 12 | BD12: 12 | BE12: 13 | BF12: 14 | BG12: 18 | BH12: 16a | BI12: 24 | BJ12: 25 | BL12: 19 | BM12: 20 | BN12: 21 | BO12: 21 | BP12: 21 | BQ12: 26 | BS12: 15 | BT12: 17 | BU12: 29 | BV12: 30 | BW12: 31 | BX12: 32 | BY12: 33 | BZ12: 30 | CB12: 18 | CC12: 19 | CD12: 34 | CE12: 16 | CJ12: =SUM(CJ13:CJ513) -> 68881.5 | CN12: PA 1 | CO12: PA 2 | CP12: Đủ ĐK | CQ12: Chưa đủ ĐK
B13: TỔNG SỐ | D13: 145 | E13: 68 | F13: =F14+F290+F507+F517+F547+F599 -> 0 | G13: =G14+G290+G507+G517+G547+G599 -> 6 | H13: =H14+H290+H507+H517+H547+H599 -> 0 | J13: =J14+J290+J507+J517+J547+J599 -> 1258836.5 | K13: =K14+K290+K507+K517+K547+K599 -> 1063572.5 | L13: =L14+L290+L507+L517+L547+L599 -> 0 | M13: =M14+M290+M507+M517+M547+M599 -> 0 | N13: =N14+N290+N507+N517+N547+N599 -> 0 | O13: =O14+O290+O507+O517+O547+O599 -> 0 | P13: =P14+P290+P507+P517+P547+P599 -> 125000 | Q13: =Q14+Q290+Q507+Q517+Q547+Q599 -> 125000 | ... BH13: =BH14+BH290+BH507+BH517+BH547+BH599 -> 160 | BL13: =BL14+BL290+BL507+BL517+BL547+BL599 -> 340000 | BM13: =BM14+BM290+BM507+BM517+BM547+BM599 -> 68633 | BN13: =BN14+BN290+BN507+BN517+BN547+BN599 -> 68633 | BO13: =BO14+BO290+BO507+BO517+BO547+BO599 -> 0 | BP13: =BP14+BP290+BP507+BP517+BP547+BP599 -> 0 | BR13: =BR14+BR290+BR507+BR517+BR547+BR599 -> 0 | CB13: X | CC13: X | CD13: =IFERROR(BA13/(K13-(AB13-BA13)-M13)*100,0) -> 82.95073 | CF13: =BB13-3929700 -> -3564635.7 | CG13: =#REF!/(N13-(AE13-#REF!))*100 -> #REF! | CJ13: =IF(BS13<>0,IF(AG13=0,BA13,0),0) -> 0 | CK13: =IF(BS13<>0,IF(AG13<>BA13,1,0),0) -> 0 | CM13: =AR13-BB13 -> 6429078.7 | CN13: =CN14+CN290+CN507+CN517+CN547+CN599 -> 3 | CO13: =CO14+CO290+CO507+CO517+CO547+CO599 -> 5 | CP13: =CP14+CP290+CP507+CP517+CP547+CP599 -> 5 | CQ13: =CQ14+CQ290+CQ507+CQ517+CQ547+CQ599 -> 5 | CR13: =BB13-'[51]Biểu B.5_2630 NSDP CT'!BA13-'[51]Biểu B.2_2630 KCM'!BC13 -> -9804195.1 | CS13: =BD13-'[51]Biểu B.5_2630 NSDP CT'!BA13-'[51]Biểu B.2_2630 KCM'!BF13 -> -11652866
A14: A | B14: VỐN ĐẦU TƯ TRONG CÂN ĐỐI THEO TIÊU CHÍ | D14: 110 | E14: 27 | F14: =F15+F74+F91+F95+F121+F173+F188+F193+F206+F209+F215+F241+F258+F268+F271+F282+F283+F284+F285+F286 -> 0 | G14: =G15+G287 -> 3 | J14: =J15+J287 -> 402546 | K14: =K15+K287 -> 402546 | L14: =L15+L287 -> 0 | M14: =M15+M287 -> 0 | N14: =N15+N287 -> 0 | O14: =O15+O287 -> 0 | P14: =P15+P287 -> 125000 | Q14: =Q15+Q287 -> 125000 | ... BF14: =BF15+BF287 -> 402546 | BG14: =BG121+BG74+BG15+BG95+BG173+BG193+BG206+BG215+BG241+BG91+BG209+BG271+BG258+BG268+BG282+BG283+BG284+BG285+BG286 -> 0 | BH14: =BH121+BH74+BH15+BH95+BH173+BH193+BH206+BH215+BH241+BH91+BH209+BH271+BH258+BH268+BH282+BH283+BH284+BH285+BH286 -> 80 | BL14: =BL121+BL74+BL15+BL95+BL173+BL193+BL206+BL215+BL241+BL91+BL209+BL271+BL258+BL268+BL282+BL283+BL284+BL285+BL286 -> 160000 | BM14: =BM121+BM74+BM15+BM95+BM173+BM193+BM206+BM215+BM241+BM91+BM209+BM271+BM258+BM268+BM282+BM283+BM284+BM285+BM286 -> 58633 | BN14: =BN121+BN74+BN15+BN95+BN173+BN193+BN206+BN215+BN241+BN91+BN209+BN271+BN258+BN268+BN282+BN283+BN284+BN285+BN286 -> 58633 | BO14: =BO121+BO74+BO15+BO95+BO173+BO193+BO206+BO215+BO241+BO91+BO209+BO271+BO258+BO268+BO282+BO283+BO284+BO285+BO286 -> 0 | BP14: =BP121+BP74+BP15+BP95+BP173+BP193+BP206+BP215+BP241+BP91+BP209+BP271+BP258+BP268+BP282+BP283+BP284+BP285+BP286 -> 0 | BR14: =BR121+BR74+BR15+BR95+BR173+BR193+BR206+BR215+BR241+BR91+BR209+BR271+BR258+BR268+BR282+BR283+BR284+BR285+BR286 -> 0 | CB14: X | CC14: X | CD14: =IFERROR(BA14/(K14-(AB14-BA14)-M14)*100,0) -> 62.614872 | CF14: =#REF!-#REF! -> #REF! | CG14: =#REF!/(N14-(AE14-#REF!))*100 -> #REF! | CH14: =#REF!-505470 -> #REF! | CI14: =BA14-3730000 -> -3327454 | CJ14: =IF(BS14<>0,IF(AG14=0,BA14,0),0) -> 0 | CK14: =IF(BS14<>0,IF(AG14<>BA14,1,0),0) -> 0 | CM14: =BB14-BD14 -> -106363.2 | CN14: =CN15+CN74+CN91+CN95+CN121+CN173+CN188+CN193+CN206+CN209+CN215+CN241+CN258+CN268+CN271+CN282+CN283+CN284+CN285+CN286 -> 2 | CO14: =CO15+CO74+CO91+CO95+CO121+CO173+CO188+CO193+CO206+CO209+CO215+CO241+CO258+CO268+CO271+CO282+CO283+CO284+CO285+CO286 -> 2 | CP14: =CP15+CP74+CP91+CP95+CP121+CP173+CP188+CP193+CP206+CP209+CP215+CP241+CP258+CP268+CP271+CP282+CP283+CP284+CP285+CP286 -> 2 | CQ14: =CQ15+CQ74+CQ91+CQ95+CQ121+CQ173+CQ188+CQ193+CQ206+CQ209+CQ215+CQ241+CQ258+CQ268+CQ271+CQ282+CQ283+CQ284+CQ285+CQ286 -> 2 | CR14: =BB14-'[51]Biểu B.5_2630 NSDP CT'!BA14-'[51]Biểu B.2_2630 KCM'!#REF! -> #REF!
A15: I | B15: Giao thông | D15: 36 | E15: 8 | F15: =F16+F19 -> 0 | G15: =G16+G19 -> 2 | J15: =J16+J19 -> 302546 | K15: =K16+K19 -> 302546 | L15: =L16+L19 -> 0 | M15: =M16+M19 -> 0 | N15: =N16+N19 -> 0 | O15: =O16+O19 -> 0 | P15: =P16+P19 -> 0 | Q15: =Q16+Q19 -> 0 | ... AE15: =AE16+AE19 -> 0 | AF15: 2921584 | AG15: 2921384 | AH15: 0 | AI15: 0 | AJ15: 0 | AK15: 976209 | AL15: 701409 | AM15: 343950 | AN15: 357459 | AO15: =AO16+AO19 -> 0 | AP15: 1681209 | AQ15: 1406409 | AR15: 1406409 | AS15: 0 | AU15: 1330867 | AV15: 1330867 | AW15: 1330867 | AX15: 0 | AY15: =AY16+AY19 -> 0 | AZ15: =AZ16+AZ19 -> 302546 | BA15: =BA16+BA19 -> 302546 | BB15: =BB16+BB19 -> 296182.8 | BC15: =BC16+BC19 -> 302546 | BD15: =BD16+BD19 -> 302546 | BE15: =BE16+BE19 -> 302546 | BF15: =BF16+BF19 -> 302546 | ... BH15: =BH16+BH19 -> 80 | BL15: =BL16+BL19 -> 160000 | BM15: =BM16+BM19 -> 58633 | BN15: =BN16+BN19 -> 58633 | BO15: =BO16+BO19 -> 0 | BP15: =BP16+BP19 -> 0 | BR15: =BR16+BR19 -> 0 | CB15: Giao thông | CD15: =IFERROR(BA15/(K15-(AB15-BA15)-M15)*100,0) -> 50 | CG15: =#REF!/(N15-(AE15-#REF!))*100 -> #REF! | CJ15: =IF(BS15<>0,IF(AG15=0,BA15,0),0) -> 0 | CK15: =IF(BS15<>0,IF(AG15<>BA15,1,0),0) -> 0 | CN15: =CN16+CN19 -> 2 | CO15: =CO16+CO19 -> 2 | CP15: =CP16+CP19 -> 2 | CQ15: =CQ16+CQ19 -> 2 | CR15: =BB15-'[51]Biểu B.5_2630 NSDP CT'!BA15-'[51]Biểu B.2_2630 KCM'!BC14 -> -555134
A16: (2) | B16: Dự án chuyển tiếp | D16: 0 | E16: 0 | F16: =A18 -> 0 | G16: =A18 -> 0 | J16: =SUM(J17:J18) -> 0 | K16: =SUM(K17:K18) -> 0 | L16: =SUM(L17:L18) -> 0 | M16: =SUM(M17:M18) -> 0 | N16: =SUM(N17:N18) -> 0 | O16: =SUM(O17:O18) -> 0 | P16: =SUM(P17:P18) -> 0 | Q16: =SUM(Q17:Q18) -> 0 | ... BN16: =SUM(BN17:BN18) -> 0 | BO16: =SUM(BO18:BO18) -> 0 | BP16: =SUM(BP18:BP18) -> 0 | BR16: =SUM(BR18:BR18) -> 0 | CB16: Giao thông | CC16: Hoàn thành, bàn giao đưa vào sử dụng trước 31/12/2025 | CD16: =IFERROR(BA16/(K16-(AB16-BA16)-M16)*100,0) -> 0 | CJ16: =IF(BS16<>0,IF(AG16=0,BA16,0),0) -> 0 | CK16: =IF(BS16<>0,IF(AG16<>BA16,1,0),0) -> 0 | CN16: =SUM(CN18:CN18) -> 0 | CO16: =SUM(CO18:CO18) -> 0 | CP16: =SUM(CP18:CP18) -> 0 | CQ16: =SUM(CQ18:CQ18) -> 0 | CR16: =BB16-'[51]Biểu B.5_2630 NSDP CT'!BA16-'[51]Biểu B.2_2630 KCM'!#REF! -> #REF!
A19: (3) | B19: Dự án khởi công mới giai đoạn 2026-2030 | D19: 36 | E19: 8 | F19: =A35 -> 0 | G19: =A23 -> 2 | J19: =J20 -> 302546 | K19: =K20 -> 302546 | L19: =L20 -> 0 | M19: =M20 -> 0 | N19: =N20 -> 0 | O19: =O20 -> 0 | P19: =P20 -> 0 | Q19: =Q20 -> 0 | ... AO19: =AO20 -> 0 | AP19: 1681209 | AQ19: 1406409 | AR19: 1406409 | AS19: 0 | AU19: 1330867 | AV19: 1330867 | AW19: 1330867 | AX19: 0 | AY19: =AY20 -> 0 | AZ19: =AZ20 -> 302546 | BA19: =BA20 -> 302546 | BB19: =BB20 -> 296182.8 | BC19: =BC20 -> 302546 | BD19: =BD20 -> 302546 | BE19: =BE20 -> 302546 | BF19: =BF20 -> 302546 | ... BH19: =BH20 -> 80 | BL19: =BL20 -> 160000 | BM19: =BM20 -> 58633 | BN19: =BN20 -> 58633 | BO19: =BO20 -> 0 | BP19: =BP20 -> 0 | BQ19: =BQ20 -> 0 | BR19: =BR20 -> 0 | CB19: Giao thông | CC19: Khởi công mới | CD19: =IFERROR(BA19/(K19-(AB19-BA19)-M19)*100,0) -> 50 | CG19: =#REF!/(N19-(AE19-#REF!))*100 -> #REF! | CJ19: =IF(BS19<>0,IF(AG19=0,BA19,0),0) -> 0 | CK19: =IF(BS19<>0,IF(AG19<>BA19,1,0),0) -> 0 | CN19: =CN20 -> 2 | CO19: =CO20 -> 2 | CP19: =CP20 -> 2 | CQ19: =CQ20 -> 2 | CR19: =BB19-'[51]Biểu B.5_2630 NSDP CT'!BA18-'[51]Biểu B.2_2630 KCM'!#REF! -> #REF!
B20: Nhóm công trình ưu tiên số 1 | D20: 10 | E20: 8 | F20: =F21+F29+F32 -> 0 | G20: 5 | J20: =J21+J29+J32 -> 302546 | K20: =K21+K29+K32 -> 302546 | L20: =L21+L29+L32 -> 0 | M20: =M21+M29+M32 -> 0 | N20: =N21+N29+N32 -> 0 | O20: =O21+O29+O32 -> 0 | P20: =P21+P29+P32 -> 0 | Q20: =Q21+Q29+Q32 -> 0 | ... AO20: =AO21+AO29+AO32 -> 0 | AP20: 1681209 | AQ20: 1406409 | AR20: 1406409 | AS20: 0 | AU20: 1330867 | AV20: 1330867 | AW20: 1330867 | AX20: 0 | AY20: =AY21+AY29+AY32 -> 0 | AZ20: =AZ21+AZ29+AZ32 -> 302546 | BA20: =BA21+BA29+BA32 -> 302546 | BB20: =BB21+BB29+BB32 -> 296182.8 | BC20: =BC21+BC29+BC32 -> 302546 | BD20: =BD21+BD29+BD32 -> 302546 | BE20: =BE21+BE29+BE32 -> 302546 | BF20: =BF21+BF29+BF32 -> 302546 | ... BH20: =BH21+BH29+BH32 -> 80 | BL20: =BL21+BL29+BL32 -> 160000 | BM20: =BM21+BM29+BM32 -> 58633 | BN20: =BN21+BN29+BN32 -> 58633 | BO20: =BO21+BO29+BO32 -> 0 | BP20: =BP21+BP29+BP32 -> 0 | BQ20: =BQ21+BQ29+BQ32 -> 0 | BR20: =BR21+BR29+BR32 -> 0 | CB20: Giao thông | CC20: Khởi công mới | CD20: =IFERROR(BA20/(K20-(AB20-BA20)-M20)*100,0) -> 50 | CJ20: =IF(BS20<>0,IF(AG20=0,BA20,0),0) -> 0 | CK20: =IF(BS20<>0,IF(AG20<>BA20,1,0),0) -> 0 | CN20: =CN21+CN29+CN32 -> 2 | CO20: =CO21+CO29+CO32 -> 2 | CP20: =CP21+CP29+CP32 -> 2 | CQ20: =CQ21+CQ29+CQ32 -> 2 | CR20: =BB20-'[51]Biểu B.5_2630 NSDP CT'!BA19-'[51]Biểu B.2_2630 KCM'!#REF! -> #REF!
A21: * | B21: Danh mục bổ sung, ưu tiên theo kết luận | F21: =A27 -> 0 | J21: =SUM(J22:J28) -> 302546 | K21: =SUM(K22:K28) -> 302546 | L21: =SUM(L22:L28) -> 0 | M21: =SUM(M22:M28) -> 0 | N21: =SUM(N22:N28) -> 0 | O21: =SUM(O22:O28) -> 0 | P21: =SUM(P22:P28) -> 0 | Q21: =SUM(Q22:Q28) -> 0 | ... AO21: =SUM(AO22:AO28) -> 0 | AP21: 825000 | AQ21: 825000 | AR21: 825000 | AS21: 0 | AU21: 894410 | AV21: 894410 | AW21: 894410 | AX21: 0 | AY21: =SUM(AY22:AY28) -> 0 | AZ21: =SUM(AZ22:AZ28) -> 302546 | BA21: =SUM(BA22:BA28) -> 302546 | BB21: =SUM(BB22:BB28) -> 296182.8 | BC21: =SUM(BC22:BC28) -> 302546 | BD21: =SUM(BD22:BD28) -> 302546 | BE21: =SUM(BE22:BE28) -> 302546 | BF21: =SUM(BF22:BF28) -> 302546 | ... BH21: =SUM(BH22:BH28) -> 80 | BL21: =SUM(BL22:BL28) -> 160000 | BM21: =SUM(BM22:BM28) -> 58633 | BN21: =SUM(BN22:BN28) -> 58633 | BO21: =SUM(BO22:BO28) -> 0 | BP21: =SUM(BP22:BP28) -> 0 | BR21: =SUM(BR22:BR28) -> 0 | CB21: Giao thông | CC21: Khởi công mới | CF21: Sử dụng nguồn vốn Danh mục dự án AFD | CN21: =SUM(CN22:CN28) -> 2 | CO21: =SUM(CO22:CO28) -> 2 | CP21: =SUM(CP22:CP28) -> 2 | CQ21: =SUM(CQ22:CQ28) -> 2 | CR21: =BB21-'[51]Biểu B.5_2630 NSDP CT'!BA20-'[51]Biểu B.2_2630 KCM'!BC15 -> -233393
A22: 1 | B22: Đầu tư xây dựng cầu Bến Bắc | C22: C | F22: phường Lương Văn Tri và phường Đông Kinh | G22: 258m, B=12m | H22: 2026-2028 | I22: 1450/QĐ-UBND ngày 11/8/2026 | J22: 154408 | K22: =J22 -> 154408 | AU22: 123270 | AV22: 123270 | AW22: 123270 | AZ22: =BA22 -> 154408 | BA22: =K22 -> 154408 | BB22: ='[51]Biểu B.2_2630 KCM'!BC17 -> 148044.8 | BC22: =BD22 -> 154408 | BD22: ='[51]Biểu B.2_2630 KCM'!BF17 -> 154408 | BE22: =BF22 -> 154408 | BF22: =BD22 -> 154408 | BH22: 50 | BL22: 100000 | BM22: =BN22 -> 40000 | BN22: 40000 | BS22: Ban Quản lý dự án xây dựng công trình giao thông | BT22: phát triển mạng lưới giao thông đô thị, tạo điểm nhấn kiến trúc, cảnh quan trong đô thị và động lực lan tỏa cho không gian đô thị trung tâm của các phường | CA22: Loại 2. Dự án trọng điểm, liên vùng, có tính chất đột phát về phát triển kinh tế xã hội; dự án phát triển khoa học công nghệ, đổi mới sáng tạo, chuyển đổi số | CB22: Giao thông | CC22: Khởi công mới | CN22: =IF(BB22<>0,1,0) -> 1 | CO22: =IF(BD22<>0,1,0) -> 1 | CP22: =IF(BE22<>0,1,0) -> 1 | CQ22: =IF(BF22<>0,1,0) -> 1 | CR22: =BB22-'[51]Biểu B.5_2630 NSDP CT'!BA22-'[51]Biểu B.2_2630 KCM'!BC17 -> 0
A23: 2 | B23: Dự án Đầu tư xây dựng cầu - đập dâng Xứ Lạng | C23: C | F23: phường Lương Văn Tri và phường Đông Kinh | G23: 130m, B=11m | H23: 2026-2028 | I23: 1456/QĐ-UBND ngày 12/8/2026 | J23: ='[51]Biểu B.2_2630 KCM'!J18 -> 148138 | K23: =J23 -> 148138 | AU23: 123270 | AV23: 123270 | AW23: 123270 | AZ23: =BA23 -> 148138 | BA23: =K23 -> 148138 | BB23: ='[51]Biểu B.2_2630 KCM'!BC18 -> 148138 | BC23: =BD23 -> 148138 | BD23: ='[51]Biểu B.2_2630 KCM'!BF18 -> 148138 | BE23: =BF23 -> 148138 | BF23: =BD23 -> 148138 | BH23: 30 | BL23: 60000 | BM23: =BN23 -> 18633 | BN23: =30000+1978+3191-16536 -> 18633 | BS23: Ban Quản lý dự án xây dựng công trình giao thông | BT23: phát triển mạng lưới giao thông đô thị, tạo điểm nhấn kiến trúc, cảnh quan trong đô thị và động lực lan tỏa cho không gian đô thị trung tâm của các phường | CA23: Loại 2. Dự án trọng điểm, liên vùng, có tính chất đột phát về phát triển kinh tế xã hội; dự án phát triển khoa học công nghệ, đổi mới sáng tạo, chuyển đổi số | CB23: Giao thông | CC23: Khởi công mới | CN23: =IF(BB23<>0,1,0) -> 1 | CO23: =IF(BD23<>0,1,0) -> 1 | CP23: =IF(BE23<>0,1,0) -> 1 | CQ23: =IF(BF23<>0,1,0) -> 1
A36: 4 | B36: Cải tạo, nâng cấp tuyến đường tỉnh ĐT.241 (Bản Tẳng - Mẫu Sơn - Công Sơn - Hải Yến), Đoạn Km0+00 - Km 15+00 | D36: Xã Mẫu Sơn | E36: Xã Mẫu Sơn | F36: Xã Mẫu Sơn | G36: L=15km đường giao thông cấp IV | H36: 2028-2030 | J36: 45000 | K36: =J36 -> 45000 | AA36: 45000 | AB36: =AA36 -> 45000 | AF36: 45000 | AG36: 45000 | AK36: 45000 | AL36: 45000 | AN36: 45000 | AP36: 0 | AS36: 0 | AU36: 0 | AX36: 0 | AZ36: =BA36 -> 45000 | BA36: 45000 | BQ36: UBND huyện Lộc Bình | BS36: UBND xã Mẫu Sơn | BU36: Trang 453 Quy hoạch tỉnh định hướng ngành giao thông (cấp VI) | BV36: Trang 453 Quy hoạch tỉnh định hướng ngành giao thông (cấp VI) | CB36: Giao thông | CC36: Khởi công mới | CD36: =IFERROR(BA36/(K36-(AB36-BA36)-M36)*100,0) -> 100 | CE36: Tên tại NQ46: Cải tạo, nâng cấp tuyến đường tỉnh ĐT.241 (Bản Tẳng - Mẫu Sơn - Công Sơn - Hải Yến), Đoạn Km0+00 - Km 15+00, huyện Lộc Bình | CG36: =#REF!/(N34-(AE34-#REF!))*100 -> #REF! | CJ36: =IF(BS34<>0,IF(AG34=0,BA34,0),0) -> 0 | CK36: =IF(BS34<>0,IF(AG34<>BA34,1,0),0) -> 0 | CN36: =IF(BB36<>0,1,0) -> 0 | CO36: =IF(BD36<>0,1,0) -> 0 | CR36: =BB36-'[51]Biểu B.5_2630 NSDP CT'!BA33-'[51]Biểu B.2_2630 KCM'!BC57 -> 0
A37: 5 | B37: Tuyến đường ĐH 02B kết nối các xã Đoàn Kết, tỉnh Lạng Sơn với xã Minh Khai, tỉnh Cao Bằng | C37: C | D37: Tràng Định | E37: xã Đoàn Kết | F37: xã Đoàn Kết | H37: 2027-2029 | I37: 228/BC-SKHĐT ngày 04/6/2024 | J37: 25000 | K37: 25000 | AA37: 25000 | AB37: 25000 | AF37: 25000 | AG37: 25000 | AK37: 25000 | AL37: 25000 | AN37: 25000 | AP37: 0 | AS37: 0 | AU37: 0 | AX37: 0 | AZ37: =BA37 -> 25000 | BA37: 25000 | BQ37: UBND huyện Tràng Định | BS37: UBND xã Đoàn Kết | BT37: Kết nối huyện Tràng Định.với huyện ThạchAn, tỉnh Cao Bằng tạo động lực phát triển kinh tế, văn hóa - xã hội, thực hiện chuỗi liên kết tiêu thụ sản phẩmvới hơn 10.000 ha (cây Quế) và mặt hàng nông sản khác | BU37: Định hướng chung phát triển ngành giao thông (cấp huyện, xã) thuyết minh báo cáo quy hoạch tỉnh | BV37: Định hướng chung phát triển ngành giao thông (cấp huyện, xã) | BX37: Phù hợp quy hoạch chung xây dựng xã, | BZ37: Hỗ trợ phát triển kinh tế và tiêu thụ sản phẩm | CB37: Giao thông | CC37: Khởi công mới | CD37: =IFERROR(BA37/(K37-(AB37-BA37)-M37)*100,0) -> 100 | CE37: Kiến nghị cử tri HĐND tỉnh, HĐND huyện. Tên cũ: Tuyến đường ĐH 02B kết nối các xã phía tây huyện Tràng Định với huyện Thạch An, tỉnh Cao Bằng | CN37: =IF(BB37<>0,1,0) -> 0 | CO37: =IF(BD37<>0,1,0) -> 0 | CR37: =BB37-'[51]Biểu B.5_2630 NSDP CT'!BA34-'[51]Biểu B.2_2630 KCM'!BC58 -> 0
A38: 6 | B38: Đầu tư xây mới Tuyến đường từ Hội Hoan – Tân Văn | C38: C | D38: Văn Lãng, Bình Gia | E38: xã Hội Hoan, Tân Văn | F38: xã Hội Hoan, Tân Văn | H38: 2026-2028 | I38: 1027/VP-KT ngày 07/3/2024 | J38: 30000 | K38: 30000 | AA38: 30000 | AB38: 30000 | AF38: 30000 | AG38: 30000 | AK38: 30000 | AL38: 30000 | AN38: 30000 | AP38: 0 | AS38: 0 | AU38: 0 | AX38: 0 | AZ38: =BA38 -> 30000 | BA38: 30000 | BQ38: Đề xuất CTĐT: Sở Giao thông vận tải, CĐT: Ban Quản lý xây dựng và bảo trì hạ tầng giao thông | BS38: Đề xuất CTĐT: Sở Xây dựng, CĐT: Ban Quản lý dự án đầu tư xây dựng tỉnh | BT38: phục vụ nhu cầu cho các cơ sở sản xuất kinh doanh, hàng tạp hóa, cơ sở nguyên vật liệu trên 1.000 ha, nhu cầu đi lại cho 1.095 hộ dân với 4.785 nhân khẩu, 07 trường học; 01 Trạm Y tế của xã Hồng Thái | BU38: Định hướng chung phát triển ngành giao thông (cấp huyện, xã) thuyết minh báo cáo quy hoạch tỉnh | BV38: Định hướng chung phát triển ngành giao thông (cấp huyện, xã) | BX38: Chưa có trong danh mục quy hoạch sử dụng đất đến năm 2030 | BZ38: Hỗ trợ phát triển kinh tế và sản xuất kinh doanh | CB38: Giao thông | CC38: Khởi công mới | CD38: =IFERROR(BA38/(K38-(AB38-BA38)-M38)*100,0) -> 100 | CE38: Kiến nghị cử tri HĐND tỉnh, HĐND huyện. Tên cũ: Đầu tư xây mới Tuyến đường từ Hội Hoan (huyện Văn Lãng) – Hồng Thái (huyện Bình Gia) | CN38: =IF(BB38<>0,1,0) -> 0 | CO38: =IF(BD38<>0,1,0) -> 0 | CR38: =BB38-'[51]Biểu B.5_2630 NSDP CT'!BA35-'[51]Biểu B.2_2630 KCM'!BC59 -> 0
CR39: =BB39-'[51]Biểu B.5_2630 NSDP CT'!BA39-'[51]Biểu B.2_2630 KCM'!#REF! -> #REF!
CR40: =BB40-'[51]Biểu B.5_2630 NSDP CT'!BA40-'[51]Biểu B.2_2630 KCM'!#REF! -> #REF!
B41: Nhóm công trình ưu tiên số 2 | D41: 26 | E41: 0 | F41: =A66 -> 0 | J41: =SUM(J42:J66) -> 0 | K41: =SUM(K42:K66) -> 0 | L41: =SUM(L42:L66) -> 0 | M41: =SUM(M42:M66) -> 0 | N41: =SUM(N42:N66) -> 0 | O41: =SUM(O42:O66) -> 0 | P41: =SUM(P42:P66) -> 0 | Q41: =SUM(Q42:Q66) -> 0 | ... AE41: =SUM(AE42:AE66) -> 0 | AF41: 2282190 | AG41: 2282190 | AH41: 0 | AI41: 0 | AJ41: 0 | AK41: 0 | AL41: 0 | AM41: 0 | AN41: 0 | AO41: =SUM(AO42:AO66) -> 0 | AP41: 0 | AQ41: 0 | AR41: 0 | AS41: 0 | AU41: 0 | AV41: 0 | AW41: 0 | AX41: 0 | AY41: =SUM(AY42:AY66) -> 0 | AZ41: =SUM(AZ42:AZ66) -> 0 | BA41: =SUM(BA42:BA66) -> 0 | BB41: =SUM(BB42:BB66) -> 0 | BC41: =SUM(BC42:BC66) -> 0 | BD41: =SUM(BD42:BD66) -> 0 | BE41: =SUM(BE42:BE66) -> 0 | BF41: =SUM(BF42:BF66) -> 0 | ... BH41: =SUM(BH42:BH66) -> 0 | BL41: =SUM(BL42:BL66) -> 0 | BM41: =SUM(BM42:BM66) -> 0 | BN41: =SUM(BN42:BN66) -> 0 | BO41: =SUM(BO42:BO66) -> 0 | BP41: =SUM(BP42:BP66) -> 0 | BR41: =SUM(BR42:BR66) -> 0 | CD41: =IFERROR(BA41/(K41-(AB41-BA41)-M41)*100,0) -> 0 | CN41: =SUM(CN42:CN66) -> 0 | CO41: =SUM(CO42:CO66) -> 0 | CP41: =SUM(CP42:CP66) -> 0 | CQ41: =SUM(CQ42:CQ66) -> 0 | CR41: =BB41-'[51]Biểu B.5_2630 NSDP CT'!BA41-'[51]Biểu B.2_2630 KCM'!#REF! -> #REF!
CR42: =BB42-'[51]Biểu B.5_2630 NSDP CT'!BA42-'[51]Biểu B.2_2630 KCM'!#REF! -> #REF!
CR43: =BB43-'[51]Biểu B.5_2630 NSDP CT'!BA43-'[51]Biểu B.2_2630 KCM'!#REF! -> #REF!
CR44: =BB44-'[51]Biểu B.5_2630 NSDP CT'!BA44-'[51]Biểu B.2_2630 KCM'!#REF! -> #REF!
CR45: =BB45-'[51]Biểu B.5_2630 NSDP CT'!BA45-'[51]Biểu B.2_2630 KCM'!#REF! -> #REF!
CR46: =BB46-'[51]Biểu B.5_2630 NSDP CT'!BA46-'[51]Biểu B.2_2630 KCM'!#REF! -> #REF!
CR47: =BB47-'[51]Biểu B.5_2630 NSDP CT'!BA47-'[51]Biểu B.2_2630 KCM'!#REF! -> #REF!
CR48: =BB48-'[51]Biểu B.5_2630 NSDP CT'!BA48-'[51]Biểu B.2_2630 KCM'!#REF! -> #REF!
CR49: =BB49-'[51]Biểu B.5_2630 NSDP CT'!BA49-'[51]Biểu B.2_2630 KCM'!#REF! -> #REF!
CR50: =BB50-'[51]Biểu B.5_2630 NSDP CT'!BA50-'[51]Biểu B.2_2630 KCM'!#REF! -> #REF!
CR51: =BB51-'[51]Biểu B.5_2630 NSDP CT'!BA51-'[51]Biểu B.2_2630 KCM'!#REF! -> #REF!
CR52: =BB52-'[51]Biểu B.5_2630 NSDP CT'!BA52-'[51]Biểu B.2_2630 KCM'!#REF! -> #REF!
CR53: =BB53-'[51]Biểu B.5_2630 NSDP CT'!BA53-'[51]Biểu B.2_2630 KCM'!#REF! -> #REF!
... CR61: =BB61-'[51]Biểu B.5_2630 NSDP CT'!BA61-'[51]Biểu B.2_2630 KCM'!#REF! -> #REF!
CJ62: =IF(BS67<>0,IF(AG67=0,BA67,0),0) -> 0 | CK62: =IF(BS67<>0,IF(AG67<>BA67,1,0),0) -> 0 | CR62: =BB62-'[51]Biểu B.5_2630 NSDP CT'!BA62-'[51]Biểu B.2_2630 KCM'!#REF! -> #REF!
...

Sheet Bieu II.DT.1
A2: BIỂU II.ĐT.1: ĐIỀU CHỈNH VỐN ĐẦU TƯ PHÁT TRIỂN KÉO DÀI SANG NĂM 2026 THUỘC CHƯƠNG TRÌNH MTQG TRÊN ĐỊA BÀN TỈNH LẠNG SƠN
A3: ='Biểu I.PB_2630 NSDP'!A4 -> (Kèm theo Tờ trình số: 305/ TTr-UBND ngày 10 /10/2026 của UBND tỉnh)
Z4: Đơn vị: triệu đồng
A5: TT | B5: Dự án thành phần/ nội dung hoạt động | C5: Kế hoạch vốn Chương trình được phép sử dụng trong năm 2026 | H5: Điều chỉnh | U5: Kế hoạch vốn Chương trình được phép sử dụng trong năm 2026 | Z5: Ghi chú
C6: Tổng cộng | D6: Trong đó | H6: Điều chỉnh giảm, trong đó: | R6: Tăng bổ sung | U6: Tổng cộng | V6: Trong đó
D7: NSTW | E7: NSĐP | F7: Trong đó | H7: Tổng số | K7: Giảm để tăng, bổ sung cho các dự án giai đoạn 2021-2025 | N7: Giảm để phân bổ cho các dự án giai đoạn 2026-2030 | Q7: Giảm do hụt thu nguồn thu sử dụng đất | V7: NSTW | W7: NSĐP | X7: Trong đó
F8: NST | G8: NSX | H8: Tổng cộng | I8: NSTW | J8: NST | K8: Tổng cộng | L8: NSTW | M8: NST | N8: Tổng cộng | O8: NSTW | P8: NST | Q8: NST | R8: Tổng cộng | S8: NSTW | T8: NST | X8: NST | Y8: NSX
A9: 1 | B9: 2 | C9: 3 | D9: 5 | E9: 6 | F9: 6a | G9: 6b | H9: 7 | I9: 8 | J9: 9 | K9: 10 | L9: 11 | M9: 12 | N9: 13 | O9: 14 | P9: 15 | Q9: 16 | R9: 17 | S9: 18 | T9: 19 | U9: 20 | V9: 21 | W9: 22 | X9: 22a | Y9: 22b | Z9: 23
A10: A | B10: CHƯƠNG TRÌNH MTQG PHÁT TRIỂN KT-XH VÙNG ĐỒNG BÀO DTTS&MN | C10: =SUM(D10:E10) -> #REF! | D10: =D11+D12+D13+D15+D17+D18 -> #REF! | E10: =E11+E12+E13+E15+E17+E18 -> #REF! | H10: =H11+H12+H13+H15+H17+H18+0.3 -> #REF! | I10: =I11+I12+I13+I15+I17+I18 -> #REF! | J10: =+M10+P10+Q10 -> #REF! | K10: =K11+K12+K13+K15+K17+K18 -> #REF! | L10: =L11+L12+L13+L15+L17+L18 -> #REF! | M10: =M11+M12+M13+M15+M17+M18 -> 0 | N10: =N11+N12+N13+N15+N17+N18 -> #REF! | O10: =O11+O12+O13+O15+O17+O18 -> #REF! | P10: =P11+P12+P13+P15+P17+P18 -> #REF! | Q10: =Q11+Q12+Q13+Q15+Q17+Q18 -> 20695 | R10: =R11+R12+R13+R15+R17 -> #REF! | S10: =S11+S12+S13+S15+S17 -> 24893 | T10: =T11+T12+T13+T15+T17 -> #REF! | U10: =C10-H10+R10 -> #REF! | V10: =D10-I10+S10 -> #REF! | W10: =E10-J10+T10 -> #REF!
A11: I | B11: Dự án 1: Giải quyết tình trạng thiếu đất ở, nhà ở, đất sản xuất, nước sinh hoạt | C11: =SUM(D11:E11) -> 12715.404 | D11: 11515.889 | E11: 1199.515 | H11: =SUM(I11:J11) -> #REF! | I11: =I24 -> #REF! | J11: =J24 -> #REF! | K11: =L11+M11 -> 252 | L11: =L24 -> 252 | M11: =M24 -> 0 | N11: =N24 -> #REF! | O11: =O24 -> 746 | P11: =P24 -> #REF! | Q11: =Q24 -> 701 | R11: =R24 -> 0 | S11: =S24 -> 0 | ... W11: =W24 -> #REF!
A12: II | B12: Dự án 2: Quy hoạch, sắp xếp, bố trí, ổn định dân cư ở những nơi cần thiết | C12: =SUM(D12:E12) -> 54367.777 | D12: 54197.777 | E12: 170 | H12: =SUM(I12:J12) -> #REF! | I12: =I37 -> #REF! | J12: =J37 -> #REF! | K12: =K37 -> 590 | L12: =L37 -> 590 | M12: =M37 -> 0 | N12: =N37 -> #REF! | O12: =O37 -> #REF! | P12: =P37 -> #REF! | Q12: =Q37 -> 0 | R12: =SUM(S12:T12) -> 0 | S12: =S37 -> 0 | T12: =T37 -> 0 | U12: =SUM(V12:W12) -> #REF! | V12: =V37 -> #REF! | W12: =W37 -> #REF!
A13: III | B13: Dự án 4: Đầu tư cơ sở hạ tầng thiết yếu, phục vụ sản xuất, đời sống trong vùng đồng bào dân tộc thiểu số và miền núi và các đơn vị sự nghiệp công lập của lĩnh vực dân tộc | C13: =SUM(D13:E13) -> #REF! | D13: =D14 -> #REF! | E13: =E14 -> #REF! | H13: =SUM(I13:J13) -> #REF! | I13: =I14 -> #REF! | J13: =J43 -> #REF! | K13: =K43 -> #REF! | L13: =L43 -> #REF! | M13: =M43 -> 0 | N13: =N43 -> #REF! | O13: =O43 -> #REF! | P13: =P43 -> #REF! | Q13: =Q43 -> 19830 | R13: =SUM(S13:T13) -> #REF! | S13: =S43 -> 24893 | T13: =T43 -> #REF! | U13: =SUM(V13:W13) -> #REF! | V13: =V43 -> #REF! | W13: =W43 -> #REF!
A14: 1 | B14: Tiểu dự án 1: Đầu tư cơ sở hạ tầng thiết yếu, phục vụ sản xuất, đời sống trong vùng đồng bào dân tộc thiểu số và miền núi | C14: =SUM(D14:E14) -> #REF! | D14: =D43 -> #REF! | E14: =E43 -> #REF! | H14: =SUM(I14:J14) -> #REF! | I14: =I44 -> #REF! | J14: =J44 -> #REF! | K14: =K44 -> #REF! | L14: =L44 -> #REF! | M14: =M44 -> 0 | N14: =N44 -> #REF! | O14: =O44 -> #REF! | P14: 0 | Q14: =Q44 -> 19830 | R14: =SUM(S14:T14) -> #REF! | S14: =S44 -> 24893 | T14: =T44 -> #REF! | U14: =SUM(V14:W14) -> #REF! | V14: =V44 -> #REF! | W14: =W44 -> #REF!
A15: IV | B15: Dự án 5: Phát triển giáo dục đào tạo nâng cao chất lượng nguồn nhân lực | C15: =SUM(D15:E15) -> 23405.025 | D15: 21429.188 | E15: 1975.837 | H15: =SUM(I15:J15) -> #REF! | I15: =I67 -> #REF! | J15: =J67 -> #REF! | K15: =K67 -> 4865 | L15: =L67 -> 4865 | M15: =M67 -> 0 | N15: =N67 -> #REF! | O15: =O67 -> #REF! | P15: =P67 -> 0 | Q15: 164 | R15: =SUM(S15:T15) -> 0 | S15: =S67 -> 0 | T15: =T67 -> 0 | U15: =SUM(V15:W15) -> #REF! | V15: =V67 -> #REF! | W15: =W67 -> #REF!
A16: 1 | B16: Tiểu dự án 1: Đổi mới hoạt động, củng cố phát triển các trường phổ thông dân tộc nội trú, trường phổ thông dân tộc bán trú, trường phổ thông có học sinh ở bán trú và xóa mù chữ cho người dân vùng đồng bào dân tộc thiểu số | C16: =SUM(D16:E16) -> 23405.025 | D16: 21429.188 | E16: 1975.837 | H16: =SUM(I16:J16) -> #REF! | I16: =I68 -> #REF! | J16: =J68 -> #REF! | K16: =K68 -> 4865 | L16: =L68 -> 4865 | M16: =M68 -> 0 | N16: =N68 -> #REF! | O16: =O68 -> #REF! | P16: 0 | Q16: =Q67 -> 164 | R16: =SUM(S16:T16) -> 0 | S16: =S68 -> 0 | T16: =T68 -> 0 | U16: =SUM(V16:W16) -> #REF! | V16: =V68 -> #REF! | W16: =W68 -> #REF!
A17: V | B17: Dự án 6: Bảo tồn, phát huy giá trị văn hóa truyền thống tốt đẹp của các dân tộc thiểu số gắn với phát triển du lịch | C17: =SUM(D17:E17) -> 12199.551 | D17: 11684.805 | E17: 514.7463 | H17: =SUM(I17:J17) -> 1508 | I17: =I81 -> 1508 | J17: =J81 -> 0 | K17: =K81 -> 1508 | L17: =L81 -> 1508 | M17: =M81 -> 0 | N17: =N81 -> 0 | O17: =O81 -> 0 | P17: =P81 -> 0 | R17: =SUM(S17:T17) -> 0 | S17: =S81 -> 0 | T17: =T81 -> 0 | U17: =SUM(V17:W17) -> 6712 | V17: =V81 -> 6190 | W17: =W81 -> 522
A18: VII | B18: Dự án 10: Truyền thông, tuyên truyền, vận động trong vùng đồng bào dân tộc thiểu số và miền núi. Kiểm tra, giám sát đánh giá việc tổ chức thực hiện Chương trình | C18: =SUM(D18:E18) -> 2751.5635 | D18: 2561.6983 | E18: 189.8652 | H18: =SUM(I18:J18) -> 3.508358 | I18: =I89 -> 1.643153 | J18: =J89 -> 1.865205 | K18: =K89 -> 1.643153 | L18: =L89 -> 1.643153 | M18: =M89 -> 0 | N18: =N89 -> 1.865205 | O18: =O89 -> 0 | P18: =P89 -> 1.865205 | R18: =R19 -> 0 | S18: =S19 -> 0 | T18: =T19 -> 0 | U18: =U19 -> 0 | V18: =V19 -> 0 | W18: =W19 -> 0 | Z18: =Z19 -> #REF!
B19: Tiểu dự án 2: Ứng dụng công nghệ thông tin hỗ trợ phát triển kinh tế - xã hội và đảm bảo an ninh trật tự vùng đồng bào dân tộc thiểu số và miền núi | C19: =SUM(D19:E19) -> 2751.5635 | D19: 2561.6983 | E19: 189.8652 | H19: =SUM(I19:J19) -> 3.508358 | I19: =I90 -> 1.643153 | J19: =J90 -> 1.865205 | K19: =K90 -> 1.643153 | L19: =L90 -> 1.643153 | M19: =M90 -> 0 | N19: =N90 -> 1.865205 | O19: =O90 -> 0 | P19: =P90 -> 1.865205 | R19: 0 | S19: 0 | T19: 0 | U19: 0 | V19: 0 | W19: 0 | Z19: =#REF! -> #REF!
B20: TỔNG CỘNG | C20: =C21+C97+C116+C125 -> #REF! | D20: =D21+D97+D116+D125 -> 387223.11 | E20: =E21+E97+E116+E125 -> #REF! | F20: =F21+F97+F116+F125 -> #REF! | G20: =G21+G97+G116+G125 -> 6191 | H20: =H21+H97+H116+H125+0.1 -> #REF! | I20: =I21+I97+I116+I125 -> #REF! | J20: =J21+J97+J116+J125 -> #REF! | K20: =K21+K97+K116+K125-0.1 -> #REF! | L20: =L21+L97+L116+L125 -> #REF! | M20: =M21+M97+M116+M125 -> 5246.18 | N20: =N21+N97+N116+N125 -> #REF! | O20: =O21+O97+O116+O125 -> #REF! | P20: =P21+P97+P116+P125 -> #REF! | Q20: =Q21+Q97+Q116+Q125 -> 20695 | R20: =R21+R97+R116+R125 -> #REF! | S20: =S21+S97+S116+S125 -> #REF! | ... Y20: =Y21+Y97+Y116+Y125 -> 6191 | AA20: =C20-Q20 -> #REF! | AB20: =D20-V20 -> #REF!
A21: A | B21: CHƯƠNG TRÌNH MTQG PHÁT TRIỂN KT-XH VÙNG ĐỒNG BÀO DTTS&MN | C21: =D21+E21 -> 320877.11 | D21: 282866.11 | E21: =F21+G21 -> 38011 | F21: =31820 -> 31820 | G21: 6191 | H21: =H22+H95 -> #REF! | I21: =I22+I95 -> #REF! | J21: =J22+J95 -> #REF! | K21: =K22+K95 -> #REF! | L21: =L22+L95 -> #REF! | M21: =M22+M95 -> 0 | N21: =N22+N95 -> #REF! | O21: =O22+O95-0.3 -> #REF! | P21: =P22+P95 -> #REF! | Q21: =Q22+Q95 -> 20695 | R21: =R22+R95+0.3 -> #REF! | S21: =S22+S95+0.3 -> 24893.3 | T21: =T22+T95 -> #REF! | U21: =U22+U95 -> #REF! | V21: =V22+V95 -> #REF! | W21: =W22+W95 -> #REF! | X21: =W21-Y21 -> #REF! | Y21: =G21 -> 6191 | AB21: =D21-I21+S21-V21 -> #REF! | AC21: =E21-J21+S21-W21 -> #REF!
A22: A.1 | B22: Vốn của danh mục dự án thuộc phạm vi điều chỉnh | C22: =C24+C37+C43+C67+C81+C89+C87 -> #REF! | D22: =D24+D37+D43+D67+D81+D89+D87 -> #REF! | E22: =E24+E37+E43+E67+E81+E89+E87 -> #REF! | F22: =E22 -> #REF! | H22: =H24+H37+H43+H67+H81+H89+H87 -> #REF! | I22: =I24+I37+I43+I67+I81+I89+I87-0.3 -> #REF! | J22: =J24+J37+J43+J67+J81+J89+J87 -> #REF! | K22: =K24+K37+K43+K67+K81+K89+K87 -> #REF! | L22: =L24+L37+L43+L67+L81+L89+L87 -> #REF! | M22: =M24+M37+M43+M67+M81+M89+M87 -> 0 | N22: =N24+N37+N43+N67+N81+N89+N87 -> #REF! | O22: =O24+O37+O43+O67+O81+O89+O87 -> #REF! | P22: =P24+P37+P43+P67+P81+P89+P87 -> #REF! | Q22: =Q24+Q37+Q43+Q67+Q81+Q89+Q87 -> 20695 | ... W22: =W24+W37+W43+W67+W81+W89+W87 -> #REF! | X22: =W22 -> #REF! | Y22: =Y24+Y37+Y43+Y67+Y81+Y89+Y87 -> 0 | AB22: =D22-I22+S22-V22 -> #REF! | AC22: =E22-J22+T22-W22 -> #REF!
B23: Trong đó | F23: =E23 -> 0 | X23: =W23 -> 0 | AB23: =D23-I23+S23-V23 -> 0 | AC23: =E23-J23+T23-W23 -> 0
A24: I | B24: Dự án 1: Giải quyết tình trạng thiếu đất ở, nhà ở, đất sản xuất, nước sinh hoạt | C24: =C26+C32 -> #REF! | D24: =D26+D32 -> #REF! | E24: =E26+E32 -> #REF! | F24: =E24 -> #REF! | H24: =H26+H32 -> #REF! | I24: =I26+I32 -> #REF! | J24: =J26+J32 -> #REF! | K24: =L24+M24 -> 252 | L24: =L26+L32 -> 252 | M24: =M26+M32 -> 0 | N24: =N26+N32 -> #REF! | O24: =O26+O32 -> 746 | P24: =P26+P32 -> #REF! | Q24: =Q26+Q32 -> 701 | R24: =R26+R32 -> 0 | S24: =S26+S32 -> 0 | T24: =T26+T32 -> 0 | U24: =C24-H24+R24 -> #REF! | V24: =D24-I24+S24 -> #REF! | W24: =E24-J24+T24 -> #REF! | X24: =W24 -> #REF! | AB24: =D24-I24+S24-V24 -> #REF! | AC24: =E24-J24+T24-W24 -> #REF!
B25: Trong đó | F25: =E25 -> 0 | K25: =L25+M25 -> 0 | X25: =W25 -> 0 | AB25: =D25-I25+S25-V25 -> 0 | AC25: =E25-J25+T25-W25 -> 0
A26: I.1 | B26: Các dự án giao UBND xã làm chủ đầu tư | C26: =SUM(D26:E26) -> #REF! | D26: =SUM(D27:D31) -> #REF! | E26: =SUM(E27:E31) -> #REF! | F26: =E26 -> #REF! | H26: =SUM(H27:H31) -> #REF! | I26: =SUM(I27:I31)+0.2 -> #REF! | J26: =SUM(J27:J31) -> #REF! | K26: =L26+M26 -> 172 | L26: =SUM(L27:L31) -> 172 | M26: =SUM(M27:M31) -> 0 | N26: =SUM(N27:N31) -> #REF! | O26: =SUM(O27:O31) -> 0 | P26: =SUM(P27:P31) -> #REF! | Q26: =SUM(Q27:Q31) -> 701 | R26: =SUM(R27:R31) -> 0 | S26: =SUM(S27:S31) -> 0 | ... W26: =SUM(W27:W31) -> #REF! | X26: =W26 -> #REF! | AB26: =D26-I26+S26-V26 -> #REF! | AC26: =E26-J26+T26-W26 -> #REF!
A27: 1.1 | B27: UBND xã Đồng Đăng (Ban QLDA KV 2 cũ) | C27: =SUM(D27:E27) -> #REF! | D27: =#REF! -> #REF! | E27: =#REF! -> #REF! | F27: =E27 -> #REF! | H27: =SUM(I27:J27) -> 774 | I27: ='[53]Ban 2-DongDang'!G12 -> 73 | J27: 701 | K27: =L27+M27 -> 73 | L27: 73 | N27: =O27+P27 -> 0 | O27: =I27-L27 -> 0 | P27: 0 | Q27: 701 | R27: =SUM(S27:T27) -> 0 | U27: =SUM(V27:W27) -> #REF! | V27: =D27-I27+S27 -> #REF! | W27: =E27-J27+T27 -> #REF! | X27: =W27 -> #REF! | AB27: =D27-I27+S27-V27 -> #REF! | AC27: =E27-J27+T27-W27 -> #REF!
A28: 1.2 | B28: UBND xã Lộc Bình (Ban QLDA KV 3 cũ) | C28: =SUM(D28:E28) -> #REF! | D28: =#REF! -> #REF! | E28: =#REF! -> #REF! | F28: =E28 -> #REF! | H28: =SUM(I28:J28) -> #REF! | I28: =#REF! -> #REF! | J28: =#REF! -> #REF! | K28: =L28+M28 -> 28 | L28: 28 | N28: =O28+P28 -> #REF! | O28: 0 | P28: =J28-M28 -> #REF! | R28: =SUM(S28:T28) -> 0 | U28: =SUM(V28:W28) -> #REF! | V28: =D28-I28+S28 -> #REF! | W28: =E28-J28+T28 -> #REF! | X28: =W28 -> #REF! | AB28: =D28-I28+S28-V28 -> #REF! | AC28: =E28-J28+T28-W28 -> #REF!
A29: 1.4 | B29: UBND xã Đình Lập (Ban QLDA KV 4 cũ) | C29: =SUM(D29:E29) -> #REF! | D29: =#REF! -> #REF! | E29: =#REF! -> #REF! | F29: =E29 -> #REF! | H29: =SUM(I29:J29) -> 1 | I29: 1 | K29: =L29+M29 -> 1 | L29: 1 | N29: =O29+P29 -> 0 | O29: 0 | P29: =J29-M29 -> 0 | R29: =SUM(S29:T29) -> 0 | U29: =SUM(V29:W29) -> #REF! | V29: 0 | W29: =E29-J29+T29 -> #REF! | X29: =W29 -> #REF! | AB29: =D29-I29+S29-V29 -> #REF! | AC29: =E29-J29+T29-W29 -> #REF!
A30: 1.5 | B30: UBND xã Na Sầm ( Ban QLDA KV 7 cũ) | C30: =SUM(D30:E30) -> #REF! | D30: =#REF! -> #REF! | E30: =#REF! -> #REF! | F30: =E30 -> #REF! | H30: =SUM(I30:J30) -> #REF! | I30: =#REF! -> #REF! | J30: =#REF! -> #REF! | K30: =L30+M30 -> 13 | L30: 13 | M30: 0 | N30: =O30+P30 -> #REF! | O30: 0 | P30: =J30-M30 -> #REF! | R30: =SUM(S30:T30) -> 0 | U30: =SUM(V30:W30) -> #REF! | V30: 0 | W30: =E30-J30+T30 -> #REF! | X30: =W30 -> #REF! | AB30: =D30-I30+S30-V30 -> #REF! | AC30: =E30-J30+T30-W30 -> #REF!
A31: 1.6 | B31: UBND xã Bình Gia (Ban QLDA KV 10 cũ) | C31: =SUM(D31:E31) -> #REF! | D31: =#REF! -> #REF! | E31: =#REF! -> #REF! | F31: =E31 -> #REF! | H31: =SUM(I31:J31) -> #REF! | I31: =#REF! -> #REF! | J31: =#REF! -> #REF! | K31: =L31+M31 -> 57 | L31: 57 | N31: =O31+P31 -> #REF! | O31: 0 | P31: =J31-M31 -> #REF! | R31: =SUM(S31:T31) -> 0 | U31: =SUM(V31:W31) -> #REF! | V31: =D31-I31+S31 -> #REF! | W31: =E31-J31+T31 -> #REF! | X31: =W31 -> #REF! | AB31: =D31-I31+S31-V31 -> #REF! | AC31: =E31-J31+T31-W31 -> #REF!
A32: I.2 | B32: Khối xã: | C32: =SUM(D32:E32) -> 826 | D32: =D33+D34+D35+D36 -> 826 | E32: =E33+E34+E35 -> 0 | F32: =E32 -> 0 | H32: =H33+H34+H35+H36 -> 826 | I32: =I33+I34+I35+I36 -> 826 | J32: =J33+J34+J35 -> 0 | K32: =K33+K34+K35 -> 80 | L32: =L33+L34+L35 -> 80 | N32: =O32+P32 -> 746 | O32: =O33+O34+O35+O36 -> 746 | P32: =J32-M32 -> 0 | R32: =R33+R34+R35 -> 0 | S32: =S33+S34+S35 -> 0 | T32: =T33+T34+T35 -> 0 | U32: =U33+U34+U35 -> 0 | V32: =V33+V34+V35 -> 0 | W32: =W33+W34+W35 -> 0 | X32: =W32 -> 0 | AB32: =D32-I32+S32-V32 -> 0 | AC32: =E32-J32+T32-W32 -> 0
A33: 2.1 | B33: Xã Thiện Hòa | C33: =SUM(D33:E33) -> 80 | D33: 80 | F33: =E33 -> 0 | H33: =SUM(I33:J33) -> 80 | I33: 80 | J33: 0 | K33: =L33+M33 -> 80 | L33: 80 | M33: 0 | N33: =O33+P33 -> 0 | O33: =I33-L33 -> 0 | P33: =J33-M33 -> 0 | U33: =+V33+W33 -> 0 | V33: =D33-I33+S33 -> 0 | W33: =E33-J33+T33 -> 0 | X33: =W33 -> 0 | AB33: =D33-I33+S33-V33 -> 0 | AC33: =E33-J33+T33-W33 -> 0
A34: 2.2 | B34: Xã Yên Bình | C34: =SUM(D34:E34) -> 360 | D34: 360 | F34: =E34 -> 0 | H34: =SUM(I34:J34) -> 360 | I34: 360 | J34: 0 | K34: =L34+M34 -> 0 | L34: 0 | M34: 0 | N34: =O34+P34 -> 360 | O34: =I34-L34 -> 360 | P34: =J34-M34 -> 0 | U34: =+V34+W34 -> 0 | V34: 0 | W34: 0 | X34: =W34 -> 0 | AB34: =D34-I34+S34-V34 -> 0 | AC34: =E34-J34+T34-W34 -> 0
A35: 2.3 | B35: Xã Tân Thành | C35: =SUM(D35:E35) -> 360 | D35: 360 | F35: =E35 -> 0 | H35: =SUM(I35:J35) -> 360 | I35: 360 | J35: 0 | K35: =L35+M35 -> 0 | L35: 0 | M35: 0 | N35: =O35+P35 -> 360 | O35: =I35-L35 -> 360 | P35: =J35-M35 -> 0 | U35: =+V35+W35 -> 0 | V35: 0 | W35: 0 | X35: =W35 -> 0 | AB35: =D35-I35+S35-V35 -> 0 | AC35: =E35-J35+T35-W35 -> 0
A36: 2.4 | B36: Xã Nhất Hoà | C36: =SUM(D36:E36) -> 26 | D36: 26 | F36: =E36 -> 0 | H36: =SUM(I36:J36) -> 26 | I36: 26 | J36: 0 | K36: =L36+M36 -> 0 | L36: 0 | M36: 0 | N36: =O36+P36 -> 26 | O36: =I36-L36 -> 26 | P36: =J36-M36 -> 0 | U36: =+V36+W36 -> 0 | V36: 0 | W36: 0 | X36: =W36 -> 0 | AB36: =D36-I36+S36-V36 -> 0 | AC36: =E36-J36+T36-W36 -> 0
A37: II | B37: Dự án 2: Quy hoạch, sắp xếp, bố trí, ổn định dân cư ở những nơi cần thiết | C37: =C39 -> #REF! | D37: =D39 -> #REF! | E37: =E39 -> #REF! | F37: =E37 -> #REF! | H37: =H39+H42 -> #REF! | I37: =I39+I42 -> #REF! | J37: =J39+J42 -> #REF! | K37: =K39 -> 590 | L37: =L39 -> 590 | M37: =M39 -> 0 | N37: =N39 -> #REF! | O37: =O39 -> #REF! | P37: =P39 -> #REF! | Q37: =Q39 -> 0 | R37: =R39 -> 0 | ... T37: =T39 -> 0 | U37: =C37-H37+R37 -> #REF! | V37: =D37-I37+S37 -> #REF! | W37: =E37-J37+T37 -> #REF! | X37: =W37 -> #REF! | AB37: =D37-I37+S37-V37 -> #REF! | AC37: =E37-J37+T37-W37 -> #REF!
B38: Trong đó: | F38: =E38 -> 0 | X38: =W38 -> 0 | AB38: =D38-I38+S38-V38 -> 0 | AC38: =E38-J38+T38-W38 -> 0
A39: 1 | B39: Các dự án giao UBND xã làm chủ đầu tư | C39: =SUM(D39:E39) -> #REF! | D39: =SUM(D40:D41)+0.2 -> #REF! | E39: =SUM(E40:E41) -> #REF! | F39: =E39 -> #REF! | H39: =SUM(H40:H41) -> #REF! | I39: =SUM(I40:I41) -> #REF! | J39: =SUM(J40:J41) -> #REF! | K39: =L39+M39 -> 590 | L39: =SUM(L40:L41) -> 590 | M39: =SUM(M40:M41) -> 0 | N39: =SUM(N40:N41) -> #REF! | O39: =SUM(O40:O41) -> #REF! | P39: =SUM(P40:P41) -> #REF! | Q39: =SUM(Q40:Q41) -> 0 | R39: =SUM(R40:R41) -> 0 | S39: =SUM(S40:S41) -> 0 | T39: =SUM(T40:T41) -> 0 | U39: =V39+W39 -> #REF! | V39: =SUM(V40:V41) -> #REF! | W39: =SUM(W40:W41) -> #REF! | X39: =W39 -> #REF! | AB39: =D39-I39+S39-V39 -> #REF! | AC39: =E39-J39+T39-W39 -> #REF!
A40: 1.1 | B40: UBND xã Lộc Bình (Ban QLDA KV 3 cũ) | C40: =SUM(D40:E40) -> #REF! | D40: =#REF! -> #REF! | E40: =#REF! -> #REF! | F40: =E40 -> #REF! | H40: =SUM(I40:J40) -> #REF! | I40: =#REF! -> #REF! | J40: =#REF! -> #REF! | K40: =L40+M40 -> 188 | L40: 188 | M40: 0 | N40: =O40+P40 -> #REF! | O40: =I40-L40 -> #REF! | P40: =J40-M40 -> #REF! | Q40: 0 | R40: =SUM(S40:T40) -> 0 | S40: 0 | T40: 0 | U40: =SUM(V40:W40) -> #REF! | V40: =D40-I40+S40 -> #REF! | W40: =E40-J40+T40 -> #REF! | X40: =W40 -> #REF! | AB40: =D40-I40+S40-V40 -> #REF! | AC40: =E40-J40+T40-W40 -> #REF!
A41: 1.2 | B41: UBND xã Bình Gia (Ban QLDA KV 10 cũ) | C41: =SUM(D41:E41) -> #REF! | D41: =#REF! -> #REF! | E41: =#REF! -> #REF! | F41: =E41 -> #REF! | H41: =SUM(I41:J41) -> #REF! | I41: =#REF! -> #REF! | J41: =#REF! -> #REF! | K41: =L41+M41 -> 402 | L41: 402 | M41: 0 | N41: =O41+P41 -> #REF! | O41: 0 | P41: =J41-M41 -> #REF! | Q41: 0 | R41: =SUM(S41:T41) -> 0 | S41: 0 | T41: 0 | U41: =SUM(V41:W41) -> #REF! | V41: 382 | W41: =E41-J41+T41 -> #REF! | X41: =W41 -> #REF! | AB41: =D41-I41+S41-V41 -> #REF! | AC41: =E41-J41+T41-W41 -> #REF!
...

Sheet B II.DT.2
A1: BIỂU II.ĐT.2. ĐIỀU CHỈNH KẾ HOẠCH VỐN CTMTQG PHÁT TRIỂN KINH TẾ XÃ HỘI VÙNG ĐỒNG BÀO DÂN TỘC THIỂU SỐ VÀ MIỀN NÚI CHUYỂN SANG GIAI ĐOẠN 2026-2030
A3: ='[53]Biểu I NTM GNBV'!A3:Y3 -> (Kèm theo Tờ trình số: /TTr-STC ngày / /2026 của Sở Tài chính)
A4: STT | B4: Đơn vị | C4: Tổng số | D4: NSTW | E4: NST | F4: Ghi chú
A5: I | B5: Số vốn thu về sau khi đã bổ sung cho các đơn vị thực hiện nhiệm vụ giai đoạn 2021-2030 | C5: ='Bieu II.DT.1'!N10 -> #REF! | D5: ='Bieu II.DT.1'!O10 -> #REF! | E5: ='Bieu II.DT.1'!P10 -> #REF!
A6: II | B6: Phân bổ | C6: =D6+E6 -> #REF! | D6: =D7+D10 -> 11249 | E6: =E5 -> #REF!
A7: 1 | B7: Xã Bắc Sơn | C7: =D7+E7 -> 3000 | D7: 3000 | E7: =E9 -> 0
A8: - | B8: Nội dung 1, nội dung thành phần 2 | C8: =D8+E8 -> 2020 | D8: =D9 -> 2020
B9: Công trình đường Tân Tiến - Thủy Hội, xã Bắc Sơn, tỉnh Lạng Sơn | C9: =D9+E9 -> 2020 | D9: 2020
A10: 2 | B10: Xã Lộc Bình | C10: =D10+E10 -> #REF! | D10: 8249 | E10: =E11+E13+E15 -> #REF!
A11: 3.1 | B11: Nội dung 10, nội dung thành phần 2, Hợp phần thứ nhất : Phát triển công trình cấp nước sạch tập trung… | C11: =C12 -> #REF! | D11: 1408 | E11: =E12 -> #REF!
B12: Cải tạo, sửa chữa hệ thống cấp nước sinh hoạt các thôn | C12: =SUM(D12:E12) -> #REF! | D12: 1411 | E12: =E5 -> #REF!
A13: 3.2 | B13: Nội dung 01, nội dung thành phần 1, Hợp phần thứ nhất: Đầu tư xây dựng mới; đầu tư cải tạo, nâng cấp; đầu tư cơ sở vật chất, trang thiết bị cho: Các cơ sở giáo dục mầm non; các trường phổ thông… | C13: =C14 -> 2110 | D13: =D14 -> 2110
B14: Cải tạo, nâng cấp Trường Tiểu học Minh Khai | C14: =SUM(D14:E14) -> 2110 | D14: 2110
A15: 3.3 | B15: Nội dung 04, nội dung thành phần 1, Hợp phần thứ hai : Đầu tư xây dựng, cải tạo thiết chế văn hóa, thể thao… | C15: =SUM(D15:E15) -> 3000 | D15: 3000
B16: Xây mới Nhà Văn hóa thôn Khòn Quắc | C16: =SUM(D16:E16) -> 1000 | D16: 1000
B17: Sửa chữa Nhà văn hóa thôn Tằm Lịp | C17: =SUM(D17:E17) -> 600 | D17: 600
B18: Sửa chữa nhà văn hóa thôn Bản Khiếng | C18: =SUM(D18:E18) -> 400 | D18: 400
B19: Xây mới Nhà văn hóa thôn Đoàn Kết | C19: =SUM(D19:E19) -> 1000 | D19: 1000
A20: III | B20: Số thu hồi về NS tỉnh | C20: =C5-C6 -> #REF! | D20: =D5-D6 -> #REF! | E20: =E5-E6 -> #REF!

Sheet B II.DT.2-KTinh
A2: PHỤ BIỂU II.ĐT.2. ĐIỀU CHỈNH KẾ HOẠCH TRUNG HẠN GIAI ĐOẠN 2026-2030 VÀ NĂM 2026 CÁC NHIỆM VỤ, DỰ ÁN THUỘC CHƯƠNG TRÌNH MỤC TIÊU QUỐC GIA (KHỐI SỞ, NGÀNH)
A3: ='Biểu I.PB_2630 NSDP'!A4 -> (Kèm theo Tờ trình số: 305/ TTr-UBND ngày 10 /10/2026 của UBND tỉnh)
V4: Đơn vị: triệu đồng
A5: TT | B5: Dự án thành phần/ nội dung hoạt động | C5: Kế hoạch vốn Chương trình được phép sử dụng trong năm 2026 | F5: Điều chỉnh | S5: Kế hoạch vốn Chương trình được phép sử dụng trong năm 2026 | V5: Ghi chú
C6: Tổng cộng | D6: Trong đó | F6: Điều chỉnh giảm, trong đó: | P6: Tăng bổ sung | S6: Tổng cộng | T6: Trong đó
D7: NSTW | E7: NST | F7: Tổng số | I7: Giảm để tăng, bổ sung cho các dự án giai đoạn 2021-2025 | L7: Giảm để phân bổ cho các dự án giai đoạn 2026-2030 | O7: Giảm do hụt thu nguồn thu sử dụng đất | T7: NSTW | U7: NST
F8: Tổng cộng | G8: NSTW | H8: NST | I8: Tổng cộng | J8: NSTW | K8: NST | L8: Tổng cộng | M8: NSTW | N8: NST | O8: NST | P8: Tổng cộng | Q8: NSTW | R8: NST
A9: 1 | B9: 2 | C9: 3 | D9: 5 | E9: 6 | F9: 7 | G9: 8 | H9: 9 | I9: 10 | J9: 11 | K9: 12 | L9: 13 | M9: 14 | N9: 15 | O9: 16 | P9: 17 | Q9: 18 | R9: 19 | S9: 20 | T9: 21 | U9: 22 | V9: 23
A10: A | B10: CHƯƠNG TRÌNH MTQG PHÁT TRIỂN KT-XH VÙNG ĐỒNG BÀO DTTS&MN | C10: =SUM(D10:E10) -> #REF! | D10: =D11+D12+D13+D15+D17+D18 -> #REF! | E10: =E11+E12+E13+E15+E17+E18 -> #REF! | F10: =F11+F12+F13+F15+F17+F18+0.3 -> #REF! | G10: =G11+G12+G13+G15+G17+G18 -> #REF! | H10: =+K10+N10+O10 -> #REF! | I10: =I11+I12+I13+I15+I17+I18 -> #REF! | J10: =J11+J12+J13+J15+J17+J18 -> #REF! | K10: =K11+K12+K13+K15+K17+K18 -> #REF! | L10: =L11+L12+L13+L15+L17+L18 -> #REF! | M10: =M11+M12+M13+M15+M17+M18 -> #REF! | N10: =N11+N12+N13+N15+N17+N18 -> #REF! | O10: =O11+O12+O13+O15+O17+O18 -> #REF! | P10: =P11+P12+P13+P15+P17 -> #REF! | Q10: =Q11+Q12+Q13+Q15+Q17 -> #REF! | R10: =R11+R12+R13+R15+R17 -> #REF! | S10: =C10-F10+P10 -> #REF! | T10: =D10-G10+Q10 -> #REF! | U10: =E10-H10+R10 -> #REF!
A11: I | B11: Dự án 1: Giải quyết tình trạng thiếu đất ở, nhà ở, đất sản xuất, nước sinh hoạt | C11: =SUM(D11:E11) -> 12715.404 | D11: 11515.889 | E11: 1199.515 | F11: =SUM(G11:H11) -> #REF! | G11: =#REF! -> #REF! | H11: =#REF! -> #REF! | I11: =J11+K11 -> #REF! | J11: =#REF! -> #REF! | K11: =#REF! -> #REF! | L11: =#REF! -> #REF! | M11: =#REF! -> #REF! | N11: =#REF! -> #REF! | O11: =#REF! -> #REF! | P11: =#REF! -> #REF! | Q11: =#REF! -> #REF! | ... U11: =#REF! -> #REF!
A12: II | B12: Dự án 2: Quy hoạch, sắp xếp, bố trí, ổn định dân cư ở những nơi cần thiết | C12: =SUM(D12:E12) -> 54367.777 | D12: 54197.777 | E12: 170 | F12: =SUM(G12:H12) -> #REF! | G12: =#REF! -> #REF! | H12: =#REF! -> #REF! | I12: =#REF! -> #REF! | J12: =#REF! -> #REF! | K12: =#REF! -> #REF! | L12: =#REF! -> #REF! | M12: =#REF! -> #REF! | N12: =#REF! -> #REF! | O12: =#REF! -> #REF! | P12: =SUM(Q12:R12) -> #REF! | Q12: =#REF! -> #REF! | R12: =#REF! -> #REF! | S12: =SUM(T12:U12) -> #REF! | T12: =#REF! -> #REF! | U12: =#REF! -> #REF!
A13: III | B13: Dự án 4: Đầu tư cơ sở hạ tầng thiết yếu, phục vụ sản xuất, đời sống trong vùng đồng bào dân tộc thiểu số và miền núi và các đơn vị sự nghiệp công lập của lĩnh vực dân tộc | C13: =SUM(D13:E13) -> #REF! | D13: =D14 -> #REF! | E13: =E14 -> #REF! | F13: =SUM(G13:H13) -> #REF! | G13: =G14 -> #REF! | H13: =#REF! -> #REF! | I13: =#REF! -> #REF! | J13: =#REF! -> #REF! | K13: =#REF! -> #REF! | L13: =#REF! -> #REF! | M13: =#REF! -> #REF! | N13: =#REF! -> #REF! | O13: =#REF! -> #REF! | P13: =SUM(Q13:R13) -> #REF! | Q13: =#REF! -> #REF! | R13: =#REF! -> #REF! | S13: =SUM(T13:U13) -> #REF! | T13: =#REF! -> #REF! | U13: =#REF! -> #REF!
A14: 1 | B14: Tiểu dự án 1: Đầu tư cơ sở hạ tầng thiết yếu, phục vụ sản xuất, đời sống trong vùng đồng bào dân tộc thiểu số và miền núi | C14: =SUM(D14:E14) -> #REF! | D14: =#REF! -> #REF! | E14: =#REF! -> #REF! | F14: =SUM(G14:H14) -> #REF! | G14: =#REF! -> #REF! | H14: =#REF! -> #REF! | I14: =#REF! -> #REF! | J14: =#REF! -> #REF! | K14: =#REF! -> #REF! | L14: =#REF! -> #REF! | M14: =#REF! -> #REF! | N14: 0 | O14: =#REF! -> #REF! | P14: =SUM(Q14:R14) -> #REF! | Q14: =#REF! -> #REF! | R14: =#REF! -> #REF! | S14: =SUM(T14:U14) -> #REF! | T14: =#REF! -> #REF! | U14: =#REF! -> #REF!
A15: IV | B15: Dự án 5: Phát triển giáo dục đào tạo nâng cao chất lượng nguồn nhân lực | C15: =SUM(D15:E15) -> 23405.025 | D15: 21429.188 | E15: 1975.837 | F15: =SUM(G15:H15) -> #REF! | G15: =#REF! -> #REF! | H15: =#REF! -> #REF! | I15: =#REF! -> #REF! | J15: =#REF! -> #REF! | K15: =#REF! -> #REF! | L15: =#REF! -> #REF! | M15: =#REF! -> #REF! | N15: =#REF! -> #REF! | O15: 164 | P15: =SUM(Q15:R15) -> #REF! | Q15: =#REF! -> #REF! | R15: =#REF! -> #REF! | S15: =SUM(T15:U15) -> #REF! | T15: =#REF! -> #REF! | U15: =#REF! -> #REF!
A16: 1 | B16: Tiểu dự án 1: Đổi mới hoạt động, củng cố phát triển các trường phổ thông dân tộc nội trú, trường phổ thông dân tộc bán trú, trường phổ thông có học sinh ở bán trú và xóa mù chữ cho người dân vùng đồng bào dân tộc thiểu số | C16: =SUM(D16:E16) -> 23405.025 | D16: 21429.188 | E16: 1975.837 | F16: =SUM(G16:H16) -> #REF! | G16: =#REF! -> #REF! | H16: =#REF! -> #REF! | I16: =#REF! -> #REF! | J16: =#REF! -> #REF! | K16: =#REF! -> #REF! | L16: =#REF! -> #REF! | M16: =#REF! -> #REF! | N16: 0 | O16: =#REF! -> #REF! | P16: =SUM(Q16:R16) -> #REF! | Q16: =#REF! -> #REF! | R16: =#REF! -> #REF! | S16: =SUM(T16:U16) -> #REF! | T16: =#REF! -> #REF! | U16: =#REF! -> #REF!
A17: V | B17: Dự án 6: Bảo tồn, phát huy giá trị văn hóa truyền thống tốt đẹp của các dân tộc thiểu số gắn với phát triển du lịch | C17: =SUM(D17:E17) -> 12199.551 | D17: 11684.805 | E17: 514.7463 | F17: =SUM(G17:H17) -> 1495 | G17: =G24 -> 1495 | H17: =H24 -> 0 | I17: =I24 -> 1495 | J17: =J24 -> 1495 | K17: =K24 -> 0 | L17: =L24 -> 0 | M17: =M24 -> 0 | N17: =N24 -> 0 | P17: =SUM(Q17:R17) -> 0 | Q17: =Q24 -> 0 | R17: =R24 -> 0 | S17: =SUM(T17:U17) -> 6712 | T17: =T24 -> 6190 | U17: =U24 -> 522
A18: VII | B18: Dự án 10: Truyền thông, tuyên truyền, vận động trong vùng đồng bào dân tộc thiểu số và miền núi. Kiểm tra, giám sát đánh giá việc tổ chức thực hiện Chương trình | C18: =SUM(D18:E18) -> 2751.5635 | D18: 2561.6983 | E18: 189.8652 | F18: =SUM(G18:H18) -> 3.508358 | G18: =G34 -> 1.643153 | H18: =H34 -> 1.865205 | I18: =I34 -> 1.643153 | J18: =J34 -> 1.643153 | K18: =K34 -> 0 | L18: =L34 -> 1.865205 | M18: =M34 -> 0 | N18: =N34 -> 1.865205 | P18: =P19 -> 0 | Q18: =Q19 -> 0 | R18: =R19 -> 0 | S18: =S19 -> 0 | T18: =T19 -> 0 | U18: =U19 -> 0 | V18: =V19 -> #REF!
B19: Tiểu dự án 2: Ứng dụng công nghệ thông tin hỗ trợ phát triển kinh tế - xã hội và đảm bảo an ninh trật tự vùng đồng bào dân tộc thiểu số và miền núi | C19: =SUM(D19:E19) -> 2751.5635 | D19: 2561.6983 | E19: 189.8652 | F19: =SUM(G19:H19) -> 3.508358 | G19: =G35 -> 1.643153 | H19: =H35 -> 1.865205 | I19: =I35 -> 3.643153 | J19: =J35 -> 1.643153 | K19: =K35 -> 0 | L19: =L35 -> 1.865205 | M19: =M35 -> 0 | N19: =N35 -> 1.865205 | P19: 0 | Q19: 0 | R19: 0 | S19: 0 | T19: 0 | U19: 0 | V19: =#REF! -> #REF!
B20: TỔNG CỘNG | C20: =C21+C42 -> 37107.443 | D20: =D21+D42 -> 36582.647 | E20: =E21+E42 -> 524.7962 | F20: =F21+F42 -> 1835.4434 | G20: =G21+G42 -> 1831.6432 | H20: =H21+H42 -> 1.865205 | I20: =I21+I42 -> 1772.6432 | J20: =J21+J42 -> 1772.6432 | ... U20: =U21+U42 -> 522.931
A21: A | B21: CHƯƠNG TRÌNH MTQG PHÁT TRIỂN KT-XH VÙNG ĐỒNG BÀO DTTS&MN | C21: =C24+C34+C31 -> 36831.443 | D21: =D24+D34+D31 -> 36306.647 | E21: =E24+E34+E31 -> 524.7962 | F21: =F24+F34+F31 -> 1559.4434 | G21: =G24+G34+G31 -> 1555.6432 | H21: =H24+H34+H31 -> 1.865205 | I21: =I24+I34+I31 -> 1496.6432 | J21: =J24+J34+J31 -> 1496.6432 | ... U21: =U24+U34+U31 -> 522.931
A22: 2 | B22: Khối xã: | C22: =SUM(D22:E22) -> 0 | I22: =J22+K22 -> 0 | L22: =M22+N22 -> 0 | M22: =G22-J22 -> 0 | N22: =H22-K22 -> 0 | T22: =D22-G22+Q22 -> 0 | U22: =E22-H22+R22 -> 0
C23: =SUM(D23:E23) -> 0 | I23: =J23+K23 -> 0 | L23: =M23+N23 -> 0 | M23: =G23-J23 -> 0 | N23: =H23-K23 -> 0 | T23: =D23-G23+Q23 -> 0 | U23: =E23-H23+R23 -> 0
A24: I | B24: Dự án 6: Bảo tồn, phát huy giá trị văn hóa truyền thống tốt đẹp của các dân tộc thiểu số gắn với phát triển du lịch | C24: =C26 -> 8207 | D24: =D26 -> 7685 | E24: =E26 -> 522 | F24: =F26 -> 1495 | G24: =G26 -> 1495 | H24: =H26 -> 0 | I24: =I26 -> 1495 | J24: =J26 -> 1495 | ... U24: =U26 -> 522
B25: Trong đó: | I25: =J25+K25 -> 0 | L25: =M25+N25 -> 0 | M25: =G25-J25 -> 0 | N25: =H25-K25 -> 0 | O25: 0
A26: 1 | B26: Sở Văn hóa, Thể thao và Du lịch | C26: =SUM(D26:E26) -> 8207 | D26: =SUM(D27:D30) -> 7685 | E26: =SUM(E27:E30) -> 522 | F26: =SUM(G26:H26) -> 1495 | G26: 1495 | I26: =J26+K26 -> 1495 | J26: =SUM(J27:J30) -> 1495 | K26: 0 | L26: =M26+N26 -> 0 | M26: =G26-J26 -> 0 | N26: =H26-K26 -> 0 | O26: 0 | P26: 0 | Q26: 0 | R26: 0 | S26: =T26+U26 -> 6712 | T26: =D26-G26+Q26 -> 6190 | U26: =E26-H26+R26 -> 522
A27: 1.1 | B27: Đầu tư bảo tồn làng văn hóa truyền thống - Làng đá Thạch Khuyên, xã Xuất Lễ, huyện Cao Lộc (nay là xã Ba Sơn, tỉnh Lạng Sơn) | C27: =SUM(D27:E27) -> 1850 | D27: 1701 | E27: 149 | F27: 50.723055 | G27: 50.723055 | H27: 0 | I27: =J27+K27 -> 51 | J27: 51 | K27: 0 | L27: =M27+N27 -> 0 | M27: 0 | N27: =H27-K27 -> 0 | O27: 0 | P27: 0 | Q27: 0 | R27: 0 | S27: =T27+U27 -> 1799 | T27: 1650 | U27: =E27-H27+R27 -> 149
A28: 1.2 | B28: Bảo tồn, phát huy giá trị văn hóa truyền thống Làng VH du lịch cộng đồng Quỳnh Sơn, xã Bắc Quỳnh (nay là xã Bắc Sơn), tỉnh Lạng Sơn | C28: =SUM(D28:E28) -> 3080 | D28: 3049 | E28: 31 | F28: 1311.0472 | G28: 1311.0472 | H28: 0 | I28: =J28+K28 -> 1311 | J28: 1311 | K28: 0 | L28: =M28+N28 -> 0 | M28: 0 | N28: =H28-K28 -> 0 | O28: 0 | P28: 0 | Q28: 0 | R28: 0 | S28: =T28+U28 -> 1769 | T28: 1738 | U28: =E28-H28+R28 -> 31
A29: 1.3 | B29: Dự án bảo tồn làng VH truyền thống - Thôn Lân Châu, xã Hữu Liên, huyện Hữu Lũng (nay là xã Hưu Liên), tỉnh Lạng Sơn | C29: =SUM(D29:E29) -> 2617 | D29: 2468 | E29: 149 | F29: 129.94738 | G29: 129.94738 | H29: 0 | I29: =J29+K29 -> 130 | J29: 130 | K29: 0 | L29: =M29+N29 -> 0 | M29: 0 | N29: =H29-K29 -> 0 | O29: 0 | P29: 0 | Q29: 0 | R29: 0 | S29: =T29+U29 -> 2487 | T29: 2338 | U29: =E29-H29+R29 -> 149
A30: 1.4 | B30: Tôn tạo khu di tích khởi nghĩa Bắc Sơn, HM: xây nhà bia ghi dấu sự kiện và các HM phụ trợ tại 08 điểm thuộc khu di tích | C30: =SUM(D30:E30) -> 660 | D30: 467 | E30: 193 | F30: 2.676433 | G30: 2.676433 | H30: 0 | I30: =J30+K30 -> 3 | J30: 3 | K30: 0 | L30: =M30+N30 -> 0 | M30: 0 | N30: =H30-K30 -> 0 | O30: 0 | P30: 0 | Q30: 0 | R30: 0 | S30: =T30+U30 -> 657 | T30: 464 | U30: =E30-H30+R30 -> 193
A31: II | B31: Dự án 7.Chăm sóc sức khỏe Nhân dân, nâng cao thể trạng, tầm vóc người DTTS; phòng chống suy dinh dưỡng trẻ em | C31: =C32 -> 28619 | D31: =D32 -> 28619 | E31: =E32 -> 0 | F31: =F32 -> 59 | G31: =G32 -> 59 | H31: =H32 -> 0 | I31: =I32 -> 0 | J31: =J32 -> 0 | ... R31: =R32 -> 0 | S31: =T31+U31 -> 28560 | T31: =D31-G31+Q31 -> 28560 | U31: =E31-H31+R31 -> 0
A32: 1 | B32: Sở Y tế | C32: =C33 -> 28619 | D32: =D33 -> 28619 | E32: =E33 -> 0 | F32: =F33 -> 59 | G32: =G33 -> 59 | H32: =H33 -> 0 | I32: =I33 -> 0 | J32: =J33 -> 0 | ... R32: =R33 -> 0 | S32: =C32-F32+P32 -> 28560 | T32: =D32-G32+Q32 -> 28560 | U32: =E32-H32+R32 -> 0
A33: 1.1 | B33: Cải tạo, sửa chữa Trung tâm Y tế huyện Bình Gia | C33: =D33+E33 -> 28619 | D33: 28619 | E33: 0 | F33: =G33+H33 -> 59 | G33: 59 | H33: 0 | I33: 0 | J33: 0 | K33: 0 | L33: =M33+N33 -> 59 | M33: 59 | N33: 0 | P33: 0 | Q33: 0 | R33: 0 | S33: =C33-F33+P33 -> 28560 | T33: =D33-G33+Q33 -> 28560 | U33: =E33-H33+R33 -> 0
A34: III | B34: Dự án 10: Truyền thông, tuyên truyền, vận động trong vùng đồng bào dân tộc thiểu số và miền núi. Kiểm tra, giám sát đánh giá việc tổ chức thực hiện Chương trình | C34: =SUM(D34:E34) -> 5.443358 | D34: =D35 -> 2.647153 | E34: =E35 -> 2.796205 | F34: =F35 -> 5.443358 | G34: =G35 -> 1.643153 | H34: =H35 -> 1.865205 | I34: =J34+K34 -> 1.643153 | J34: =J35 -> 1.643153 | K34: =K35 -> 0 | L34: =M34+N34 -> 1.865205 | M34: =G34-J34 -> 0 | N34: =H34-K34 -> 1.865205 | P34: =P35 -> 0 | Q34: =Q35 -> 0 | R34: =R35 -> 0 | S34: =T34+U34 -> 1.935 | T34: =D34-G34+Q34 -> 1.004 | U34: =E34-H34+R34 -> 0.931
B35: Tiểu dự án 2: Ứng dụng công nghệ thông tin hỗ trợ phát triển kinh tế - xã hội và đảm bảo an ninh trật tự vùng đồng bào dân tộc thiểu số và miền núi | C35: =SUM(D35:E35) -> 5.443358 | D35: =D36 -> 2.647153 | E35: =E36 -> 2.796205 | F35: =F36 -> 5.443358 | G35: =G36 -> 1.643153 | H35: =H36 -> 1.865205 | I35: =I36 -> 3.643153 | J35: =J36 -> 1.643153 | L35: =M35+N35 -> 1.865205 | M35: =G35-J35 -> 0 | N35: =H35-K35 -> 1.865205 | P35: =P36 -> 0 | Q35: =Q36 -> 0 | R35: =R36 -> 0 | S35: =T35+U35 -> 1.935 | T35: =D35-G35+Q35 -> 1.004 | U35: =E35-H35+R35 -> 0.931
B36: Khối tỉnh: | C36: =SUM(C37:C40) -> 5.443358 | D36: =SUM(D37:D40) -> 2.647153 | E36: =SUM(E37:E40) -> 2.796205 | F36: =SUM(F37:F40) -> 5.443358 | G36: =G37+G40 -> 1.643153 | H36: =H37+H40 -> 1.865205 | I36: =I37+I40 -> 3.643153 | J36: =J37+J40 -> 1.643153 | K36: =K37+K40 -> 2 | L36: =L37+L40 -> 0 | M36: =M37+M40 -> 0 | N36: =N37+N40 -> 0 | P36: 0 | Q36: 0 | R36: 0 | S36: 0 | T36: 0 | U36: 0
A37: 1 | B37: Sở Khoa học và Công nghệ | C37: =SUM(D37:E37) -> 1.736731 | D37: 0.805526 | E37: 0.931205 | F37: =G37+H37 -> 1.736731 | G37: 0.805526 | H37: 0.931205 | I37: =J37+K37 -> 1.805526 | J37: =G37 -> 0.805526 | K37: 1 | L37: =M37+N37 -> 0 | M37: =G37-J37 -> 0 | N37: 0 | P37: =Q37+R37 -> 0 | Q37: 0 | R37: 0 | S37: 0 | T37: 0 | U37: 0
A38: 1.1 | B38: Dự án hỗ trợ thiết lập các điểm hỗ trợ đồng bào DTTS ứng dụng công nghệ thông tin tại Uỷ ban nhân dân xã để phục vụ phát triển kinh tế - xã hội và đảm bảo an ninh trật tự | C38: =SUM(D38:E38) -> 0.339 | D38: 0.22 | E38: 0.119 | F38: =SUM(G38:H38) -> 0.339 | G38: 0.22 | H38: 0.119 | I38: =SUM(J38:K38) -> 0.339 | J38: 0.22 | K38: 0.119 | L38: 0 | M38: 0 | N38: 0 | O38: 0 | P38: 0 | Q38: 0 | R38: 0 | S38: 0 | T38: 0 | U38: 0
A39: 1.2 | B39: Dự án đầu tư xây dựng mới phòng họp trực tuyến Ban Dân tộc | C39: =SUM(D39:E39) -> 1.596 | D39: 0.784 | E39: 0.812 | F39: =SUM(G39:H39) -> 1.596 | G39: 0.784 | H39: 0.812 | I39: =SUM(J39:K39) -> 1.596 | J39: 0.784 | K39: 0.812 | L39: 0 | M39: 0 | N39: 0 | O39: 0 | P39: 0 | Q39: 0 | R39: 0 | S39: 0 | T39: 0 | U39: 0
A40: 2 | B40: Sở Dân tộc và Tôn giáo | C40: =SUM(D40:E40) -> 1.771627 | D40: 0.837627 | E40: 0.934 | F40: =G40+H40 -> 1.771627 | G40: 0.837627 | H40: 0.934 | I40: =J40+K40 -> 1.837627 | J40: =G40 -> 0.837627 | K40: 1 | L40: =M40+N40 -> 0 | M40: =G40-J40 -> 0 | N40: 0 | P40: 0 | Q40: 0 | R40: 0 | S40: 0 | T40: 0 | U40: 0
A41: 2.1 | B41: Dự án chuyển đổi số trong tổ chức triển khai thực hiện Chương trình mục tiêu quốc gia phát triển kinh tế - xã hội vùng đồng bào dân tộc thiểu số và miền núi | C41: =SUM(D41:E41) -> 1.772 | D41: 0.838 | E41: 0.934 | F41: =SUM(G41:H41) -> 1.772 | G41: 0.838 | H41: 0.934 | I41: =SUM(J41:K41) -> 1.772 | J41: 0.838 | K41: 0.934 | L41: 0 | N41: 0 | O41: 0 | P41: 0 | Q41: 0 | R41: 0 | S41: 0 | T41: 0 | U41: 0
...

Sheet Bổ sung vốn ĐTC
